Back to Multiple platform build/check report for BioC 3.14
ABCDEFGHIJKLMNOPQ[R]STUVWXYZ

This page was generated on 2021-09-25 12:05:44 -0400 (Sat, 25 Sep 2021).

BUILD BIN results for regionReport on riesling1

To the developers/maintainers of the regionReport package:
- Please allow up to 24 hours (and sometimes 48 hours) for your latest push to git@git.bioconductor.org:packages/regionReport.git to
reflect on this report. See How and When does the builder pull? When will my changes propagate? here for more information.
- Make sure to use the following settings in order to reproduce any error or warning you see on this page.

raw results

Package 1538/2034HostnameOS / ArchINSTALLBUILDCHECKBUILD BIN
regionReport 1.27.1  (landing page)
Leonardo Collado-Torres
Snapshot Date: 2021-09-24 14:50:08 -0400 (Fri, 24 Sep 2021)
git_url: https://git.bioconductor.org/packages/regionReport
git_branch: master
git_last_commit: fbc4c4c
git_last_commit_date: 2021-08-09 20:17:26 -0400 (Mon, 09 Aug 2021)
nebbiolo2Linux (Ubuntu 20.04.2 LTS) / x86_64  OK    OK    OK  UNNEEDED, same version is already published
riesling1Windows Server 2019 Standard / x64  OK    OK    OK    OK  UNNEEDED, same version is already published
merida1macOS 10.14.6 Mojave / x86_64  OK    OK    OK    OK  UNNEEDED, same version is already published

Summary

Package: regionReport
Version: 1.27.1
Command: rm -rf regionReport.buildbin-libdir && mkdir regionReport.buildbin-libdir && D:\biocbuild\bbs-3.14-bioc\R\bin\R.exe CMD INSTALL --merge-multiarch --build --library=regionReport.buildbin-libdir regionReport_1.27.1.tar.gz
StartedAt: 2021-09-25 07:32:36 -0400 (Sat, 25 Sep 2021)
EndedAt: 2021-09-25 07:37:14 -0400 (Sat, 25 Sep 2021)
EllapsedTime: 278.0 seconds
RetCode: 0
Status:   OK  
PackageFile: regionReport_1.27.1.zip
PackageFileSize: 688.8 KiB

Command output

##############################################################################
##############################################################################
###
### Running command:
###
###   rm -rf regionReport.buildbin-libdir && mkdir regionReport.buildbin-libdir && D:\biocbuild\bbs-3.14-bioc\R\bin\R.exe CMD INSTALL --merge-multiarch --build --library=regionReport.buildbin-libdir regionReport_1.27.1.tar.gz
###
##############################################################################
##############################################################################



install for i386

* installing *source* package 'regionReport' ...
** using staged installation
** R
** inst
** byte-compile and prepare package for lazy loading
** help
*** installing help indices
  converting help for package 'regionReport'
    finding HTML links ... done
    DESeq2Report                            html  
    derfinderReport                         html  
    edgeReport                              html  
    regionReport-package                    html  
    renderReport                            html  
** building package indices
** installing vignettes
** testing if installed package can be loaded from temporary location
** testing if installed package can be loaded from final location
** testing if installed package keeps a record of temporary installation path

install for x64

* installing *source* package 'regionReport' ...
** testing if installed package can be loaded
* MD5 sums
packaged installation of 'regionReport' as regionReport_1.27.1.zip
* DONE (regionReport)