Back to Multiple platform build/check report for BioC 3.14
ABCDEFGHIJKLMNOPQ[R]STUVWXYZ

This page was generated on 2021-09-18 12:05:51 -0400 (Sat, 18 Sep 2021).

BUILD results for regionReport on nebbiolo2

To the developers/maintainers of the regionReport package:
- Please allow up to 24 hours (and sometimes 48 hours) for your latest push to git@git.bioconductor.org:packages/regionReport.git to
reflect on this report. See How and When does the builder pull? When will my changes propagate? here for more information.
- Make sure to use the following settings in order to reproduce any error or warning you see on this page.

raw results

Package 1536/2029HostnameOS / ArchINSTALLBUILDCHECKBUILD BIN
regionReport 1.27.1  (landing page)
Leonardo Collado-Torres
Snapshot Date: 2021-09-17 14:50:09 -0400 (Fri, 17 Sep 2021)
git_url: https://git.bioconductor.org/packages/regionReport
git_branch: master
git_last_commit: fbc4c4c
git_last_commit_date: 2021-08-09 20:17:26 -0400 (Mon, 09 Aug 2021)
nebbiolo2Linux (Ubuntu 20.04.2 LTS) / x86_64  OK    OK    OK  UNNEEDED, same version is already published
riesling1Windows Server 2019 Standard / x64  OK    OK    OK    OK  UNNEEDED, same version is already published
merida1macOS 10.14.6 Mojave / x86_64  OK    OK    OK    OK  UNNEEDED, same version is already published

Summary

Package: regionReport
Version: 1.27.1
Command: /home/biocbuild/bbs-3.14-bioc/R/bin/R CMD build --keep-empty-dirs --no-resave-data regionReport
StartedAt: 2021-09-17 18:10:10 -0400 (Fri, 17 Sep 2021)
EndedAt: 2021-09-17 18:11:17 -0400 (Fri, 17 Sep 2021)
EllapsedTime: 67.5 seconds
RetCode: 0
Status:   OK  
PackageFile: regionReport_1.27.1.tar.gz
PackageFileSize: 613.9 KiB

Command output

##############################################################################
##############################################################################
###
### Running command:
###
###   /home/biocbuild/bbs-3.14-bioc/R/bin/R CMD build --keep-empty-dirs --no-resave-data regionReport
###
##############################################################################
##############################################################################


* checking for file ‘regionReport/DESCRIPTION’ ... OK
* preparing ‘regionReport’:
* checking DESCRIPTION meta-information ... OK
* installing the package to build vignettes
* creating vignettes ... OK
* checking for LF line-endings in source and make files and shell scripts
* checking for empty or unneeded directories
Omitted ‘LazyData’ from DESCRIPTION
* building ‘regionReport_1.27.1.tar.gz’