Back to Multiple platform build/check report for BioC 3.14
ABCDEFGHIJKLMNOPQ[R]STUVWXYZ

This page was generated on 2021-11-24 15:06:17 -0500 (Wed, 24 Nov 2021).

BUILD BIN results for recount3 on machv2

To the developers/maintainers of the recount3 package:
- Please allow up to 24 hours (and sometimes 48 hours) for your latest push to git@git.bioconductor.org:packages/recount3.git to
reflect on this report. See How and When does the builder pull? When will my changes propagate? here for more information.
- Make sure to use the following settings in order to reproduce any error or warning you see on this page.

raw results

Package 1566/2083HostnameOS / ArchINSTALLBUILDCHECKBUILD BIN
recount3 1.4.0  (landing page)
Leonardo Collado-Torres
Snapshot Date: 2021-11-23 04:15:06 -0500 (Tue, 23 Nov 2021)
git_url: https://git.bioconductor.org/packages/recount3
git_branch: RELEASE_3_14
git_last_commit: e4612a2
git_last_commit_date: 2021-10-26 13:03:44 -0500 (Tue, 26 Oct 2021)
nebbiolo2Linux (Ubuntu 20.04.3 LTS) / x86_64  OK    OK    OK  UNNEEDED, same version is already published
tokay2Windows Server 2012 R2 Standard / x64  OK    OK    OK    OK  UNNEEDED, same version is already published
machv2macOS 10.14.6 Mojave / x86_64  OK    OK    OK    OK  UNNEEDED, same version is already published

Summary

Package: recount3
Version: 1.4.0
Command: rm -rf recount3.buildbin-libdir && mkdir recount3.buildbin-libdir && /Users/biocbuild/BBS/utils/build-universal.sh recount3_1.4.0.tar.gz /Library/Frameworks/R.framework/Resources/bin/R recount3.buildbin-libdir
StartedAt: 2021-11-24 01:42:27 -0500 (Wed, 24 Nov 2021)
EndedAt: 2021-11-24 01:43:28 -0500 (Wed, 24 Nov 2021)
EllapsedTime: 61.7 seconds
RetCode: 0
Status:   OK  
PackageFile: recount3_1.4.0.tgz
PackageFileSize: 609.2 KiB

Command output

##############################################################################
##############################################################################
###
### Running command:
###
###   rm -rf recount3.buildbin-libdir && mkdir recount3.buildbin-libdir && /Users/biocbuild/BBS/utils/build-universal.sh recount3_1.4.0.tar.gz /Library/Frameworks/R.framework/Resources/bin/R recount3.buildbin-libdir
###
##############################################################################
##############################################################################


>>>>>>> 
>>>>>>> INSTALLATION WITH 'R CMD INSTALL --preclean --no-multiarch --library=recount3.buildbin-libdir recount3_1.4.0.tar.gz'
>>>>>>> 

* installing *source* package ‘recount3’ ...
** using staged installation
** R
** inst
** byte-compile and prepare package for lazy loading
** help
*** installing help indices
*** copying figures
** building package indices
** installing vignettes
** testing if installed package can be loaded from temporary location
** testing if installed package can be loaded from final location
** testing if installed package keeps a record of temporary installation path
* DONE (recount3)