Back to Multiple platform build/check report for BioC 3.14
ABCDEFGHIJKLMNOPQ[R]STUVWXYZ

This page was generated on 2021-12-03 13:04:32 -0500 (Fri, 03 Dec 2021).

All results for package recount

To the developers/maintainers of the recount package:
- Please allow up to 24 hours (and sometimes 48 hours) for your latest push to git@git.bioconductor.org:packages/recount.git to
reflect on this report. See How and When does the builder pull? When will my changes propagate? here for more information.
- Make sure to use the following settings in order to reproduce any error or warning you see on this page.

raw results

Package 1565/2083HostnameOS / ArchINSTALLBUILDCHECKBUILD BIN
recount 1.20.0  (landing page)
Leonardo Collado-Torres
Snapshot Date: 2021-12-02 01:55:06 -0500 (Thu, 02 Dec 2021)
git_url: https://git.bioconductor.org/packages/recount
git_branch: RELEASE_3_14
git_last_commit: 4ea2090
git_last_commit_date: 2021-11-22 17:30:01 -0500 (Mon, 22 Nov 2021)
nebbiolo2Linux (Ubuntu 20.04.3 LTS) / x86_64  OK    OK    OK  UNNEEDED, same version is already published
tokay2Windows Server 2012 R2 Standard / x64  OK    OK    OK    OK  UNNEEDED, same version is already published
machv2macOS 10.14.6 Mojave / x86_64  OK    OK    OK    OK  UNNEEDED, same version is already published

Results for Bioconductor software packages that depend directly on package recount

QUICK STATSOS / ArchINSTALLBUILDCHECKBUILD BIN
nebbiolo2Linux (Ubuntu 20.04.3 LTS) / x86_64
002
002
0002
tokay2Windows Server 2012 R2 Standard / x64
002
002
0002
002
machv2macOS 10.14.6 Mojave / x86_64
002
002
0002
002
Package 1/2HostnameOS / ArchINSTALLBUILDCHECKBUILD BIN
psichomics 1.20.0  (landing page)
Nuno Saraiva-Agostinho
git_last_commit: 84bcdbf
git_last_commit_date: 2021-10-26 12:30:49 -0500
nebbiolo2Linux (Ubuntu 20.04.3 LTS) / x86_64  OK    OK    OK  UNNEEDED, same version is already published
tokay2Windows Server 2012 R2 Standard / x64  OK    OK    OK    OK  UNNEEDED, same version is already published
machv2macOS 10.14.6 Mojave / x86_64  OK    OK    OK    OK  UNNEEDED, same version is already published
Package 2/2HostnameOS / ArchINSTALLBUILDCHECKBUILD BIN
RNAAgeCalc 1.6.0  (landing page)
Xu Ren
git_last_commit: ee56a68
git_last_commit_date: 2021-10-26 12:57:56 -0500
nebbiolo2Linux (Ubuntu 20.04.3 LTS) / x86_64  OK    OK    OK  UNNEEDED, same version is already published
tokay2Windows Server 2012 R2 Standard / x64  OK    OK    OK    OK  UNNEEDED, same version is already published
machv2macOS 10.14.6 Mojave / x86_64  OK    OK    OK    OK  UNNEEDED, same version is already published