Index of /checkResults/3.14/bioc-LATEST/qsea/raw-results/tokay2

[ICO]NameLast modifiedSizeDescription

[DIR]Parent Directory  -  
[   ]install-summary.dcf14-Apr-2022 01:07 613  
[TXT]install-out.txt14-Apr-2022 01:07 4.2K 
[   ]checksrc-summary.dcf14-Apr-2022 01:07 450  
[TXT]checksrc-out.txt14-Apr-2022 01:07 5.0K 
[   ]buildsrc-summary.dcf14-Apr-2022 01:07 446  
[TXT]buildsrc-out.txt14-Apr-2022 01:07 922  
[   ]buildbin-summary.dcf14-Apr-2022 01:07 521  
[TXT]buildbin-out.txt14-Apr-2022 01:07 3.6K