Back to Multiple platform build/check report for BioC 3.14
ABCDEFGHIJKLMNO[P]QRSTUVWXYZ

This page was generated on 2021-11-29 15:06:07 -0500 (Mon, 29 Nov 2021).

BUILD results for psichomics on machv2

To the developers/maintainers of the psichomics package:
- Please allow up to 24 hours (and sometimes 48 hours) for your latest push to git@git.bioconductor.org:packages/psichomics.git to
reflect on this report. See How and When does the builder pull? When will my changes propagate? here for more information.
- Make sure to use the following settings in order to reproduce any error or warning you see on this page.

raw results

Package 1480/2083HostnameOS / ArchINSTALLBUILDCHECKBUILD BIN
psichomics 1.20.0  (landing page)
Nuno Saraiva-Agostinho
Snapshot Date: 2021-11-28 04:15:06 -0500 (Sun, 28 Nov 2021)
git_url: https://git.bioconductor.org/packages/psichomics
git_branch: RELEASE_3_14
git_last_commit: 84bcdbf
git_last_commit_date: 2021-10-26 12:30:49 -0500 (Tue, 26 Oct 2021)
nebbiolo2Linux (Ubuntu 20.04.3 LTS) / x86_64  OK    OK    OK  UNNEEDED, same version is already published
tokay2Windows Server 2012 R2 Standard / x64  OK    OK    OK    OK  UNNEEDED, same version is already published
machv2macOS 10.14.6 Mojave / x86_64  OK    OK    OK    OK  UNNEEDED, same version is already published

Summary

Package: psichomics
Version: 1.20.0
Command: /Library/Frameworks/R.framework/Resources/bin/R CMD build --keep-empty-dirs --no-resave-data psichomics
StartedAt: 2021-11-28 11:16:54 -0500 (Sun, 28 Nov 2021)
EndedAt: 2021-11-28 11:19:35 -0500 (Sun, 28 Nov 2021)
EllapsedTime: 160.7 seconds
RetCode: 0
Status:   OK  
PackageFile: psichomics_1.20.0.tar.gz
PackageFileSize: 6.046 MiB

Command output

##############################################################################
##############################################################################
###
### Running command:
###
###   /Library/Frameworks/R.framework/Resources/bin/R CMD build --keep-empty-dirs --no-resave-data psichomics
###
##############################################################################
##############################################################################


* checking for file ‘psichomics/DESCRIPTION’ ... OK
* preparing ‘psichomics’:
* checking DESCRIPTION meta-information ... OK
* cleaning src
* installing the package to build vignettes
* creating vignettes ... OK
* cleaning src
* checking for LF line-endings in source and make files and shell scripts
* checking for empty or unneeded directories
Omitted ‘LazyData’ from DESCRIPTION
* building ‘psichomics_1.20.0.tar.gz’