Back to Multiple platform build/check report for BioC 3.14
ABCDEFGHIJKLMNO[P]QRSTUVWXYZ

This page was generated on 2021-11-29 15:06:07 -0500 (Mon, 29 Nov 2021).

BUILD BIN results for psichomics on machv2

To the developers/maintainers of the psichomics package:
- Please allow up to 24 hours (and sometimes 48 hours) for your latest push to git@git.bioconductor.org:packages/psichomics.git to
reflect on this report. See How and When does the builder pull? When will my changes propagate? here for more information.
- Make sure to use the following settings in order to reproduce any error or warning you see on this page.

raw results

Package 1480/2083HostnameOS / ArchINSTALLBUILDCHECKBUILD BIN
psichomics 1.20.0  (landing page)
Nuno Saraiva-Agostinho
Snapshot Date: 2021-11-28 04:15:06 -0500 (Sun, 28 Nov 2021)
git_url: https://git.bioconductor.org/packages/psichomics
git_branch: RELEASE_3_14
git_last_commit: 84bcdbf
git_last_commit_date: 2021-10-26 12:30:49 -0500 (Tue, 26 Oct 2021)
nebbiolo2Linux (Ubuntu 20.04.3 LTS) / x86_64  OK    OK    OK  UNNEEDED, same version is already published
tokay2Windows Server 2012 R2 Standard / x64  OK    OK    OK    OK  UNNEEDED, same version is already published
machv2macOS 10.14.6 Mojave / x86_64  OK    OK    OK    OK  UNNEEDED, same version is already published

Summary

Package: psichomics
Version: 1.20.0
Command: rm -rf psichomics.buildbin-libdir && mkdir psichomics.buildbin-libdir && /Users/biocbuild/BBS/utils/build-universal.sh psichomics_1.20.0.tar.gz /Library/Frameworks/R.framework/Resources/bin/R psichomics.buildbin-libdir
StartedAt: 2021-11-29 01:08:03 -0500 (Mon, 29 Nov 2021)
EndedAt: 2021-11-29 01:10:24 -0500 (Mon, 29 Nov 2021)
EllapsedTime: 141.5 seconds
RetCode: 0
Status:   OK  
PackageFile: psichomics_1.20.0.tgz
PackageFileSize: 4.551 MiB

Command output

##############################################################################
##############################################################################
###
### Running command:
###
###   rm -rf psichomics.buildbin-libdir && mkdir psichomics.buildbin-libdir && /Users/biocbuild/BBS/utils/build-universal.sh psichomics_1.20.0.tar.gz /Library/Frameworks/R.framework/Resources/bin/R psichomics.buildbin-libdir
###
##############################################################################
##############################################################################


>>>>>>> 
>>>>>>> INSTALLATION WITH 'R CMD INSTALL --preclean --no-multiarch --library=psichomics.buildbin-libdir psichomics_1.20.0.tar.gz'
>>>>>>> 

* installing *source* package ‘psichomics’ ...
** using staged installation
** libs
clang++ -mmacosx-version-min=10.13 -std=gnu++14 -I"/Library/Frameworks/R.framework/Resources/include" -DNDEBUG  -I'/Library/Frameworks/R.framework/Versions/4.1/Resources/library/Rcpp/include' -I/usr/local/include   -fPIC  -Wall -g -O2  -c RcppExports.cpp -o RcppExports.o
clang++ -mmacosx-version-min=10.13 -std=gnu++14 -I"/Library/Frameworks/R.framework/Resources/include" -DNDEBUG  -I'/Library/Frameworks/R.framework/Versions/4.1/Resources/library/Rcpp/include' -I/usr/local/include   -fPIC  -Wall -g -O2  -c progressBar.cpp -o progressBar.o
clang++ -mmacosx-version-min=10.13 -std=gnu++14 -I"/Library/Frameworks/R.framework/Resources/include" -DNDEBUG  -I'/Library/Frameworks/R.framework/Versions/4.1/Resources/library/Rcpp/include' -I/usr/local/include   -fPIC  -Wall -g -O2  -c psiFastCalc.cpp -o psiFastCalc.o
clang++ -mmacosx-version-min=10.13 -std=gnu++14 -I"/Library/Frameworks/R.framework/Resources/include" -DNDEBUG  -I'/Library/Frameworks/R.framework/Versions/4.1/Resources/library/Rcpp/include' -I/usr/local/include   -fPIC  -Wall -g -O2  -c vastToolsParser.cpp -o vastToolsParser.o
clang++ -mmacosx-version-min=10.13 -std=gnu++14 -dynamiclib -Wl,-headerpad_max_install_names -undefined dynamic_lookup -single_module -multiply_defined suppress -L/Library/Frameworks/R.framework/Resources/lib -L/usr/local/lib -o psichomics.so RcppExports.o progressBar.o psiFastCalc.o vastToolsParser.o -F/Library/Frameworks/R.framework/.. -framework R -Wl,-framework -Wl,CoreFoundation
installing to /Users/biocbuild/bbs-3.14-bioc/meat/psichomics.buildbin-libdir/00LOCK-psichomics/00new/psichomics/libs
** R
** inst
** byte-compile and prepare package for lazy loading
Creating a generic function for ‘colSums’ from package ‘base’ in package ‘psichomics’
** help
*** installing help indices
*** copying figures
** building package indices
** installing vignettes
** testing if installed package can be loaded from temporary location
** checking absolute paths in shared objects and dynamic libraries
** testing if installed package can be loaded from final location
** testing if installed package keeps a record of temporary installation path
* DONE (psichomics)


>>>>>>> 
>>>>>>> FIXING LINKS FOR psichomics.buildbin-libdir/psichomics/libs/psichomics.so
>>>>>>> 

install_name_tool -change "/usr/local/lib/libgcc_s.1.dylib" "/Library/Frameworks/R.framework/Versions/4.1/Resources/lib/libgcc_s.1.dylib" "psichomics.buildbin-libdir/psichomics/libs/psichomics.so"
install_name_tool -change "/usr/local/lib/libgfortran.5.dylib" "/Library/Frameworks/R.framework/Versions/4.1/Resources/lib/libgfortran.5.dylib" "psichomics.buildbin-libdir/psichomics/libs/psichomics.so"
install_name_tool -change "/usr/local/lib/libquadmath.0.dylib" "/Library/Frameworks/R.framework/Versions/4.1/Resources/lib/libquadmath.0.dylib" "psichomics.buildbin-libdir/psichomics/libs/psichomics.so"