Back to Multiple platform build/check report for BioC 3.14
ABCDEFGHIJKLMNO[P]QRSTUVWXYZ

This page was generated on 2022-01-14 13:06:56 -0500 (Fri, 14 Jan 2022).

HostnameOSArch (*)R versionInstalled pkgs
nebbiolo2Linux (Ubuntu 20.04.4 LTS)x86_644.1.2 (2021-11-01) -- "Bird Hippie" 4327
tokay2Windows Server 2012 R2 Standardx644.1.2 (2021-11-01) -- "Bird Hippie" 4076
machv2macOS 10.14.6 Mojavex86_644.1.2 (2021-11-01) -- "Bird Hippie" 4137
Click on any hostname to see more info about the system (e.g. compilers)      (*) as reported by 'uname -p', except on Windows and Mac OS X

INSTALL results for profileplyr on tokay2


To the developers/maintainers of the profileplyr package:
- Please allow up to 24 hours (and sometimes 48 hours) for your latest push to git@git.bioconductor.org:packages/profileplyr.git to
reflect on this report. See How and When does the builder pull? When will my changes propagate? here for more information.
- Make sure to use the following settings in order to reproduce any error or warning you see on this page.

raw results

Package 1464/2083HostnameOS / ArchINSTALLBUILDCHECKBUILD BIN
profileplyr 1.10.2  (landing page)
Tom Carroll , Doug Barrows
Snapshot Date: 2022-01-13 01:55:04 -0500 (Thu, 13 Jan 2022)
git_url: https://git.bioconductor.org/packages/profileplyr
git_branch: RELEASE_3_14
git_last_commit: b86cda4
git_last_commit_date: 2021-12-27 10:20:32 -0500 (Mon, 27 Dec 2021)
nebbiolo2Linux (Ubuntu 20.04.4 LTS) / x86_64  OK    OK    OK  UNNEEDED, same version is already published
tokay2Windows Server 2012 R2 Standard / x64  OK    OK    OK    OK  UNNEEDED, same version is already published
machv2macOS 10.14.6 Mojave / x86_64  OK    OK    OK    OK  UNNEEDED, same version is already published

Summary

Package: profileplyr
Version: 1.10.2
Command: C:\cygwin\bin\curl.exe -O http://155.52.207.166/BBS/3.14/bioc/src/contrib/profileplyr_1.10.2.tar.gz && rm -rf profileplyr.buildbin-libdir && mkdir profileplyr.buildbin-libdir && C:\Users\biocbuild\bbs-3.14-bioc\R\bin\R.exe CMD INSTALL --merge-multiarch --build --library=profileplyr.buildbin-libdir profileplyr_1.10.2.tar.gz && C:\Users\biocbuild\bbs-3.14-bioc\R\bin\R.exe CMD INSTALL profileplyr_1.10.2.zip && rm profileplyr_1.10.2.tar.gz profileplyr_1.10.2.zip
StartedAt: 2022-01-13 07:16:27 -0500 (Thu, 13 Jan 2022)
EndedAt: 2022-01-13 07:18:14 -0500 (Thu, 13 Jan 2022)
EllapsedTime: 106.9 seconds
RetCode: 0
Status:   OK  

Command output

##############################################################################
##############################################################################
###
### Running command:
###
###   C:\cygwin\bin\curl.exe -O http://155.52.207.166/BBS/3.14/bioc/src/contrib/profileplyr_1.10.2.tar.gz && rm -rf profileplyr.buildbin-libdir && mkdir profileplyr.buildbin-libdir && C:\Users\biocbuild\bbs-3.14-bioc\R\bin\R.exe CMD INSTALL --merge-multiarch --build --library=profileplyr.buildbin-libdir profileplyr_1.10.2.tar.gz && C:\Users\biocbuild\bbs-3.14-bioc\R\bin\R.exe CMD INSTALL profileplyr_1.10.2.zip && rm profileplyr_1.10.2.tar.gz profileplyr_1.10.2.zip
###
##############################################################################
##############################################################################


  % Total    % Received % Xferd  Average Speed   Time    Time     Time  Current
                                 Dload  Upload   Total   Spent    Left  Speed

  0     0    0     0    0     0      0      0 --:--:-- --:--:-- --:--:--     0
  0 1749k    0  9237    0     0   152k      0  0:00:11 --:--:--  0:00:11  152k
100 1749k  100 1749k    0     0  4774k      0 --:--:-- --:--:-- --:--:-- 4779k

install for i386

* installing *source* package 'profileplyr' ...
** using staged installation
** R
** data
** inst
** byte-compile and prepare package for lazy loading
** help
*** installing help indices
  converting help for package 'profileplyr'
    finding HTML links ... done
    BamBigwig_to_chipProfile                html  
    K27ac_GRlist_hind_liver_top5000         html  
    annotateRanges                          html  
    annotateRanges_great                    html  
    as_profileplyr                          html  
    clusterRanges                           html  
    convertToEnrichedHeatmapMat             html  
    export_deepToolsMat                     html  
    gene_list_character                     html  
    gene_list_dataframe                     html  
    generateEnrichedHeatmap                 html  
    generateProfilePlot                     html  
    groupBy                                 html  
    inherit_group_function                  html  
    orderBy                                 html  
    params                                  html  
    profileplyr                             html  
    sampleData                              html  
    subset_GR_GL_common_top                 html  
    subsetbyGeneListOverlap                 html  
    subsetbyRangeOverlap                    html  
    summarize                               html  
** building package indices
** installing vignettes
** testing if installed package can be loaded from temporary location
** testing if installed package can be loaded from final location
** testing if installed package keeps a record of temporary installation path

install for x64

* installing *source* package 'profileplyr' ...
** testing if installed package can be loaded
* MD5 sums
packaged installation of 'profileplyr' as profileplyr_1.10.2.zip
* DONE (profileplyr)
* installing to library 'C:/Users/biocbuild/bbs-3.14-bioc/R/library'
package 'profileplyr' successfully unpacked and MD5 sums checked