Back to Multiple platform build/check report for BioC 3.14
ABCDEFGHIJKLMNO[P]QRSTUVWXYZ

This page was generated on 2021-09-18 12:06:18 -0400 (Sat, 18 Sep 2021).

INSTALL results for proActiv on riesling1

To the developers/maintainers of the proActiv package:
- Please allow up to 24 hours (and sometimes 48 hours) for your latest push to git@git.bioconductor.org:packages/proActiv.git to
reflect on this report. See How and When does the builder pull? When will my changes propagate? here for more information.
- Make sure to use the following settings in order to reproduce any error or warning you see on this page.

raw results

Package 1420/2029HostnameOS / ArchINSTALLBUILDCHECKBUILD BIN
proActiv 1.3.4  (landing page)
Joseph Lee
Snapshot Date: 2021-09-17 14:50:09 -0400 (Fri, 17 Sep 2021)
git_url: https://git.bioconductor.org/packages/proActiv
git_branch: master
git_last_commit: a0df319
git_last_commit_date: 2021-06-23 06:28:09 -0400 (Wed, 23 Jun 2021)
nebbiolo2Linux (Ubuntu 20.04.2 LTS) / x86_64  OK    OK    OK  UNNEEDED, same version is already published
riesling1Windows Server 2019 Standard / x64  OK    OK    OK    OK  UNNEEDED, same version is already published
merida1macOS 10.14.6 Mojave / x86_64  OK    OK    OK    OK  UNNEEDED, same version is already published

Summary

Package: proActiv
Version: 1.3.4
Command: C:\cygwin\bin\curl.exe -O http://155.52.207.166/BBS/3.14/bioc/src/contrib/proActiv_1.3.4.tar.gz && rm -rf proActiv.buildbin-libdir && mkdir proActiv.buildbin-libdir && D:\biocbuild\bbs-3.14-bioc\R\bin\R.exe CMD INSTALL --merge-multiarch --build --library=proActiv.buildbin-libdir proActiv_1.3.4.tar.gz && D:\biocbuild\bbs-3.14-bioc\R\bin\R.exe CMD INSTALL proActiv_1.3.4.zip && rm proActiv_1.3.4.tar.gz proActiv_1.3.4.zip
StartedAt: 2021-09-17 18:43:50 -0400 (Fri, 17 Sep 2021)
EndedAt: 2021-09-17 18:46:27 -0400 (Fri, 17 Sep 2021)
EllapsedTime: 157.0 seconds
RetCode: 0
Status:   OK  

Command output

##############################################################################
##############################################################################
###
### Running command:
###
###   C:\cygwin\bin\curl.exe -O http://155.52.207.166/BBS/3.14/bioc/src/contrib/proActiv_1.3.4.tar.gz && rm -rf proActiv.buildbin-libdir && mkdir proActiv.buildbin-libdir && D:\biocbuild\bbs-3.14-bioc\R\bin\R.exe CMD INSTALL --merge-multiarch --build --library=proActiv.buildbin-libdir proActiv_1.3.4.tar.gz && D:\biocbuild\bbs-3.14-bioc\R\bin\R.exe CMD INSTALL proActiv_1.3.4.zip && rm proActiv_1.3.4.tar.gz proActiv_1.3.4.zip
###
##############################################################################
##############################################################################


  % Total    % Received % Xferd  Average Speed   Time    Time     Time  Current
                                 Dload  Upload   Total   Spent    Left  Speed

  0     0    0     0    0     0      0      0 --:--:-- --:--:-- --:--:--     0
 83 3469k   83 2912k    0     0  3681k      0 --:--:-- --:--:-- --:--:-- 3676k
100 3469k  100 3469k    0     0  3846k      0 --:--:-- --:--:-- --:--:-- 3842k

install for i386

* installing *source* package 'proActiv' ...
** using staged installation
** R
** data
*** moving datasets to lazyload DB
** inst
** byte-compile and prepare package for lazy loading
** help
*** installing help indices
  converting help for package 'proActiv'
    finding HTML links ... done
    PromoterAnnotation-class                html  
    boxplotPromoters                        html  
    calculateJunctionReadCounts             html  
    calculatePromoterReadCounts             html  
    getAbsolutePromoterActivity             html  
    getAlternativePromoters                 html  
    getGeneExpression                       html  
    getRelativePromoterActivity             html  
    integrateProactiv                       html  
    normalizePromoterReadCounts             html  
    plotHeatmap                             html  
    plotPCA                                 html  
    preparePromoterAnnotation               html  
    proActiv                                html  
    promoterAnnotation.gencode.v34.subset   html  
    reexports                               html  
*** copying figures
** building package indices
** installing vignettes
** testing if installed package can be loaded from temporary location
** testing if installed package can be loaded from final location
** testing if installed package keeps a record of temporary installation path

install for x64

* installing *source* package 'proActiv' ...
** testing if installed package can be loaded
* MD5 sums
packaged installation of 'proActiv' as proActiv_1.3.4.zip
* DONE (proActiv)
* installing to library 'D:/biocbuild/bbs-3.14-bioc/R/library'
package 'proActiv' successfully unpacked and MD5 sums checked