Index of /checkResults/3.14/bioc-LATEST/proActiv/raw-results/riesling1

[ICO]NameLast modifiedSizeDescription

[DIR]Parent Directory  -  
[TXT]buildbin-out.txt22-Oct-2021 01:04 2.2K 
[   ]buildbin-summary.dcf22-Oct-2021 01:04 537  
[TXT]buildsrc-out.txt22-Oct-2021 01:04 843  
[   ]buildsrc-summary.dcf22-Oct-2021 01:04 455  
[TXT]checksrc-out.txt22-Oct-2021 01:04 4.1K 
[   ]checksrc-summary.dcf22-Oct-2021 01:04 452  
[TXT]install-out.txt22-Oct-2021 01:04 2.9K 
[   ]install-summary.dcf22-Oct-2021 01:04 632