Back to Multiple platform build/check report for BioC 3.14
ABCDEFGHIJKLMNO[P]QRSTUVWXYZ

This page was generated on 2021-09-25 12:06:13 -0400 (Sat, 25 Sep 2021).

BUILD results for proActiv on merida1

To the developers/maintainers of the proActiv package:
- Please allow up to 24 hours (and sometimes 48 hours) for your latest push to git@git.bioconductor.org:packages/proActiv.git to
reflect on this report. See How and When does the builder pull? When will my changes propagate? here for more information.
- Make sure to use the following settings in order to reproduce any error or warning you see on this page.

raw results

Package 1421/2034HostnameOS / ArchINSTALLBUILDCHECKBUILD BIN
proActiv 1.3.4  (landing page)
Joseph Lee
Snapshot Date: 2021-09-24 14:50:08 -0400 (Fri, 24 Sep 2021)
git_url: https://git.bioconductor.org/packages/proActiv
git_branch: master
git_last_commit: a0df319
git_last_commit_date: 2021-06-23 06:28:09 -0400 (Wed, 23 Jun 2021)
nebbiolo2Linux (Ubuntu 20.04.2 LTS) / x86_64  OK    OK    OK  UNNEEDED, same version is already published
riesling1Windows Server 2019 Standard / x64  OK    OK    OK    OK  UNNEEDED, same version is already published
merida1macOS 10.14.6 Mojave / x86_64  OK    OK    OK    OK  UNNEEDED, same version is already published

Summary

Package: proActiv
Version: 1.3.4
Command: /Library/Frameworks/R.framework/Resources/bin/R CMD build --keep-empty-dirs --no-resave-data proActiv
StartedAt: 2021-09-24 21:50:00 -0400 (Fri, 24 Sep 2021)
EndedAt: 2021-09-24 21:51:29 -0400 (Fri, 24 Sep 2021)
EllapsedTime: 89.1 seconds
RetCode: 0
Status:   OK  
PackageFile: proActiv_1.3.4.tar.gz
PackageFileSize: 2.631 MiB

Command output

##############################################################################
##############################################################################
###
### Running command:
###
###   /Library/Frameworks/R.framework/Resources/bin/R CMD build --keep-empty-dirs --no-resave-data proActiv
###
##############################################################################
##############################################################################


* checking for file ‘proActiv/DESCRIPTION’ ... OK
* preparing ‘proActiv’:
* checking DESCRIPTION meta-information ... OK
* installing the package to build vignettes
* creating vignettes ... OK
* checking for LF line-endings in source and make files and shell scripts
* checking for empty or unneeded directories
* building ‘proActiv_1.3.4.tar.gz’