Back to Multiple platform build/check report for BioC 3.14
ABCDEFGHIJKLMNO[P]QRSTUVWXYZ

This page was generated on 2022-01-21 13:06:52 -0500 (Fri, 21 Jan 2022).

HostnameOSArch (*)R versionInstalled pkgs
nebbiolo2Linux (Ubuntu 20.04.4 LTS)x86_644.1.2 (2021-11-01) -- "Bird Hippie" 4329
tokay2Windows Server 2012 R2 Standardx644.1.2 (2021-11-01) -- "Bird Hippie" 4079
machv2macOS 10.14.6 Mojavex86_644.1.2 (2021-11-01) -- "Bird Hippie" 4140
Click on any hostname to see more info about the system (e.g. compilers)      (*) as reported by 'uname -p', except on Windows and Mac OS X

INSTALL results for ppiStats on tokay2


To the developers/maintainers of the ppiStats package:
- Please allow up to 24 hours (and sometimes 48 hours) for your latest push to git@git.bioconductor.org:packages/ppiStats.git to
reflect on this report. See How and When does the builder pull? When will my changes propagate? here for more information.
- Make sure to use the following settings in order to reproduce any error or warning you see on this page.

raw results

Package 1446/2083HostnameOS / ArchINSTALLBUILDCHECKBUILD BIN
ppiStats 1.60.0  (landing page)
Bioconductor Package Maintainer
Snapshot Date: 2022-01-20 01:55:04 -0500 (Thu, 20 Jan 2022)
git_url: https://git.bioconductor.org/packages/ppiStats
git_branch: RELEASE_3_14
git_last_commit: 2b0ed01
git_last_commit_date: 2021-10-26 11:50:28 -0500 (Tue, 26 Oct 2021)
nebbiolo2Linux (Ubuntu 20.04.4 LTS) / x86_64  OK    OK    OK  UNNEEDED, same version is already published
tokay2Windows Server 2012 R2 Standard / x64  OK    ERROR  skippedskipped
machv2macOS 10.14.6 Mojave / x86_64  OK    OK    OK    OK  UNNEEDED, same version is already published

Summary

Package: ppiStats
Version: 1.60.0
Command: C:\cygwin\bin\curl.exe -O http://155.52.207.166/BBS/3.14/bioc/src/contrib/ppiStats_1.60.0.tar.gz && rm -rf ppiStats.buildbin-libdir && mkdir ppiStats.buildbin-libdir && C:\Users\biocbuild\bbs-3.14-bioc\R\bin\R.exe CMD INSTALL --merge-multiarch --build --library=ppiStats.buildbin-libdir ppiStats_1.60.0.tar.gz && C:\Users\biocbuild\bbs-3.14-bioc\R\bin\R.exe CMD INSTALL ppiStats_1.60.0.zip && rm ppiStats_1.60.0.tar.gz ppiStats_1.60.0.zip
StartedAt: 2022-01-20 06:25:34 -0500 (Thu, 20 Jan 2022)
EndedAt: 2022-01-20 06:26:52 -0500 (Thu, 20 Jan 2022)
EllapsedTime: 78.0 seconds
RetCode: 0
Status:   OK  

Command output

##############################################################################
##############################################################################
###
### Running command:
###
###   C:\cygwin\bin\curl.exe -O http://155.52.207.166/BBS/3.14/bioc/src/contrib/ppiStats_1.60.0.tar.gz && rm -rf ppiStats.buildbin-libdir && mkdir ppiStats.buildbin-libdir && C:\Users\biocbuild\bbs-3.14-bioc\R\bin\R.exe CMD INSTALL --merge-multiarch --build --library=ppiStats.buildbin-libdir ppiStats_1.60.0.tar.gz && C:\Users\biocbuild\bbs-3.14-bioc\R\bin\R.exe CMD INSTALL ppiStats_1.60.0.zip && rm ppiStats_1.60.0.tar.gz ppiStats_1.60.0.zip
###
##############################################################################
##############################################################################


  % Total    % Received % Xferd  Average Speed   Time    Time     Time  Current
                                 Dload  Upload   Total   Spent    Left  Speed

  0     0    0     0    0     0      0      0 --:--:-- --:--:-- --:--:--     0
  4 1016k    4 45688    0     0   297k      0  0:00:03 --:--:--  0:00:03  297k
100 1016k  100 1016k    0     0  2114k      0 --:--:-- --:--:-- --:--:-- 2113k

install for i386

* installing *source* package 'ppiStats' ...
** using staged installation
** R
** inst
** byte-compile and prepare package for lazy loading
** help
*** installing help indices
  converting help for package 'ppiStats'
    finding HTML links ... done
    assessSymmetry                          html  
    bpMatrix                                html  
    calcInOutDegStats                       html  
    createSummaryTables                     html  
    degreeEstimates                         html  
    estErrProbMethodOfMoments               html  
    estimateCCMErrorRates                   html  
    estimatePPIErrorRates                   html  
    findAdjacent                            html  
    genBPGraph                              html  
    hgParams                                html  
    hgTests                                 html  
    idProteinErrorType                      html  
    idProteinType                           html  
    inOutScatterCharts                      html  
    nullDistDoublyTestedEdges               html  
    separateExptBySize                      html  
    twPERM                                  html  
    viabilityCharts                         html  
** building package indices
** installing vignettes
** testing if installed package can be loaded from temporary location
** testing if installed package can be loaded from final location
** testing if installed package keeps a record of temporary installation path

install for x64

* installing *source* package 'ppiStats' ...
** testing if installed package can be loaded
* MD5 sums
packaged installation of 'ppiStats' as ppiStats_1.60.0.zip
* DONE (ppiStats)
* installing to library 'C:/Users/biocbuild/bbs-3.14-bioc/R/library'
package 'ppiStats' successfully unpacked and MD5 sums checked