Back to Multiple platform build/check report for BioC 3.14
ABCDEFGHIJKLMNO[P]QRSTUVWXYZ

This page was generated on 2022-01-21 13:06:50 -0500 (Fri, 21 Jan 2022).

HostnameOSArch (*)R versionInstalled pkgs
nebbiolo2Linux (Ubuntu 20.04.4 LTS)x86_644.1.2 (2021-11-01) -- "Bird Hippie" 4329
tokay2Windows Server 2012 R2 Standardx644.1.2 (2021-11-01) -- "Bird Hippie" 4079
machv2macOS 10.14.6 Mojavex86_644.1.2 (2021-11-01) -- "Bird Hippie" 4140
Click on any hostname to see more info about the system (e.g. compilers)      (*) as reported by 'uname -p', except on Windows and Mac OS X

BUILD BIN results for phantasus on tokay2


To the developers/maintainers of the phantasus package:
- Please allow up to 24 hours (and sometimes 48 hours) for your latest push to git@git.bioconductor.org:packages/phantasus.git to
reflect on this report. See How and When does the builder pull? When will my changes propagate? here for more information.
- Make sure to use the following settings in order to reproduce any error or warning you see on this page.

raw results

Package 1403/2083HostnameOS / ArchINSTALLBUILDCHECKBUILD BIN
phantasus 1.14.0  (landing page)
Alexey Sergushichev
Snapshot Date: 2022-01-20 01:55:04 -0500 (Thu, 20 Jan 2022)
git_url: https://git.bioconductor.org/packages/phantasus
git_branch: RELEASE_3_14
git_last_commit: 26a4f40
git_last_commit_date: 2021-10-26 12:42:56 -0500 (Tue, 26 Oct 2021)
nebbiolo2Linux (Ubuntu 20.04.4 LTS) / x86_64  OK    OK    OK  UNNEEDED, same version is already published
tokay2Windows Server 2012 R2 Standard / x64  OK    OK    OK    OK  UNNEEDED, same version is already published
machv2macOS 10.14.6 Mojave / x86_64  OK    OK    OK    OK  UNNEEDED, same version is already published

Summary

Package: phantasus
Version: 1.14.0
Command: rm -rf phantasus.buildbin-libdir && mkdir phantasus.buildbin-libdir && C:\Users\biocbuild\bbs-3.14-bioc\R\bin\R.exe CMD INSTALL --merge-multiarch --build --library=phantasus.buildbin-libdir phantasus_1.14.0.tar.gz
StartedAt: 2022-01-21 06:45:48 -0500 (Fri, 21 Jan 2022)
EndedAt: 2022-01-21 06:46:40 -0500 (Fri, 21 Jan 2022)
EllapsedTime: 52.3 seconds
RetCode: 0
Status:   OK  
PackageFile: phantasus_1.14.0.zip
PackageFileSize: 7.946 MiB

Command output

##############################################################################
##############################################################################
###
### Running command:
###
###   rm -rf phantasus.buildbin-libdir && mkdir phantasus.buildbin-libdir && C:\Users\biocbuild\bbs-3.14-bioc\R\bin\R.exe CMD INSTALL --merge-multiarch --build --library=phantasus.buildbin-libdir phantasus_1.14.0.tar.gz
###
##############################################################################
##############################################################################



install for i386

* installing *source* package 'phantasus' ...
** using staged installation
** R
** data
*** moving datasets to lazyload DB
** inst
** byte-compile and prepare package for lazy loading
** help
*** installing help indices
  converting help for package 'phantasus'
    finding HTML links ... done
    adjustDataset                           html  
    annotationDBMeta                        html  
    calcPCA                                 html  
    calculatedAnnotation                    html  
    checkGPLsFallback                       html  
    colMeansByGroups                        html  
    collapseDataset                         html  
    convertByAnnotationDB                   html  
    createES                                html  
    es                                      html  
    fgseaExample                            html  
    generatePreloadedSession                html  
    getArchs4Files                          html  
    getES                                   html  
    getGDS                                  html  
    getGSE                                  html  
    gseaPlot                                html  
    limmaAnalysis                           html  
    loadFromARCHS4                          html  
    loadGEO                                 html  
    loadPreloaded                           html  
    performKmeans                           html  
    queryAnnotationDBMeta                   html  
    read.gct                                html  
    reparseCachedESs                        html  
    reproduceInR                            html  
    servePhantasus                          html  
    shinyGAMAnalysis                        html  
    subsetES                                html  
    write.gct                               html  
** building package indices
** installing vignettes
** testing if installed package can be loaded from temporary location
** testing if installed package can be loaded from final location
** testing if installed package keeps a record of temporary installation path

install for x64

* installing *source* package 'phantasus' ...
** testing if installed package can be loaded
* MD5 sums
packaged installation of 'phantasus' as phantasus_1.14.0.zip
* DONE (phantasus)