Back to Multiple platform build/check report for BioC 3.14
ABCDEFGHIJKLMNO[P]QRSTUVWXYZ

This page was generated on 2022-01-21 13:08:15 -0500 (Fri, 21 Jan 2022).

HostnameOSArch (*)R versionInstalled pkgs
nebbiolo2Linux (Ubuntu 20.04.4 LTS)x86_644.1.2 (2021-11-01) -- "Bird Hippie" 4329
tokay2Windows Server 2012 R2 Standardx644.1.2 (2021-11-01) -- "Bird Hippie" 4079
machv2macOS 10.14.6 Mojavex86_644.1.2 (2021-11-01) -- "Bird Hippie" 4140
Click on any hostname to see more info about the system (e.g. compilers)      (*) as reported by 'uname -p', except on Windows and Mac OS X

CHECK results for phantasus on machv2


To the developers/maintainers of the phantasus package:
- Please allow up to 24 hours (and sometimes 48 hours) for your latest push to git@git.bioconductor.org:packages/phantasus.git to
reflect on this report. See How and When does the builder pull? When will my changes propagate? here for more information.
- Make sure to use the following settings in order to reproduce any error or warning you see on this page.

raw results

Package 1403/2083HostnameOS / ArchINSTALLBUILDCHECKBUILD BIN
phantasus 1.14.0  (landing page)
Alexey Sergushichev
Snapshot Date: 2022-01-20 01:55:04 -0500 (Thu, 20 Jan 2022)
git_url: https://git.bioconductor.org/packages/phantasus
git_branch: RELEASE_3_14
git_last_commit: 26a4f40
git_last_commit_date: 2021-10-26 12:42:56 -0500 (Tue, 26 Oct 2021)
nebbiolo2Linux (Ubuntu 20.04.4 LTS) / x86_64  OK    OK    OK  UNNEEDED, same version is already published
tokay2Windows Server 2012 R2 Standard / x64  OK    OK    OK    OK  UNNEEDED, same version is already published
machv2macOS 10.14.6 Mojave / x86_64  OK    OK    OK    OK  UNNEEDED, same version is already published

Summary

Package: phantasus
Version: 1.14.0
Command: /Library/Frameworks/R.framework/Resources/bin/R CMD check --install=check:phantasus.install-out.txt --library=/Library/Frameworks/R.framework/Resources/library --no-vignettes --timings phantasus_1.14.0.tar.gz
StartedAt: 2022-01-20 16:19:01 -0500 (Thu, 20 Jan 2022)
EndedAt: 2022-01-20 16:25:49 -0500 (Thu, 20 Jan 2022)
EllapsedTime: 407.8 seconds
RetCode: 0
Status:   OK  
CheckDir: phantasus.Rcheck
Warnings: 0

Command output

##############################################################################
##############################################################################
###
### Running command:
###
###   /Library/Frameworks/R.framework/Resources/bin/R CMD check --install=check:phantasus.install-out.txt --library=/Library/Frameworks/R.framework/Resources/library --no-vignettes --timings phantasus_1.14.0.tar.gz
###
##############################################################################
##############################################################################


* using log directory ‘/Users/biocbuild/bbs-3.14-bioc/meat/phantasus.Rcheck’
* using R version 4.1.2 (2021-11-01)
* using platform: x86_64-apple-darwin17.0 (64-bit)
* using session charset: UTF-8
* using option ‘--no-vignettes’
* checking for file ‘phantasus/DESCRIPTION’ ... OK
* this is package ‘phantasus’ version ‘1.14.0’
* package encoding: UTF-8
* checking package namespace information ... OK
* checking package dependencies ... OK
* checking if this is a source package ... OK
* checking if there is a namespace ... OK
* checking for hidden files and directories ... OK
* checking for portable file names ... OK
* checking for sufficient/correct file permissions ... OK
* checking whether package ‘phantasus’ can be installed ... OK
* checking installed package size ... NOTE
  installed size is 28.0Mb
  sub-directories of 1Mb or more:
    testdata   4.3Mb
    www       23.3Mb
* checking package directory ... OK
* checking DESCRIPTION meta-information ... OK
* checking top-level files ... OK
* checking for left-over files ... OK
* checking index information ... OK
* checking package subdirectories ... OK
* checking R files for non-ASCII characters ... OK
* checking R files for syntax errors ... OK
* checking whether the package can be loaded ... OK
* checking whether the package can be loaded with stated dependencies ... OK
* checking whether the package can be unloaded cleanly ... OK
* checking whether the namespace can be loaded with stated dependencies ... OK
* checking whether the namespace can be unloaded cleanly ... OK
* checking dependencies in R code ... NOTE
Unexported objects imported by ':::' calls:
  'GEOquery:::getDirListing' 'opencpu:::rookhandler'
  'opencpu:::tmp_root' 'opencpu:::win_or_mac'
  See the note in ?`:::` about the use of this operator.
* checking S3 generic/method consistency ... OK
* checking replacement functions ... OK
* checking foreign function calls ... OK
* checking R code for possible problems ... NOTE
generatePreloadedSession: no visible binding for global variable 'es'
generatePreloadedSession: no visible binding for global variable
  'heatmapJson'
loadSession: no visible binding for global variable 'es'
reproduceInR: no visible global function definition for 'object.size'
safeDownload: no visible binding for global variable 'tempDestFile'
Undefined global functions or variables:
  es heatmapJson object.size tempDestFile
Consider adding
  importFrom("utils", "object.size")
to your NAMESPACE file.
* checking Rd files ... NOTE
prepare_Rd: convertByAnnotationDB.Rd:27-32: Dropping empty section \examples
* checking Rd metadata ... OK
* checking Rd cross-references ... OK
* checking for missing documentation entries ... OK
* checking for code/documentation mismatches ... OK
* checking Rd \usage sections ... OK
* checking Rd contents ... OK
* checking for unstated dependencies in examples ... OK
* checking contents of ‘data’ directory ... OK
* checking data for non-ASCII characters ... OK
* checking LazyData ... OK
* checking data for ASCII and uncompressed saves ... OK
* checking files in ‘vignettes’ ... OK
* checking examples ... OK
Examples with CPU (user + system) or elapsed time > 5s
        user system elapsed
getGSE 6.266  2.648  11.202
getES  1.674  0.660  16.702
* checking for unstated dependencies in ‘tests’ ... OK
* checking tests ...
  Running ‘testthat.R’
 OK
* checking for unstated dependencies in vignettes ... OK
* checking package vignettes in ‘inst/doc’ ... OK
* checking running R code from vignettes ... SKIPPED
* checking re-building of vignette outputs ... SKIPPED
* checking PDF version of manual ... OK
* DONE

Status: 4 NOTEs
See
  ‘/Users/biocbuild/bbs-3.14-bioc/meat/phantasus.Rcheck/00check.log’
for details.



Installation output

phantasus.Rcheck/00install.out

##############################################################################
##############################################################################
###
### Running command:
###
###   /Library/Frameworks/R.framework/Resources/bin/R CMD INSTALL phantasus
###
##############################################################################
##############################################################################


* installing to library ‘/Library/Frameworks/R.framework/Versions/4.1/Resources/library’
* installing *source* package ‘phantasus’ ...
** using staged installation
** R
** data
*** moving datasets to lazyload DB
** inst
** byte-compile and prepare package for lazy loading
** help
*** installing help indices
** building package indices
** installing vignettes
** testing if installed package can be loaded from temporary location
** testing if installed package can be loaded from final location
** testing if installed package keeps a record of temporary installation path
* DONE (phantasus)

Tests output

phantasus.Rcheck/tests/testthat.Rout


R version 4.1.2 (2021-11-01) -- "Bird Hippie"
Copyright (C) 2021 The R Foundation for Statistical Computing
Platform: x86_64-apple-darwin17.0 (64-bit)

R is free software and comes with ABSOLUTELY NO WARRANTY.
You are welcome to redistribute it under certain conditions.
Type 'license()' or 'licence()' for distribution details.

R is a collaborative project with many contributors.
Type 'contributors()' for more information and
'citation()' on how to cite R or R packages in publications.

Type 'demo()' for some demos, 'help()' for on-line help, or
'help.start()' for an HTML browser interface to help.
Type 'q()' to quit R.

> library(testthat)
> library(phantasus)
Setting options('download.file.method.GEOquery'='auto')
Setting options('GEOquery.inmemory.gpl'=FALSE)
Loading config from /Library/Frameworks/R.framework/Versions/4.1/Resources/library/opencpu/config/defaults.conf
Loading config from /Users/biocbuild/Library/Preferences/org.R-project.R/R/opencpu/user.conf
> 
> test_check("phantasus")
trying URL 'https://ftp.ncbi.nlm.nih.gov/geo/series/GSE53nnn/GSE53986/matrix/GSE53986_series_matrix.txt.gz'
Content type 'application/x-gzip' length 2848655 bytes (2.7 MB)
==================================================
downloaded 2.7 MB

trying URL 'https://ftp.ncbi.nlm.nih.gov/geo/platforms/GPL1nnn/GPL1261/annot/GPL1261.annot.gz'
Content type 'application/x-gzip' length 8389179 bytes (8.0 MB)
==================================================
downloaded 8.0 MB

trying URL 'https://genome.ifmo.ru/files/software/phantasus/geo/series/GSE27nnn/GSE27112/matrix/GSE27112_series_matrix.txt.gz'
trying URL 'https://genome.ifmo.ru/files/software/phantasus/geo/series/GSE27nnn/GSE27112/matrix/GSE27112-GPL6103_series_matrix.txt.gz'
Content type 'application/x-gzip' length 596707 bytes (582 KB)
==================================================
downloaded 582 KB

trying URL 'https://ftp.ncbi.nlm.nih.gov/geo/platforms/GPL6nnn/GPL6103/annot/GPL6103.annot.gz'
Content type 'application/x-gzip' length 4652589 bytes (4.4 MB)
==================================================
downloaded 4.4 MB

trying URL 'https://genome.ifmo.ru/files/software/phantasus/geo/series/GSE27nnn/GSE27112/matrix/GSE27112-GPL6885_series_matrix.txt.gz'
Content type 'application/x-gzip' length 1273889 bytes (1.2 MB)
==================================================
downloaded 1.2 MB

trying URL 'https://ftp.ncbi.nlm.nih.gov/geo/platforms/GPL6nnn/GPL6885/annot/GPL6885.annot.gz'
Content type 'application/x-gzip' length 4938348 bytes (4.7 MB)
==================================================
downloaded 4.7 MB

trying URL 'https://genome.ifmo.ru/files/software/phantasus/geo/series/GSE14nnn/GSE14308/matrix/GSE14308_series_matrix.txt.gz'
Content type 'application/x-gzip' length 1807552 bytes (1.7 MB)
==================================================
downloaded 1.7 MB

trying URL 'https://genome.ifmo.ru/files/software/phantasus/geo/datasets/GDS4nnn/GDS4885/soft/GDS4885.soft.gz'
Content type 'application/x-gzip' length 1250109 bytes (1.2 MB)
==================================================
downloaded 1.2 MB

trying URL 'https://ftp.ncbi.nlm.nih.gov/geo/series/GSE27nnn/GSE27112/matrix/GSE27112_series_matrix.txt.gz'
trying URL 'https://www.ncbi.nlm.nih.gov/geo/query/acc.cgi?targ=self&acc=GPL17021&form=text&view=quick'
downloaded 7.9 MB

[ FAIL 0 | WARN 6 | SKIP 0 | PASS 95 ]
> 
> proc.time()
   user  system elapsed 
 93.467  23.461 144.793 

Example timings

phantasus.Rcheck/phantasus-Ex.timings

nameusersystemelapsed
adjustDataset0.0000.0000.001
annotationDBMeta0.0000.0000.001
calcPCA0.0000.0010.001
checkGPLsFallback0.0000.0010.001
collapseDataset000
createES000
es0.0000.0010.000
generatePreloadedSession0.8660.0502.409
getES 1.674 0.66016.702
getGDS0.6790.6091.311
getGSE 6.266 2.64811.202
limmaAnalysis000
loadGEO000
performKmeans000
queryAnnotationDBMeta0.0000.0000.001
read.gct0.0450.0010.046
reparseCachedESs0.7930.6121.467
reproduceInR000
servePhantasus000
write.gct0.0410.0010.042