Back to Multiple platform build/check report for BioC 3.14
ABCDEFGHIJKLMNO[P]QRSTUVWXYZ

This page was generated on 2022-01-14 13:08:19 -0500 (Fri, 14 Jan 2022).

HostnameOSArch (*)R versionInstalled pkgs
nebbiolo2Linux (Ubuntu 20.04.4 LTS)x86_644.1.2 (2021-11-01) -- "Bird Hippie" 4327
tokay2Windows Server 2012 R2 Standardx644.1.2 (2021-11-01) -- "Bird Hippie" 4076
machv2macOS 10.14.6 Mojavex86_644.1.2 (2021-11-01) -- "Bird Hippie" 4137
Click on any hostname to see more info about the system (e.g. compilers)      (*) as reported by 'uname -p', except on Windows and Mac OS X

CHECK results for pcaExplorer on machv2


To the developers/maintainers of the pcaExplorer package:
- Please allow up to 24 hours (and sometimes 48 hours) for your latest push to git@git.bioconductor.org:packages/pcaExplorer.git to
reflect on this report. See How and When does the builder pull? When will my changes propagate? here for more information.
- Make sure to use the following settings in order to reproduce any error or warning you see on this page.

raw results

Package 1383/2083HostnameOS / ArchINSTALLBUILDCHECKBUILD BIN
pcaExplorer 2.20.1  (landing page)
Federico Marini
Snapshot Date: 2022-01-13 01:55:04 -0500 (Thu, 13 Jan 2022)
git_url: https://git.bioconductor.org/packages/pcaExplorer
git_branch: RELEASE_3_14
git_last_commit: 33bbc50
git_last_commit_date: 2021-12-01 16:29:59 -0500 (Wed, 01 Dec 2021)
nebbiolo2Linux (Ubuntu 20.04.4 LTS) / x86_64  OK    OK    OK  UNNEEDED, same version is already published
tokay2Windows Server 2012 R2 Standard / x64  OK    OK    OK    OK  UNNEEDED, same version is already published
machv2macOS 10.14.6 Mojave / x86_64  OK    OK    OK    OK  UNNEEDED, same version is already published

Summary

Package: pcaExplorer
Version: 2.20.1
Command: /Library/Frameworks/R.framework/Resources/bin/R CMD check --install=check:pcaExplorer.install-out.txt --library=/Library/Frameworks/R.framework/Resources/library --no-vignettes --timings pcaExplorer_2.20.1.tar.gz
StartedAt: 2022-01-13 16:14:24 -0500 (Thu, 13 Jan 2022)
EndedAt: 2022-01-13 16:23:44 -0500 (Thu, 13 Jan 2022)
EllapsedTime: 559.9 seconds
RetCode: 0
Status:   OK  
CheckDir: pcaExplorer.Rcheck
Warnings: 0

Command output

##############################################################################
##############################################################################
###
### Running command:
###
###   /Library/Frameworks/R.framework/Resources/bin/R CMD check --install=check:pcaExplorer.install-out.txt --library=/Library/Frameworks/R.framework/Resources/library --no-vignettes --timings pcaExplorer_2.20.1.tar.gz
###
##############################################################################
##############################################################################


* using log directory ‘/Users/biocbuild/bbs-3.14-bioc/meat/pcaExplorer.Rcheck’
* using R version 4.1.2 (2021-11-01)
* using platform: x86_64-apple-darwin17.0 (64-bit)
* using session charset: UTF-8
* using option ‘--no-vignettes’
* checking for file ‘pcaExplorer/DESCRIPTION’ ... OK
* checking extension type ... Package
* this is package ‘pcaExplorer’ version ‘2.20.1’
* package encoding: UTF-8
* checking package namespace information ... OK
* checking package dependencies ... OK
* checking if this is a source package ... OK
* checking if there is a namespace ... OK
* checking for hidden files and directories ... OK
* checking for portable file names ... OK
* checking for sufficient/correct file permissions ... OK
* checking whether package ‘pcaExplorer’ can be installed ... OK
* checking installed package size ... OK
* checking package directory ... OK
* checking ‘build’ directory ... OK
* checking DESCRIPTION meta-information ... OK
* checking top-level files ... OK
* checking for left-over files ... OK
* checking index information ... OK
* checking package subdirectories ... OK
* checking R files for non-ASCII characters ... OK
* checking R files for syntax errors ... OK
* checking whether the package can be loaded ... OK
* checking whether the package can be loaded with stated dependencies ... OK
* checking whether the package can be unloaded cleanly ... OK
* checking whether the namespace can be loaded with stated dependencies ... OK
* checking whether the namespace can be unloaded cleanly ... OK
* checking dependencies in R code ... OK
* checking S3 generic/method consistency ... OK
* checking replacement functions ... OK
* checking foreign function calls ... OK
* checking R code for possible problems ... NOTE
pcaExplorer: no visible binding for '<<-' assignment to
  ‘pcaexplorer_env’
pcaExplorer : <anonymous>: no visible binding for global variable
  ‘airway’
pcaExplorer : <anonymous>: no visible binding for global variable
  ‘pcaexplorer_env’
Undefined global functions or variables:
  airway pcaexplorer_env
* checking Rd files ... OK
* checking Rd metadata ... OK
* checking Rd cross-references ... OK
* checking for missing documentation entries ... OK
* checking for code/documentation mismatches ... OK
* checking Rd \usage sections ... OK
* checking Rd contents ... OK
* checking for unstated dependencies in examples ... OK
* checking files in ‘vignettes’ ... OK
* checking examples ... OK
Examples with CPU (user + system) or elapsed time > 5s
              user system elapsed
correlatePCs 5.474  0.170   5.651
genespca     5.495  0.036   5.540
distro_expr  5.478  0.035   5.518
geneprofiler 5.326  0.047   5.377
pcascree     5.351  0.013   5.370
pcaplot      5.309  0.025   5.338
plotPCcorrs  5.215  0.023   5.244
* checking for unstated dependencies in ‘tests’ ... OK
* checking tests ...
  Running ‘testthat.R’
 OK
* checking for unstated dependencies in vignettes ... OK
* checking package vignettes in ‘inst/doc’ ... OK
* checking running R code from vignettes ... SKIPPED
* checking re-building of vignette outputs ... SKIPPED
* checking PDF version of manual ... OK
* DONE

Status: 1 NOTE
See
  ‘/Users/biocbuild/bbs-3.14-bioc/meat/pcaExplorer.Rcheck/00check.log’
for details.



Installation output

pcaExplorer.Rcheck/00install.out

##############################################################################
##############################################################################
###
### Running command:
###
###   /Library/Frameworks/R.framework/Resources/bin/R CMD INSTALL pcaExplorer
###
##############################################################################
##############################################################################


* installing to library ‘/Library/Frameworks/R.framework/Versions/4.1/Resources/library’
* installing *source* package ‘pcaExplorer’ ...
** using staged installation
** R
** inst
** byte-compile and prepare package for lazy loading
** help
*** installing help indices
** building package indices
** installing vignettes
** testing if installed package can be loaded from temporary location
** testing if installed package can be loaded from final location
** testing if installed package keeps a record of temporary installation path
* DONE (pcaExplorer)

Tests output

pcaExplorer.Rcheck/tests/testthat.Rout


R version 4.1.2 (2021-11-01) -- "Bird Hippie"
Copyright (C) 2021 The R Foundation for Statistical Computing
Platform: x86_64-apple-darwin17.0 (64-bit)

R is free software and comes with ABSOLUTELY NO WARRANTY.
You are welcome to redistribute it under certain conditions.
Type 'license()' or 'licence()' for distribution details.

R is a collaborative project with many contributors.
Type 'contributors()' for more information and
'citation()' on how to cite R or R packages in publications.

Type 'demo()' for some demos, 'help()' for on-line help, or
'help.start()' for an HTML browser interface to help.
Type 'q()' to quit R.

> library(testthat)
> library(pcaExplorer)

Welcome to pcaExplorer v2.20.1

If you use pcaExplorer in your work, please cite:

Federico Marini, Harald Binder
pcaExplorer: an R/Bioconductor package for interacting with RNA-seq principal components
BMC Bioinformatics, 2019 - https://doi.org/10.1186/s12859-019-2879-1

> 
> test_check("pcaExplorer")
[ FAIL 0 | WARN 1 | SKIP 0 | PASS 17 ]
> 
> proc.time()
   user  system elapsed 
113.990   2.522 116.627 

Example timings

pcaExplorer.Rcheck/pcaExplorer-Ex.timings

nameusersystemelapsed
correlatePCs5.4740.1705.651
distro_expr5.4780.0355.518
geneprofiler5.3260.0475.377
genespca5.4950.0365.540
get_annotation3.5550.0953.658
get_annotation_orgdb3.4010.0563.461
hi_loadings4.7340.0354.776
limmaquickpca2go3.1100.0403.152
makeExampleDESeqDataSet_multifac2.2640.0202.285
pair_corr3.0040.0433.048
pca2go3.8410.0453.888
pcaExplorer2.8120.0352.849
pcaplot5.3090.0255.338
pcaplot3d4.8110.0564.873
pcascree5.3510.0135.370
plotPCcorrs5.2150.0235.244
topGOtable2.8840.0442.930