Back to Multiple platform build/check report for BioC 3.14
ABCDEFGHIJKLMNO[P]QRSTUVWXYZ

This page was generated on 2022-01-17 13:06:44 -0500 (Mon, 17 Jan 2022).

HostnameOSArch (*)R versionInstalled pkgs
nebbiolo2Linux (Ubuntu 20.04.4 LTS)x86_644.1.2 (2021-11-01) -- "Bird Hippie" 4328
tokay2Windows Server 2012 R2 Standardx644.1.2 (2021-11-01) -- "Bird Hippie" 4077
machv2macOS 10.14.6 Mojavex86_644.1.2 (2021-11-01) -- "Bird Hippie" 4138
Click on any hostname to see more info about the system (e.g. compilers)      (*) as reported by 'uname -p', except on Windows and Mac OS X

BUILD BIN results for pathview on tokay2


To the developers/maintainers of the pathview package:
- Please allow up to 24 hours (and sometimes 48 hours) for your latest push to git@git.bioconductor.org:packages/pathview.git to
reflect on this report. See How and When does the builder pull? When will my changes propagate? here for more information.
- Make sure to use the following settings in order to reproduce any error or warning you see on this page.

raw results

Package 1380/2083HostnameOS / ArchINSTALLBUILDCHECKBUILD BIN
pathview 1.34.0  (landing page)
Weijun Luo
Snapshot Date: 2022-01-16 01:55:05 -0500 (Sun, 16 Jan 2022)
git_url: https://git.bioconductor.org/packages/pathview
git_branch: RELEASE_3_14
git_last_commit: a878890
git_last_commit_date: 2021-10-26 12:07:10 -0500 (Tue, 26 Oct 2021)
nebbiolo2Linux (Ubuntu 20.04.4 LTS) / x86_64  OK    OK    WARNINGS  UNNEEDED, same version is already published
tokay2Windows Server 2012 R2 Standard / x64  OK    OK    WARNINGS    OK  UNNEEDED, same version is already published
machv2macOS 10.14.6 Mojave / x86_64  OK    OK    WARNINGS    OK  UNNEEDED, same version is already published

Summary

Package: pathview
Version: 1.34.0
Command: rm -rf pathview.buildbin-libdir && mkdir pathview.buildbin-libdir && C:\Users\biocbuild\bbs-3.14-bioc\R\bin\R.exe CMD INSTALL --merge-multiarch --build --library=pathview.buildbin-libdir pathview_1.34.0.tar.gz
StartedAt: 2022-01-17 07:50:19 -0500 (Mon, 17 Jan 2022)
EndedAt: 2022-01-17 07:50:52 -0500 (Mon, 17 Jan 2022)
EllapsedTime: 32.5 seconds
RetCode: 0
Status:   OK  
PackageFile: pathview_1.34.0.zip
PackageFileSize: 2.516 MiB

Command output

##############################################################################
##############################################################################
###
### Running command:
###
###   rm -rf pathview.buildbin-libdir && mkdir pathview.buildbin-libdir && C:\Users\biocbuild\bbs-3.14-bioc\R\bin\R.exe CMD INSTALL --merge-multiarch --build --library=pathview.buildbin-libdir pathview_1.34.0.tar.gz
###
##############################################################################
##############################################################################



install for i386

* installing *source* package 'pathview' ...
** using staged installation
** R
** data
*** moving datasets to lazyload DB
** inst
** byte-compile and prepare package for lazy loading
** help
*** installing help indices
  converting help for package 'pathview'
    finding HTML links ... done
    combineKEGGnodes                        html  
    cpd.accs                                html  
    cpdidmap                                html  
    demo.data                               html  
    download.kegg                           html  
    eg2id                                   html  
    kegg.species.code                       html  
    korg                                    html  
    mol.sum                                 html  
    node.color                              html  
    node.info                               html  
    node.map                                html  
    pathview-internal                       html  
    pathview-package                        html  
    pathview                                html  
    sim.mol.data                            html  
    wordwrap                                html  
** building package indices
** installing vignettes
** testing if installed package can be loaded from temporary location
** testing if installed package can be loaded from final location
** testing if installed package keeps a record of temporary installation path

install for x64

* installing *source* package 'pathview' ...
** testing if installed package can be loaded
* MD5 sums
packaged installation of 'pathview' as pathview_1.34.0.zip
* DONE (pathview)