![]() | Name | Last modified | Size | Description |
---|---|---|---|---|
![]() | Parent Directory | - | ||
![]() | checksrc-summary.dcf | 14-Apr-2022 01:05 | 422 | |
![]() | checksrc-out.txt | 14-Apr-2022 01:05 | 6.5K | |
![]() | buildsrc-summary.dcf | 14-Apr-2022 01:05 | 412 | |
![]() | buildsrc-out.txt | 14-Apr-2022 01:05 | 828 | |
![]() | install-summary.dcf | 14-Apr-2022 01:05 | 255 | |
![]() | install-out.txt | 14-Apr-2022 01:05 | 1.9K | |