Back to Multiple platform build/check report for BioC 3.14
ABCDEFGHIJKLM[N]OPQRSTUVWXYZ

This page was generated on 2021-08-04 12:04:16 -0400 (Wed, 04 Aug 2021).

All results for package nucleR

To the developers/maintainers of the nucleR package:
- Please allow up to 24 hours (and sometimes 48 hours) for your latest push to git@git.bioconductor.org:packages/nucleR.git to
reflect on this report. See How and When does the builder pull? When will my changes propagate? here for more information.
- Make sure to use the following settings in order to reproduce any error or warning you see on this page.

raw results

Package 1270/2015HostnameOS / ArchINSTALLBUILDCHECKBUILD BIN
nucleR 2.25.0  (landing page)
Alba Sala
Snapshot Date: 2021-08-03 14:50:07 -0400 (Tue, 03 Aug 2021)
URL: https://git.bioconductor.org/packages/nucleR
Branch: master
Last Commit: 6b364a0
Last Changed Date: 2021-05-19 11:49:18 -0400 (Wed, 19 May 2021)
nebbiolo2Linux (Ubuntu 20.04.2 LTS) / x86_64  OK    OK    WARNINGS  UNNEEDED, same version is already published
riesling1Windows Server 2019 Standard / x64  OK    OK    WARNINGS    OK  UNNEEDED, same version is already published
merida1macOS 10.14.6 Mojave / x86_64  OK    OK    WARNINGS    OK  UNNEEDED, same version is already published