Back to Multiple platform build/check report for BioC 3.14
ABCDEFGHIJKLM[N]OPQRSTUVWXYZ

This page was generated on 2021-11-29 15:05:02 -0500 (Mon, 29 Nov 2021).

BUILD results for netDx on nebbiolo2

To the developers/maintainers of the netDx package:
- Please allow up to 24 hours (and sometimes 48 hours) for your latest push to git@git.bioconductor.org:packages/netDx.git to
reflect on this report. See How and When does the builder pull? When will my changes propagate? here for more information.
- Make sure to use the following settings in order to reproduce any error or warning you see on this page.

raw results

Package 1284/2083HostnameOS / ArchINSTALLBUILDCHECKBUILD BIN
netDx 1.6.0  (landing page)
Shraddha Pai
Snapshot Date: 2021-11-28 04:15:06 -0500 (Sun, 28 Nov 2021)
git_url: https://git.bioconductor.org/packages/netDx
git_branch: RELEASE_3_14
git_last_commit: 85f6f3b
git_last_commit_date: 2021-10-26 12:57:05 -0500 (Tue, 26 Oct 2021)
nebbiolo2Linux (Ubuntu 20.04.3 LTS) / x86_64  OK    OK    OK  UNNEEDED, same version is already published
tokay2Windows Server 2012 R2 Standard / x64... NOT SUPPORTED ...
machv2macOS 10.14.6 Mojave / x86_64  OK    OK    OK    OK  UNNEEDED, same version is already published

Summary

Package: netDx
Version: 1.6.0
Command: /home/biocbuild/bbs-3.14-bioc/R/bin/R CMD build --keep-empty-dirs --no-resave-data netDx
StartedAt: 2021-11-28 06:57:01 -0500 (Sun, 28 Nov 2021)
EndedAt: 2021-11-28 07:27:57 -0500 (Sun, 28 Nov 2021)
EllapsedTime: 1856.7 seconds
RetCode: 0
Status:   OK  
PackageFile: netDx_1.6.0.tar.gz
PackageFileSize: 3.86 MiB

Command output

##############################################################################
##############################################################################
###
### Running command:
###
###   /home/biocbuild/bbs-3.14-bioc/R/bin/R CMD build --keep-empty-dirs --no-resave-data netDx
###
##############################################################################
##############################################################################


* checking for file ‘netDx/DESCRIPTION’ ... OK
* preparing ‘netDx’:
* checking DESCRIPTION meta-information ... OK
* installing the package to build vignettes
* creating vignettes ... OK
* checking for LF line-endings in source and make files and shell scripts
* checking for empty or unneeded directories
* looking to see if a ‘data/datalist’ file should be added
* building ‘netDx_1.6.0.tar.gz’