Back to Multiple platform build/check report for BioC 3.14

This page was generated on 2021-10-23 14:07:23 -0400 (Sat, 23 Oct 2021).

All results on nebbiolo2


Package status is indicated by one of the following glyphs
  TIMEOUT  
INSTALL, BUILD, CHECK or BUILD BIN of package took more than 40 minutes
  ERROR  
Bad DESCRIPTION file or INSTALL, BUILD or BUILD BIN of package failed, or CHECK produced errors
  WARNINGS  
CHECK of package produced warnings
  OK  
INSTALL, BUILD, CHECK or BUILD BIN of package was OK
skipped
CHECK or BUILD BIN of package was skipped because the BUILD step failed
  NA  
BUILD, CHECK or BUILD BIN result is not available because of an anomaly in the Build System
Click on any glyph in the report below to access the detailed report.
Package propagation status is indicated by one of the following LEDs
YES YES: Package was propagated because it didn't previously exist or version was bumped
NO NO: Package was not propagated because of a problem (impossible dependencies, or version lower than what is already propagated)
UNNEEDED UNNEEDED: Package was not propagated because it is already in the repository with this version. A version bump is required in order to propagate it

A crossed-out package name indicates the package is deprecated


QUICK STATSOS / ArchINSTALLBUILDCHECKBUILD BIN
nebbiolo2Linux (Ubuntu 20.04.2 LTS) / x86_64
0122071
0482035
1263041704
riesling1Windows Server 2019 Standard / x64
0182039
3751968
1492901639
041975
merida1macOS 10.14.6 Mojave / x86_64
0132062
2522021
1222941704
002021
A
ABCDEFGHIJKLMNOPQRSTUVWXYZ
PackageMaintainerINSTALLBUILDCHECKBUILD BIN
1/2083a4 1.41.0  (landing page)Laure Cougnaud  OK    OK    OK  UNNEEDED, same version is already published
2/2083a4Base 1.41.0  (landing page)Laure Cougnaud  OK    OK    OK  UNNEEDED, same version is already published
3/2083a4Classif 1.41.1  (landing page)Laure Cougnaud  OK    OK    OK  UNNEEDED, same version is already published
4/2083a4Core 1.41.0  (landing page)Laure Cougnaud  OK    OK    OK  UNNEEDED, same version is already published
5/2083a4Preproc 1.41.0  (landing page)Laure Cougnaud  OK    OK    OK  UNNEEDED, same version is already published
6/2083a4Reporting 1.41.0  (landing page)Laure Cougnaud  OK    OK    OK  UNNEEDED, same version is already published
7/2083ABAEnrichment 1.23.0  (landing page)Steffi Grote  OK    OK    OK  UNNEEDED, same version is already published
8/2083ABarray 1.61.0  (landing page)Yongming Andrew Sun  OK    OK    OK  UNNEEDED, same version is already published
9/2083abseqR 1.11.0  (landing page)JiaHong Fong  OK    OK    OK  UNNEEDED, same version is already published
10/2083ABSSeq 1.47.0  (landing page)Wentao Yang  OK    OK    OK  UNNEEDED, same version is already published
11/2083acde 1.23.0  (landing page)Juan Pablo Acosta  OK    OK    OK  UNNEEDED, same version is already published
12/2083ACE 1.11.0  (landing page)Jos B Poell  OK    OK    OK  UNNEEDED, same version is already published
13/2083aCGH 1.71.0  (landing page)Peter Dimitrov  OK    OK    OK  UNNEEDED, same version is already published
14/2083ACME 2.49.0  (landing page)Sean Davis  OK    OK    WARNINGS  UNNEEDED, same version is already published
15/2083ADaCGH2 2.33.0  (landing page)Ramon Diaz-Uriarte  OK    OK    OK  UNNEEDED, same version is already published
16/2083ADAM 1.9.5  (landing page)Jose Luiz Rybarczyk Filho  OK    OK    OK  UNNEEDED, same version is already published
17/2083ADAMgui 1.9.3  (landing page)Jose Luiz Rybarczyk Filho  OK    OK    OK  UNNEEDED, same version is already published
18/2083adductomicsR 1.9.0  (landing page)Josie Hayes  OK    OK    WARNINGS  UNNEEDED, same version is already published
19/2083ADImpute 1.3.0  (landing page)Ana Carolina Leote  OK    OK    WARNINGS  UNNEEDED, same version is already published
20/2083adSplit 1.63.0  (landing page)Claudio Lottaz  OK    OK    OK  UNNEEDED, same version is already published
21/2083AffiXcan 1.11.0  (landing page)Alessandro Lussana  OK    OK    OK  UNNEEDED, same version is already published
22/2083affxparser 1.65.3  (landing page)Kasper Daniel Hansen  OK    OK    WARNINGS  UNNEEDED, same version is already published
23/2083affy 1.71.0  (landing page)Rafael A. Irizarry  OK    OK    WARNINGS  UNNEEDED, same version is already published
24/2083affycomp 1.69.0  (landing page)Rafael A. Irizarry  OK    OK    OK  UNNEEDED, same version is already published
25/2083AffyCompatible 1.53.0  (landing page)Martin Morgan  OK    OK    OK  UNNEEDED, same version is already published
26/2083affyContam 1.51.0  (landing page)V. Carey  OK    OK    OK  UNNEEDED, same version is already published
27/2083affycoretools 1.65.0  (landing page)James W. MacDonald  OK    OK    WARNINGS  UNNEEDED, same version is already published
28/2083affyILM 1.45.0  (landing page)Myriam Kroll and Fabrice Berger  OK    OK    OK  UNNEEDED, same version is already published
29/2083affyio 1.63.2  (landing page)Ben Bolstad  OK    OK    WARNINGS  UNNEEDED, same version is already published
30/2083affylmGUI 1.67.0  (landing page)Gordon Smyth  OK    OK    OK  UNNEEDED, same version is already published
31/2083affyPara 1.53.1  (landing page)Markus Schmidberger  ERROR    ERROR  skipped
32/2083affyPLM 1.69.0  (landing page)Ben Bolstad  OK    OK    WARNINGS  UNNEEDED, same version is already published
33/2083AffyRNADegradation 1.39.0  (landing page)Mario Fasold  OK    OK    OK  UNNEEDED, same version is already published
34/2083AGDEX 1.41.0  (landing page)Cuilan lani Gao  OK    OK    OK  UNNEEDED, same version is already published
35/2083aggregateBioVar 1.3.0  (landing page)Jason Ratcliff  OK    OK    OK  UNNEEDED, same version is already published
36/2083agilp 3.25.0  (landing page)Benny Chain  OK    OK    OK  UNNEEDED, same version is already published
37/2083AgiMicroRna 2.43.0  (landing page)Pedro Lopez-Romero  OK    OK    OK  UNNEEDED, same version is already published
38/2083AIMS 1.25.0  (landing page)Eric R Paquet  OK    OK    OK  UNNEEDED, same version is already published
39/2083airpart 1.1.5  (landing page)Wancen Mu  OK    OK    OK  YES
40/2083ALDEx2 1.25.2  (landing page)Greg Gloor  OK    OK    OK  UNNEEDED, same version is already published
41/2083alevinQC 1.9.0  (landing page)Charlotte Soneson  OK    OK    OK  UNNEEDED, same version is already published
42/2083AllelicImbalance 1.31.0  (landing page)Jesper R Gadin  OK    OK    OK  UNNEEDED, same version is already published
43/2083AlphaBeta 1.7.1  (landing page)Yadollah Shahryary Dizaji  OK    OK    OK  UNNEEDED, same version is already published
44/2083alpine 1.19.1  (landing page)Michael Love  OK    OK    OK  UNNEEDED, same version is already published
45/2083ALPS 1.7.1  (landing page)Venu Thatikonda  OK    ERROR  skipped
46/2083AlpsNMR 3.3.4  (landing page)Sergio Oller Moreno  OK    OK    OK  UNNEEDED, same version is already published
47/2083alsace 1.29.1  (landing page)Ron Wehrens  OK    OK    WARNINGS  UNNEEDED, same version is already published
48/2083altcdfenvs 2.55.0  (landing page)Laurent Gautier  OK    OK    OK  UNNEEDED, same version is already published
49/2083AMARETTO 1.9.0  (landing page)Olivier Gevaert  OK    OK    OK  UNNEEDED, same version is already published
50/2083AMOUNTAIN 1.19.0  (landing page)Dong Li  OK    OK    OK  UNNEEDED, same version is already published
51/2083amplican 1.15.6  (landing page)Eivind Valen  OK    OK    OK  YES
52/2083Anaquin 2.17.0  (landing page)Ted Wong  OK    OK    OK  UNNEEDED, same version is already published
53/2083ANCOMBC 1.3.2  (landing page)Huang Lin  OK    OK    OK  UNNEEDED, same version is already published
54/2083AneuFinder 1.21.0  (landing page)Aaron Taudt  OK    OK    OK  UNNEEDED, same version is already published
55/2083ANF 1.15.0  (landing page)Tianle Ma  OK    OK    OK  UNNEEDED, same version is already published
56/2083animalcules 1.9.3  (landing page)Yue Zhao  OK    OK    OK  UNNEEDED, same version is already published
57/2083annaffy 1.65.2  (landing page)Colin A. Smith  OK    OK    WARNINGS  UNNEEDED, same version is already published
58/2083annmap 1.35.0  (landing page)Chris Wirth  OK    OK    WARNINGS  UNNEEDED, same version is already published
59/2083annotate 1.71.0  (landing page)Bioconductor Package Maintainer  OK    OK    OK  UNNEEDED, same version is already published
60/2083AnnotationDbi 1.55.2  (landing page)Bioconductor Package Maintainer  OK    OK    OK  UNNEEDED, same version is already published
61/2083AnnotationFilter 1.17.1  (landing page)Bioconductor Package Maintainer  OK    OK    OK  UNNEEDED, same version is already published
62/2083AnnotationForge 1.35.2  (landing page)Bioconductor Package Maintainer  OK    OK    OK  UNNEEDED, same version is already published
63/2083AnnotationHub 3.1.7  (landing page)Bioconductor Package Maintainer  OK    OK    WARNINGS  UNNEEDED, same version is already published
64/2083AnnotationHubData 1.23.3  (landing page)Bioconductor Package Maintainer  OK    OK    WARNINGS  UNNEEDED, same version is already published
65/2083annotationTools 1.67.0  (landing page)Alexandre Kuhn  OK    OK    OK  UNNEEDED, same version is already published
66/2083annotatr 1.19.2  (landing page)Raymond G. Cavalcante  OK    OK    OK  YES
67/2083anota 1.41.0  (landing page)Ola Larsson  OK    OK    OK  UNNEEDED, same version is already published
68/2083anota2seq 1.15.0  (landing page)Christian Oertlin , Julie Lorent  OK    OK    OK  UNNEEDED, same version is already published
69/2083antiProfiles 1.33.0  (landing page)Hector Corrada Bravo  OK    OK    OK  UNNEEDED, same version is already published
70/2083AnVIL 1.5.7  (landing page)Martin Morgan  OK    OK    OK  UNNEEDED, same version is already published
71/2083AnVILBilling 1.3.1  (landing page)Vince Carey  OK    OK    OK  UNNEEDED, same version is already published
72/2083AnVILPublish 1.3.2  (landing page)Martin Morgan  OK    OK    OK  UNNEEDED, same version is already published
73/2083APAlyzer 1.7.3  (landing page)Ruijia Wang  OK    OK    WARNINGS  UNNEEDED, same version is already published
74/2083apComplex 2.59.0  (landing page)Denise Scholtens  OK    OK    OK  UNNEEDED, same version is already published
75/2083apeglm 1.15.0  (landing page)Anqi Zhu  OK    OK    OK  UNNEEDED, same version is already published
76/2083appreci8R 1.11.1  (landing page)Sarah Sandmann  OK    OK    OK  UNNEEDED, same version is already published
77/2083aroma.light 3.23.1  (landing page)Henrik Bengtsson  OK    OK    OK  UNNEEDED, same version is already published
78/2083ArrayExpress 1.53.0  (landing page)Suhaib Mohammed  OK    OK    OK  UNNEEDED, same version is already published
79/2083ArrayExpressHTS 1.43.0  (landing page)Angela Goncalves , Andrew Tikhonov  OK    OK    WARNINGS  UNNEEDED, same version is already published
80/2083arrayMvout 1.51.0  (landing page)V. Carey  OK    OK    OK  UNNEEDED, same version is already published
81/2083arrayQuality 1.71.0  (landing page)Agnes Paquet  OK    OK    WARNINGS  UNNEEDED, same version is already published
82/2083arrayQualityMetrics 3.49.0  (landing page)Mike Smith  OK    OK    OK  UNNEEDED, same version is already published
83/2083ARRmNormalization 1.33.0  (landing page)Jean-Philippe Fortin  OK    OK    OK  UNNEEDED, same version is already published
84/2083artMS 1.11.2  (landing page)David Jimenez-Morales  OK    OK    OK  UNNEEDED, same version is already published
85/2083ASAFE 1.19.0  (landing page)Qian Zhang  OK    OK    OK  UNNEEDED, same version is already published
86/2083ASEB 1.37.0  (landing page)Likun Wang  OK    OK    OK  UNNEEDED, same version is already published
87/2083ASGSCA 1.27.0  (landing page)Hela Romdhani  OK    OK    OK  UNNEEDED, same version is already published
88/2083ASICS 2.9.2  (landing page)Gaëlle Lefort  OK    OK    WARNINGS  UNNEEDED, same version is already published
89/2083ASpediaFI 1.7.0  (landing page)Doyeong Yu  OK    OK    OK  UNNEEDED, same version is already published
90/2083ASpli 2.3.1  (landing page)Estefania Mancini  OK    OK    OK  UNNEEDED, same version is already published
91/2083AssessORF 1.11.0  (landing page)Deepank Korandla  OK    OK    OK  UNNEEDED, same version is already published
92/2083ASSET 2.11.1  (landing page)Samsiddhi Bhattacharjee  OK    OK    OK  UNNEEDED, same version is already published
93/2083ASSIGN 1.29.1  (landing page)Ying Shen , W. Evan Johnson  OK    OK    OK  UNNEEDED, same version is already published
94/2083ATACseqQC 1.17.1  (landing page)Jianhong Ou  OK    OK    OK  UNNEEDED, same version is already published
95/2083atena 0.99.43  (landing page)Beatriz Calvo-Serra  OK    OK    OK  UNNEEDED, same version is already published
96/2083atSNP 1.9.0  (landing page)Sunyoung Shin  OK    OK    OK  UNNEEDED, same version is already published
97/2083attract 1.45.1  (landing page)Samuel Zimmerman  OK    OK    OK  UNNEEDED, same version is already published
98/2083AUCell 1.15.0  (landing page)Sara Aibar  OK    OK    OK  UNNEEDED, same version is already published
99/2083autonomics 1.1.7  (landing page)Aditya Bhagwat  OK    OK    WARNINGS  UNNEEDED, same version is already published
100/2083Autotuner 1.7.0  (landing page)Craig McLean  OK    ERROR  skipped
101/2083AWFisher 1.7.0  (landing page)Zhiguang Huo  OK    OK    OK  UNNEEDED, same version is already published
102/2083awst 1.1.1  (landing page)Davide Risso  OK    OK    OK  UNNEEDED, same version is already published
B
ABCDEFGHIJKLMNOPQRSTUVWXYZ
PackageMaintainerINSTALLBUILDCHECKBUILD BIN
103/2083BaalChIP 1.19.0  (landing page)Ines de Santiago  OK    OK    WARNINGS  UNNEEDED, same version is already published
104/2083BAC 1.53.0  (landing page)Raphael Gottardo  OK    OK    OK  UNNEEDED, same version is already published
105/2083bacon 1.21.0  (landing page)Maarten van Iterson  OK    OK    OK  UNNEEDED, same version is already published
106/2083BADER 1.31.0  (landing page)Andreas Neudecker  OK    OK    OK  UNNEEDED, same version is already published
107/2083BadRegionFinder 1.21.0  (landing page)Sarah Sandmann  OK    OK    OK  UNNEEDED, same version is already published
108/2083BAGS 2.33.0  (landing page)Alejandro Quiroz-Zarate  OK    OK    OK  UNNEEDED, same version is already published
109/2083ballgown 2.25.1  (landing page)Jack Fu  OK    OK    OK  UNNEEDED, same version is already published
110/2083bambu 1.99.2  (landing page)Ying Chen  OK    OK    OK  UNNEEDED, same version is already published
111/2083bamsignals 1.25.0  (landing page)Johannes Helmuth  OK    OK    OK  UNNEEDED, same version is already published
112/2083BANDITS 1.9.0  (landing page)Simone Tiberi  OK    OK    OK  UNNEEDED, same version is already published
113/2083banocc 1.17.0  (landing page)George Weingart  OK    OK    OK  UNNEEDED, same version is already published
114/2083barcodetrackR 1.1.0  (landing page)Diego Alexander Espinoza  OK    OK    OK  UNNEEDED, same version is already published
115/2083basecallQC 1.17.0  (landing page)Thomas Carroll  OK    OK    OK  UNNEEDED, same version is already published
116/2083BaseSpaceR 1.37.0  (landing page)Jared O'Connell  OK    OK    OK  UNNEEDED, same version is already published
117/2083Basic4Cseq 1.29.0  (landing page)Carolin Walter  OK    OK    OK  UNNEEDED, same version is already published
118/2083BASiCS 2.5.7  (landing page)Alan O'Callaghan  OK    OK    OK  UNNEEDED, same version is already published
119/2083BasicSTARRseq 1.21.0  (landing page)Annika Buerger  OK    OK    OK  UNNEEDED, same version is already published
120/2083basilisk 1.5.0  (landing page)Aaron Lun  OK    OK    OK  UNNEEDED, same version is already published
121/2083basilisk.utils 1.5.0  (landing page)Aaron Lun  OK    OK    OK  UNNEEDED, same version is already published
122/2083batchelor 1.9.1  (landing page)Aaron Lun  OK    OK    OK  UNNEEDED, same version is already published
123/2083BatchQC 1.21.0  (landing page)Solaiappan Manimaran  OK    OK    OK  UNNEEDED, same version is already published
124/2083BayesKnockdown 1.19.0  (landing page)William Chad Young  OK    OK    OK  UNNEEDED, same version is already published
125/2083BayesSpace 1.3.1  (landing page)Matt Stone  OK    OK    OK  UNNEEDED, same version is already published
126/2083bayNorm 1.11.0  (landing page)Wenhao Tang  OK    OK    OK  UNNEEDED, same version is already published
127/2083baySeq 2.27.0  (landing page)Thomas J. Hardcastle  OK    OK    OK  UNNEEDED, same version is already published
128/2083BBCAnalyzer 1.23.0  (landing page)Sarah Sandmann  OK    OK    OK  UNNEEDED, same version is already published
129/2083BCRANK 1.55.0  (landing page)Adam Ameur  OK    OK    OK  UNNEEDED, same version is already published
130/2083bcSeq 1.15.0  (landing page)Jiaxing Lin  OK    OK    WARNINGS  UNNEEDED, same version is already published
131/2083BDMMAcorrect 1.11.0  (landing page)ZHENWEI DAI  OK    OK    OK  UNNEEDED, same version is already published
132/2083beachmat 2.9.1  (landing page)Aaron Lun  OK    OK    OK  UNNEEDED, same version is already published
133/2083beadarray 2.43.0  (landing page)Mark Dunning  OK    OK    OK  UNNEEDED, same version is already published
134/2083beadarraySNP 1.59.0  (landing page)Jan Oosting  OK    OK    OK  UNNEEDED, same version is already published
135/2083BeadDataPackR 1.45.0  (landing page)Mike Smith  OK    OK    OK  UNNEEDED, same version is already published
136/2083BEARscc 1.13.0  (landing page)Benjamin Schuster-Boeckler  OK    OK    OK  UNNEEDED, same version is already published
137/2083BEAT 1.31.0  (landing page)Kemal Akman  OK    OK    OK  UNNEEDED, same version is already published
138/2083BEclear 2.9.2  (landing page)David Rasp  OK    OK    OK  UNNEEDED, same version is already published
139/2083benchdamic 0.99.4  (landing page)Matteo Calgaro  OK    OK    OK  UNNEEDED, same version is already published
140/2083BgeeCall 1.9.0  (landing page)Julien Wollbrett  OK    OK    OK  UNNEEDED, same version is already published
141/2083BgeeDB 2.19.1  (landing page)Julien Wollbrett , Julien Roux , Andrea Komljenovic , Frederic Bastian  OK    OK    OK  UNNEEDED, same version is already published
142/2083BGmix 1.53.0  (landing page)Alex Lewin  OK    OK    WARNINGS  UNNEEDED, same version is already published
143/2083bgx 1.59.0  (landing page)Ernest Turro  OK    OK    OK  UNNEEDED, same version is already published
144/2083BHC 1.45.0  (landing page)Rich Savage  OK    OK    OK  UNNEEDED, same version is already published
145/2083BicARE 1.51.0  (landing page)Pierre Gestraud  OK    OK    OK  UNNEEDED, same version is already published
146/2083BiFET 1.13.1  (landing page)Ahrim Youn  OK    OK    OK  UNNEEDED, same version is already published
147/2083BiGGR 1.29.0  (landing page)Anand K. Gavai  OK    OK    OK  UNNEEDED, same version is already published
148/2083bigmelon 1.19.4  (landing page)Tyler J. Gorrie-Stone  OK    OK    WARNINGS  UNNEEDED, same version is already published
149/2083bigPint 1.9.0  (landing page)Lindsay Rutter  OK    OK    WARNINGS  UNNEEDED, same version is already published
150/2083BindingSiteFinder 0.99.10  (landing page)Mirko Brüggemann  OK    OK    OK  UNNEEDED, same version is already published
151/2083bioassayR 1.31.0  (landing page)Daniela Cassol  OK    OK    OK  UNNEEDED, same version is already published
152/2083Biobase 2.53.0  (landing page)Bioconductor Package Maintainer  OK    OK    OK  UNNEEDED, same version is already published
153/2083biobroom 1.25.1  (landing page)John D. Storey and Andrew J. Bass  OK    OK    WARNINGS  UNNEEDED, same version is already published
154/2083biobtreeR 1.5.0  (landing page)Tamer Gur  OK    OK    OK  UNNEEDED, same version is already published
155/2083bioCancer 1.21.02  (landing page)Karim Mezhoud  OK    OK    OK  UNNEEDED, same version is already published
156/2083BiocCheck 1.29.16  (landing page)Bioconductor Package Maintainer  OK    OK    OK  UNNEEDED, same version is already published
157/2083BiocDockerManager 1.5.0  (landing page)Bioconductor Package Maintainer  OK    OK    OK  UNNEEDED, same version is already published
158/2083BiocFileCache 2.1.1  (landing page)Lori Shepherd  OK    OK    OK  UNNEEDED, same version is already published
159/2083BiocGenerics 0.39.2  (landing page)Bioconductor Package Maintainer  OK    OK    WARNINGS  UNNEEDED, same version is already published
160/2083biocGraph 1.55.0  (landing page)Florian Hahne  OK    OK    OK  UNNEEDED, same version is already published
161/2083BiocIO 1.3.0  (landing page)Bioconductor Package Maintainer  OK    OK    OK  UNNEEDED, same version is already published
162/2083BiocNeighbors 1.11.0  (landing page)Aaron Lun  OK    OK    OK  UNNEEDED, same version is already published
163/2083BiocOncoTK 1.13.2  (landing page)VJ Carey  OK    OK    OK  UNNEEDED, same version is already published
164/2083BioCor 1.17.0  (landing page)Lluís Revilla Sancho  OK    OK    OK  UNNEEDED, same version is already published
165/2083BiocParallel 1.27.17  (landing page)Bioconductor Package Maintainer  OK    OK    OK  UNNEEDED, same version is already published
166/2083BiocPkgTools 1.11.19  (landing page)Sean Davis  OK    OK    OK  UNNEEDED, same version is already published
167/2083BiocSet 1.7.2  (landing page)Kayla Morrell  OK    OK    OK  UNNEEDED, same version is already published
168/2083BiocSingular 1.9.1  (landing page)Aaron Lun  OK    OK    OK  UNNEEDED, same version is already published
169/2083BiocSklearn 1.15.0  (landing page)Vince Carey  OK    OK    OK  UNNEEDED, same version is already published
170/2083BiocStyle 2.21.4  (landing page)Bioconductor Package  OK    OK    OK  UNNEEDED, same version is already published
171/2083biocthis 1.3.8  (landing page)Leonardo Collado-Torres  OK    OK    OK  UNNEEDED, same version is already published
172/2083BiocVersion 3.14.0  (landing page)Bioconductor Package Maintainer  OK    OK    OK  UNNEEDED, same version is already published
173/2083biocViews 1.61.3  (landing page)Bioconductor Package Maintainer  OK    OK    OK  UNNEEDED, same version is already published
174/2083BiocWorkflowTools 1.19.0  (landing page)Mike Smith  OK    OK    OK  UNNEEDED, same version is already published
175/2083biodb 1.1.16  (landing page)Pierrick Roger  OK    OK    OK  UNNEEDED, same version is already published
176/2083biodbChebi 0.99.6  (landing page)Pierrick Roger  OK    OK    OK  UNNEEDED, same version is already published
177/2083biodbHmdb 0.99.5  (landing page)Pierrick Roger  OK    OK    OK  YES
178/2083biodbKegg 0.99.4  (landing page)Pierrick Roger  OK    OK    OK  UNNEEDED, same version is already published
179/2083biodbLipidmaps 0.99.3  (landing page)Pierrick Roger  OK    OK    OK  YES
180/2083biodbUniprot 0.99.4  (landing page)Pierrick Roger  OK    OK    OK  UNNEEDED, same version is already published
181/2083bioDist 1.65.0  (landing page)Bioconductor Package Maintainer  OK    OK    OK  UNNEEDED, same version is already published
182/2083biomaRt 2.49.7  (landing page)Mike Smith  OK    OK    OK  UNNEEDED, same version is already published
183/2083biomformat 1.21.0  (landing page)Paul J. McMurdie  OK    OK    WARNINGS  UNNEEDED, same version is already published
184/2083BioMM 1.9.0  (landing page)Junfang Chen  OK    OK    OK  UNNEEDED, same version is already published
185/2083BioMVCClass 1.61.0  (landing page)Elizabeth Whalen  OK    OK    OK  UNNEEDED, same version is already published
186/2083biomvRCNS 1.33.0  (landing page)Yang Du  OK    OK    OK  UNNEEDED, same version is already published
187/2083BioNERO 1.1.7  (landing page)Fabricio Almeida-Silva  OK    OK    OK  UNNEEDED, same version is already published
188/2083BioNet 1.53.0  (landing page)Marcus Dittrich  OK    OK    OK  UNNEEDED, same version is already published
189/2083BioNetStat 1.13.0  (landing page)Vinicius Jardim  OK    OK    OK  UNNEEDED, same version is already published
190/2083BioPlex 0.99.14  (landing page)Ludwig Geistlinger  OK    OK    OK  UNNEEDED, same version is already published
191/2083BioQC 1.21.4  (landing page)Jitao David Zhang  OK    OK    OK  UNNEEDED, same version is already published
192/2083biosigner 1.21.0  (landing page)Philippe Rinaudo , Etienne Thevenot  OK    OK    OK  UNNEEDED, same version is already published
193/2083Biostrings 2.61.2  (landing page)H. Pagès  OK    OK    WARNINGS  UNNEEDED, same version is already published
194/2083BioTIP 1.7.0  (landing page)Yuxi (Jennifer) Sun , Zhezhen Wang , and X Holly Yang  OK    OK    WARNINGS  UNNEEDED, same version is already published
195/2083biotmle 1.17.1  (landing page)Nima Hejazi  OK    OK    OK  UNNEEDED, same version is already published
196/2083biovizBase 1.41.0  (landing page)Michael Lawrence  OK    OK    WARNINGS  UNNEEDED, same version is already published
197/2083BiRewire 3.25.0  (landing page)Andrea Gobbi  OK    OK    WARNINGS  UNNEEDED, same version is already published
198/2083biscuiteer 1.7.2  (landing page)"Jacob Morrison"  OK    OK    WARNINGS  UNNEEDED, same version is already published
199/2083BiSeq 1.33.0  (landing page)Katja Hebestreit  OK    OK    OK  UNNEEDED, same version is already published
200/2083BitSeq 1.37.0  (landing page)Antti Honkela , Panagiotis Papastamoulis  OK    OK    WARNINGS  UNNEEDED, same version is already published
201/2083blacksheepr 1.7.0  (landing page)RugglesLab  OK    OK    OK  UNNEEDED, same version is already published
202/2083blima 1.27.0  (landing page)Vojtěch Kulvait  OK    OK    WARNINGS  UNNEEDED, same version is already published
203/2083BLMA 1.17.0  (landing page)Hung Nguyen  OK    OK    OK  UNNEEDED, same version is already published
204/2083BloodGen3Module 1.1.1  (landing page)Darawan Rinchai  OK    OK    WARNINGS  UNNEEDED, same version is already published
205/2083bluster 1.3.2  (landing page)Aaron Lun  OK    OK    OK  UNNEEDED, same version is already published
206/2083bnbc 1.15.0  (landing page)Kipper Fletez-Brant  OK    OK    OK  UNNEEDED, same version is already published
207/2083bnem 1.1.3  (landing page)Martin Pirkl  OK    OK    OK  UNNEEDED, same version is already published
208/2083BPRMeth 1.19.0  (landing page)Chantriolnt-Andreas Kapourani  OK    OK    OK  UNNEEDED, same version is already published
209/2083BRAIN 1.39.0  (landing page)Piotr Dittwald  OK    OK    WARNINGS  UNNEEDED, same version is already published
210/2083brainflowprobes 1.7.1  (landing page)Amanda Price  OK    OK    OK  UNNEEDED, same version is already published
211/2083BrainSABER 1.3.3  (landing page)USD Biomedical Engineering  OK    OK    OK  UNNEEDED, same version is already published
212/2083BrainStars 1.37.1  (landing page)Itoshi NIKAIDO  OK    ERROR  skipped
213/2083branchpointer 1.19.0  (landing page)Beth Signal  OK    OK    OK  UNNEEDED, same version is already published
214/2083breakpointR 1.11.0  (landing page)David Porubsky  OK    OK    OK  UNNEEDED, same version is already published
215/2083brendaDb 1.7.2  (landing page)Yi Zhou  OK    OK    OK  UNNEEDED, same version is already published
216/2083BRGenomics 1.5.0  (landing page)Mike DeBerardine  OK    OK    WARNINGS  UNNEEDED, same version is already published
217/2083bridge 1.57.0  (landing page)Raphael Gottardo  OK    OK    WARNINGS  UNNEEDED, same version is already published
218/2083BridgeDbR 2.3.0  (landing page)Egon Willighagen  OK    OK    OK  UNNEEDED, same version is already published
219/2083BrowserViz 2.15.2  (landing page)Paul Shannon  OK    OK    OK  UNNEEDED, same version is already published
220/2083BSgenome 1.61.0  (landing page)H. Pagès  OK    ERROR  skipped
221/2083bsseq 1.29.0  (landing page)Kasper Daniel Hansen  OK    OK    OK  UNNEEDED, same version is already published
222/2083BubbleTree 2.23.0  (landing page)Todd Creasy , Wei Zhu  OK    OK    OK  UNNEEDED, same version is already published
223/2083BufferedMatrix 1.57.0  (landing page)Ben Bolstad  OK    OK    OK  UNNEEDED, same version is already published
224/2083BufferedMatrixMethods 1.57.0  (landing page)Ben Bolstad  OK    OK    OK  UNNEEDED, same version is already published
225/2083bugsigdbr 0.99.8  (landing page)Ludwig Geistlinger  OK    OK    OK  UNNEEDED, same version is already published
226/2083BUMHMM 1.17.0  (landing page)Alina Selega  OK    OK    OK  UNNEEDED, same version is already published
227/2083bumphunter 1.35.0  (landing page)Rafael A. Irizarry  OK    OK    ERROR  
228/2083BumpyMatrix 1.1.1  (landing page)Aaron Lun  OK    OK    OK  UNNEEDED, same version is already published
229/2083BUS 1.49.0  (landing page)Yuanhua Liu  OK    OK    OK  UNNEEDED, same version is already published
230/2083BUScorrect 1.11.0  (landing page)Xiangyu Luo  OK    OK    OK  UNNEEDED, same version is already published
231/2083BUSpaRse 1.7.1  (landing page)Lambda Moses  OK    OK    OK  UNNEEDED, same version is already published
232/2083BUSseq 0.99.18  (landing page)Fangda Song  OK    OK    OK  UNNEEDED, same version is already published
C
ABCDEFGHIJKLMNOPQRSTUVWXYZ
PackageMaintainerINSTALLBUILDCHECKBUILD BIN
233/2083CAEN 1.1.0  (landing page)Zhou Yan  OK    OK    OK  UNNEEDED, same version is already published
234/2083CAFE 1.29.0  (landing page)Sander Bollen  OK    OK    WARNINGS  UNNEEDED, same version is already published
235/2083CAGEfightR 1.13.1  (landing page)Malte Thodberg  OK    OK    OK  UNNEEDED, same version is already published
236/2083cageminer 0.99.7  (landing page)Fabrício Almeida-Silva  OK    OK    OK  UNNEEDED, same version is already published
237/2083CAGEr 1.99.0  (landing page)Charles Plessy  OK    OK    WARNINGS  UNNEEDED, same version is already published
238/2083calm 1.7.0  (landing page)Kun Liang  OK    OK    OK  UNNEEDED, same version is already published
239/2083CAMERA 1.49.0  (landing page)Steffen Neumann  OK    OK    OK  UNNEEDED, same version is already published
240/2083canceR 1.27.0  (landing page)Karim Mezhoud  OK    OK    OK  UNNEEDED, same version is already published
241/2083cancerclass 1.37.0  (landing page)Daniel Kosztyla  OK    OK    OK  UNNEEDED, same version is already published
242/2083CancerInSilico 2.13.0  (landing page)Thomas D. Sherman  OK    OK    OK  UNNEEDED, same version is already published
243/2083CancerSubtypes 1.19.0  (landing page)Taosheng Xu  OK    OK    OK  UNNEEDED, same version is already published
244/2083CAnD 1.25.0  (landing page)Caitlin McHugh  OK    OK    OK  UNNEEDED, same version is already published
245/2083caOmicsV 1.23.0  (landing page)Henry Zhang  OK    OK    OK  UNNEEDED, same version is already published
246/2083Cardinal 2.11.3  (landing page)Kylie A. Bemis  OK    OK    OK  UNNEEDED, same version is already published
247/2083CARNIVAL 2.3.0  (landing page)Olga Ivanova  OK    OK    OK  UNNEEDED, same version is already published
248/2083casper 2.27.0  (landing page)David Rossell  OK    OK    WARNINGS  UNNEEDED, same version is already published
249/2083CATALYST 1.17.3  (landing page)Helena L. Crowell  OK    OK    OK  UNNEEDED, same version is already published
250/2083Category 2.59.0  (landing page)Bioconductor Package Maintainer  OK    OK    OK  UNNEEDED, same version is already published
251/2083categoryCompare 1.37.1  (landing page)Robert M. Flight  OK    OK    OK  UNNEEDED, same version is already published
252/2083CausalR 1.25.0  (landing page)Glyn Bradley , Steven Barrett  OK    OK    OK  UNNEEDED, same version is already published
253/2083cbaf 1.15.1  (landing page)Arman Shahrisa  OK    OK    OK  UNNEEDED, same version is already published
254/2083cBioPortalData 2.5.13  (landing page)Marcel Ramos  OK    OK    WARNINGS  UNNEEDED, same version is already published
255/2083cbpManager 1.1.2  (landing page)Arsenij Ustjanzew  OK    OK    OK  UNNEEDED, same version is already published
256/2083ccfindR 1.13.0  (landing page)Jun Woo  OK    OK    OK  UNNEEDED, same version is already published
257/2083ccmap 1.19.0  (landing page)Alex Pickering  OK    OK    WARNINGS  UNNEEDED, same version is already published
258/2083CCPROMISE 1.19.0  (landing page)Xueyuan Cao  OK    OK    WARNINGS  UNNEEDED, same version is already published
259/2083ccrepe 1.29.0  (landing page)Emma Schwager ,Craig Bielski, George Weingart  OK    OK    OK  UNNEEDED, same version is already published
260/2083celaref 1.11.0  (landing page)Sarah Williams  OK    OK    OK  UNNEEDED, same version is already published
261/2083celda 1.9.3  (landing page)Joshua Campbell  OK    OK    OK  UNNEEDED, same version is already published
262/2083CellaRepertorium 1.3.1  (landing page)Andrew McDavid  OK    OK    OK  UNNEEDED, same version is already published
263/2083CellBarcode 0.99.9  (landing page)Wenjie Sun  OK    OK    OK  YES
264/2083cellbaseR 1.17.0  (landing page)Mohammed OE Abdallah  OK    OK    OK  UNNEEDED, same version is already published
265/2083CellBench 1.9.0  (landing page)Shian Su  OK    OK    OK  UNNEEDED, same version is already published
266/2083cellHTS2 2.57.0  (landing page)Joseph Barry  OK    OK    OK  UNNEEDED, same version is already published
267/2083CelliD 1.1.0  (landing page)Akira Cortal  OK    OK    OK  UNNEEDED, same version is already published
268/2083cellity 1.21.0  (landing page)Tomislav Ilicic  OK    OK    OK  UNNEEDED, same version is already published
269/2083CellMapper 1.19.0  (landing page)Brad Nelms  OK    OK    WARNINGS  UNNEEDED, same version is already published
270/2083cellmigRation 1.1.0  (landing page)Waldir Leoncio  OK    OK    OK  UNNEEDED, same version is already published
271/2083CellMixS 1.9.0  (landing page)Almut Lütge  OK    OK    OK  UNNEEDED, same version is already published
272/2083CellNOptR 1.39.2  (landing page)A.Gabor  OK    OK    OK  UNNEEDED, same version is already published
273/2083cellscape 1.17.0  (landing page)Maia Smith  OK    OK    WARNINGS  UNNEEDED, same version is already published
274/2083CellScore 1.13.0  (landing page)Nancy Mah  OK    OK    OK  UNNEEDED, same version is already published
275/2083CellTrails 1.11.0  (landing page)Daniel Ellwanger  OK    OK    OK  UNNEEDED, same version is already published
276/2083cellTree 1.23.0  (landing page)David duVerle  OK    OK    OK  UNNEEDED, same version is already published
277/2083CEMiTool 1.17.0  (landing page)Helder Nakaya  OK    OK    OK  UNNEEDED, same version is already published
278/2083censcyt 1.1.0  (landing page)Reto Gerber  OK    OK    ERROR  
279/2083Cepo 0.99.4  (landing page)Hani Jieun Kim  OK    OK    OK  UNNEEDED, same version is already published
280/2083ceRNAnetsim 1.5.0  (landing page)Selcen Ari Yuka  OK    OK    OK  UNNEEDED, same version is already published
281/2083CeTF 1.5.4  (landing page)Carlos Alberto Oliveira de Biagi Junior  OK    OK    OK  UNNEEDED, same version is already published
282/2083CexoR 1.31.4  (landing page)Pedro Madrigal  OK    OK    OK  UNNEEDED, same version is already published
283/2083CFAssay 1.27.0  (landing page)Herbert Braselmann  OK    OK    OK  UNNEEDED, same version is already published
284/2083cfDNAPro 0.99.3  (landing page)Haichao Wang  OK    OK    OK  UNNEEDED, same version is already published
285/2083CGEN 3.29.0  (landing page)Justin Lee  OK    OK    OK  UNNEEDED, same version is already published
286/2083CGHbase 1.53.0  (landing page)Mark van de Wiel  OK    OK    OK  UNNEEDED, same version is already published
287/2083CGHcall 2.55.0  (landing page)Mark van de Wiel  OK    OK    WARNINGS  UNNEEDED, same version is already published
288/2083cghMCR 1.51.0  (landing page)J. Zhang  OK    OK    WARNINGS  UNNEEDED, same version is already published
289/2083CGHnormaliter 1.47.0  (landing page)Bart P.P. van Houte  OK    OK    OK  UNNEEDED, same version is already published
290/2083CGHregions 1.51.0  (landing page)Sjoerd Vosse  OK    OK    OK  UNNEEDED, same version is already published
291/2083ChAMP 2.23.0  (landing page)Yuan Tian  OK    OK    WARNINGS  UNNEEDED, same version is already published
292/2083ChemmineOB 1.31.0  (landing page)Thomas Girke  OK    OK    WARNINGS  UNNEEDED, same version is already published
293/2083ChemmineR 3.45.2  (landing page)Thomas Girke  OK    OK    WARNINGS  UNNEEDED, same version is already published
294/2083CHETAH 1.9.0  (landing page)Jurrian de Kanter  OK    ERROR  skipped
295/2083ChIC 1.13.0  (landing page)Carmen Maria Livi  OK    OK    OK  UNNEEDED, same version is already published
296/2083Chicago 1.21.0  (landing page)Mikhail Spivakov  OK    OK    OK  UNNEEDED, same version is already published
297/2083chimeraviz 1.19.0  (landing page)Stian Lågstad  OK    OK    OK  UNNEEDED, same version is already published
298/2083ChIPanalyser 1.15.0  (landing page)Patrick C.N. Martin  OK    OK    OK  UNNEEDED, same version is already published
299/2083ChIPComp 1.23.0  (landing page)Li Chen  OK    OK    OK  UNNEEDED, same version is already published
300/2083chipenrich 2.17.0  (landing page)Raymond G. Cavalcante  OK    OK    OK  UNNEEDED, same version is already published
301/2083ChIPexoQual 1.17.0  (landing page)Rene Welch  OK    OK    OK  UNNEEDED, same version is already published
302/2083ChIPpeakAnno 3.27.7  (landing page)Jianhong Ou  OK    OK    OK  UNNEEDED, same version is already published
303/2083ChIPQC 1.29.0  (landing page)Tom Carroll , Rory Stark  OK    OK    WARNINGS  UNNEEDED, same version is already published
304/2083ChIPseeker 1.29.2  (landing page)Guangchuang Yu  OK    OK    OK  UNNEEDED, same version is already published
305/2083chipseq 1.43.0  (landing page)Bioconductor Package Maintainer  OK    OK    WARNINGS  UNNEEDED, same version is already published
306/2083ChIPseqR 1.47.0  (landing page)Peter Humburg  OK    OK    OK  UNNEEDED, same version is already published
307/2083ChIPsim 1.47.0  (landing page)Peter Humburg  OK    OK    OK  UNNEEDED, same version is already published
308/2083ChIPXpress 1.37.0  (landing page)George Wu  OK    OK    OK  UNNEEDED, same version is already published
309/2083chopsticks 1.59.0  (landing page)Hin-Tak Leung  OK    OK    WARNINGS  UNNEEDED, same version is already published
310/2083chromDraw 2.23.0  (landing page)Jan Janecka  OK    OK    WARNINGS  UNNEEDED, same version is already published
311/2083ChromHeatMap 1.47.0  (landing page)Tim F. Rayner  OK    OK    OK  UNNEEDED, same version is already published
312/2083chromPlot 1.21.0  (landing page)Karen Y. Orostica  OK    OK    OK  UNNEEDED, same version is already published
313/2083ChromSCape 1.3.22  (landing page)Pacome Prompsy  OK    OK    OK  UNNEEDED, same version is already published
314/2083chromstaR 1.19.0  (landing page)Aaron Taudt  OK    ERROR  skipped
315/2083chromswitch 1.15.0  (landing page)Selin Jessa  OK    OK    OK  UNNEEDED, same version is already published
316/2083chromVAR 1.15.0  (landing page)Alicia Schep  OK    OK    OK  UNNEEDED, same version is already published
317/2083CHRONOS 1.21.1  (landing page)Panos Balomenos  OK    OK    OK  UNNEEDED, same version is already published
318/2083cicero 1.11.1  (landing page)Hannah Pliner  OK    OK    OK  UNNEEDED, same version is already published
319/2083CIMICE 1.1.3  (landing page)Nicolò Rossi  OK    OK    OK  UNNEEDED, same version is already published
320/2083CINdex 1.21.0  (landing page)Yuriy Gusev  OK    OK    WARNINGS  UNNEEDED, same version is already published
321/2083circRNAprofiler 1.7.5  (landing page)Simona Aufiero  OK    OK    OK  UNNEEDED, same version is already published
322/2083cisPath 1.33.0  (landing page)Likun Wang  OK    OK    OK  UNNEEDED, same version is already published
323/2083CiteFuse 1.5.0  (landing page)Yingxin Lin  OK    OK    OK  UNNEEDED, same version is already published
324/2083ClassifyR 2.13.14  (landing page)Dario Strbenac  OK    OK    OK  UNNEEDED, same version is already published
325/2083cleanUpdTSeq 1.31.0  (landing page)Jianhong Ou ; Lihua Julie Zhu  OK    OK    OK  UNNEEDED, same version is already published
326/2083cleaver 1.31.0  (landing page)Sebastian Gibb  OK    OK    OK  UNNEEDED, same version is already published
327/2083clippda 1.43.0  (landing page)Stephen Nyangoma  OK    OK    WARNINGS  UNNEEDED, same version is already published
328/2083clipper 1.33.0  (landing page)Paolo Martini  OK    OK    OK  UNNEEDED, same version is already published
329/2083cliProfiler 0.99.3  (landing page)You Zhou  OK    OK    OK  UNNEEDED, same version is already published
330/2083cliqueMS 1.7.0  (landing page)Oriol Senan Campos  OK    OK    ERROR  
331/2083Clomial 1.29.0  (landing page)Habil Zare  OK    OK    OK  UNNEEDED, same version is already published
332/2083Clonality 1.41.0  (landing page)Irina Ostrovnaya  OK    OK    OK  UNNEEDED, same version is already published
333/2083clonotypeR 1.31.0  (landing page)Charles Plessy  OK    ERROR  skipped
334/2083clst 1.41.0  (landing page)Noah Hoffman  OK    OK    WARNINGS  UNNEEDED, same version is already published
335/2083clstutils 1.41.1  (landing page)Noah Hoffman  OK    OK    WARNINGS  UNNEEDED, same version is already published
336/2083CluMSID 1.9.0  (landing page)Tobias Depke  OK    OK    OK  UNNEEDED, same version is already published
337/2083clustComp 1.21.0  (landing page)Aurora Torrente  OK    OK    OK  UNNEEDED, same version is already published
338/2083clusterExperiment 2.13.2  (landing page)Elizabeth Purdom  OK    OK    WARNINGS  UNNEEDED, same version is already published
339/2083ClusterJudge 1.15.0  (landing page)Adrian Pasculescu  OK    OK    OK  UNNEEDED, same version is already published
340/2083clusterProfiler 4.1.4  (landing page)Guangchuang Yu  OK    OK    OK  UNNEEDED, same version is already published
341/2083clusterSeq 1.17.0  (landing page)Thomas J. Hardcastle  OK    OK    OK  UNNEEDED, same version is already published
342/2083ClusterSignificance 1.21.0  (landing page)Jason T Serviss  OK    OK    OK  UNNEEDED, same version is already published
343/2083clusterStab 1.65.0  (landing page)James W. MacDonald  OK    OK    OK  UNNEEDED, same version is already published
344/2083clustifyr 1.5.1  (landing page)Rui Fu  OK    OK    OK  UNNEEDED, same version is already published
345/2083CMA 1.51.0  (landing page)Roman Hornung  OK    OK    OK  UNNEEDED, same version is already published
346/2083cmapR 1.5.3  (landing page)Ted Natoli  OK    OK    OK  UNNEEDED, same version is already published
347/2083cn.farms 1.41.0  (landing page)Andreas Mitterecker  OK    OK    OK  UNNEEDED, same version is already published
348/2083cn.mops 1.39.0  (landing page)Gundula Povysil  OK    OK    OK  UNNEEDED, same version is already published
349/2083CNAnorm 1.39.0  (landing page)Stefano Berri  OK    OK    OK  UNNEEDED, same version is already published
350/2083CNEr 1.29.0  (landing page)Ge Tan  OK    OK    OK  UNNEEDED, same version is already published
351/2083CNORdt 1.35.0  (landing page)A. MacNamara  OK    OK    OK  UNNEEDED, same version is already published
352/2083CNORfeeder 1.33.0  (landing page)E.Gjerga  OK    OK    OK  UNNEEDED, same version is already published
353/2083CNORfuzzy 1.35.0  (landing page)T. Cokelaer  OK    OK    OK  UNNEEDED, same version is already published
354/2083CNORode 1.35.1  (landing page)Attila Gabor  OK    OK    OK  UNNEEDED, same version is already published
355/2083CNTools 1.49.0  (landing page)J. Zhang  OK    OK    OK  UNNEEDED, same version is already published
356/2083CNVfilteR 1.7.4  (landing page)Jose Marcos Moreno-Cabrera  OK    OK    OK  UNNEEDED, same version is already published
357/2083CNVgears 1.1.0  (landing page)Simone Montalbano  OK    OK    OK  UNNEEDED, same version is already published
358/2083cnvGSA 1.37.0  (landing page)Joseph Lugo  OK    OK    OK  UNNEEDED, same version is already published
359/2083CNViz 1.1.0  (landing page)Rebecca Greenblatt  OK    OK    OK  UNNEEDED, same version is already published
360/2083CNVPanelizer 1.25.0  (landing page)Thomas Wolf  OK    OK    OK  UNNEEDED, same version is already published
361/2083CNVRanger 1.9.0  (landing page)Ludwig Geistlinger  OK    OK    OK  UNNEEDED, same version is already published
362/2083CNVrd2 1.31.0  (landing page)Hoang Tan Nguyen  OK    OK    OK  UNNEEDED, same version is already published
363/2083CoCiteStats 1.65.0  (landing page)Bioconductor Package Maintainer  OK    OK    OK  UNNEEDED, same version is already published
364/2083COCOA 2.7.0  (landing page)John Lawson  OK    OK    OK  UNNEEDED, same version is already published
365/2083codelink 1.61.0  (landing page)Diego Diez  OK    OK    OK  UNNEEDED, same version is already published
366/2083CODEX 1.25.0  (landing page)Yuchao Jiang  OK    OK    OK  UNNEEDED, same version is already published
367/2083coexnet 1.15.0  (landing page)Juan David Henao  OK    OK    ERROR  
368/2083CoGAPS 3.13.0  (landing page)Elana J. Fertig  OK    OK    OK  UNNEEDED, same version is already published
369/2083cogena 1.27.0  (landing page)Zhilong Jia  OK    OK    WARNINGS  UNNEEDED, same version is already published
370/2083Cogito 0.99.5  (landing page)Annika Bürger  OK    OK    OK  UNNEEDED, same version is already published
371/2083coGPS 1.37.0  (landing page)Yingying Wei  OK    OK    OK  UNNEEDED, same version is already published
372/2083COHCAP 1.39.0  (landing page)Charles Warden  OK    OK    OK  UNNEEDED, same version is already published
373/2083cola 1.99.4  (landing page)Zuguang Gu  OK    OK    OK  UNNEEDED, same version is already published
374/2083combi 1.5.0  (landing page)Joris Meys  OK    OK    OK  UNNEEDED, same version is already published
375/2083coMET 1.25.0  (landing page)Tiphaine Martin  OK    OK    OK  UNNEEDED, same version is already published
376/2083compartmap 1.11.0  (landing page)Benjamin Johnson  OK    OK    OK  UNNEEDED, same version is already published
377/2083COMPASS 1.31.0  (landing page)Greg Finak  OK    OK    OK  UNNEEDED, same version is already published
378/2083compcodeR 1.29.0  (landing page)Charlotte Soneson  OK    OK    OK  UNNEEDED, same version is already published
379/2083compEpiTools 1.27.0  (landing page)Kamal Kishore  OK    OK    ERROR  
380/2083ComplexHeatmap 2.9.4  (landing page)Zuguang Gu  OK    OK    OK  UNNEEDED, same version is already published
381/2083ComPrAn 1.1.2  (landing page)Petra Palenikova  OK    OK    OK  UNNEEDED, same version is already published
382/2083conclus 1.1.002  (landing page)Ilyess Rachedi  OK    OK    OK  UNNEEDED, same version is already published
383/2083condiments 1.1.02  (landing page)Hector Roux de Bezieux  OK    OK    OK  UNNEEDED, same version is already published
384/2083CONFESS 1.21.0  (landing page)Diana LOW  OK    OK    WARNINGS  UNNEEDED, same version is already published
385/2083consensus 1.11.0  (landing page)Tim Peters  OK    OK    OK  UNNEEDED, same version is already published
386/2083ConsensusClusterPlus 1.57.0  (landing page)Matt Wilkerson  OK    OK    OK  UNNEEDED, same version is already published
387/2083consensusDE 1.11.0  (landing page)Ashley J. Waardenberg  OK    OK    OK  UNNEEDED, same version is already published
388/2083consensusOV 1.15.0  (landing page)Benjamin Haibe-Kains  OK    OK    OK  UNNEEDED, same version is already published
389/2083consensusSeekeR 1.21.0  (landing page)Astrid Deschenes  OK    OK    OK  UNNEEDED, same version is already published
390/2083CONSTANd 1.1.0  (landing page)Dirk Valkenborg  OK    OK    OK  UNNEEDED, same version is already published
391/2083contiBAIT 1.21.0  (landing page)Kieran O'Neill  OK    OK    WARNINGS  UNNEEDED, same version is already published
392/2083conumee 1.27.0  (landing page)Volker Hovestadt  OK    OK    OK  UNNEEDED, same version is already published
393/2083convert 1.69.0  (landing page)Yee Hwa (Jean) Yang  OK    OK    OK  UNNEEDED, same version is already published
394/2083copa 1.61.0  (landing page)James W. MacDonald  OK    OK    OK  UNNEEDED, same version is already published
395/2083copynumber 1.33.0  (landing page)Gro Nilsen  OK    OK    OK  UNNEEDED, same version is already published
396/2083CopyNumberPlots 1.9.4  (landing page)Bernat Gel  OK    OK    ERROR  
397/2083CopywriteR 2.25.0  (landing page)Oscar Krijgsman  OK    OK    OK  UNNEEDED, same version is already published
398/2083coRdon 1.11.0  (landing page)Anamaria Elek  OK    OK    OK  UNNEEDED, same version is already published
399/2083CoRegNet 1.31.0  (landing page)Remy Nicolle  OK    OK    WARNINGS  UNNEEDED, same version is already published
400/2083CoreGx 1.5.6  (landing page)Benjamin Haibe-Kains  OK    OK    OK  UNNEEDED, same version is already published
401/2083Cormotif 1.39.0  (landing page)Yingying Wei  OK    OK    OK  UNNEEDED, same version is already published
402/2083corral 1.3.1  (landing page)Lauren Hsu  OK    OK    OK  UNNEEDED, same version is already published
403/2083CORREP 1.59.0  (landing page)Dongxiao Zhu  OK    OK    OK  UNNEEDED, same version is already published
404/2083coseq 1.17.2  (landing page)Andrea Rau  OK    OK    OK  UNNEEDED, same version is already published
405/2083cosmiq 1.27.0  (landing page)David Fischer  OK    OK    OK  UNNEEDED, same version is already published
406/2083cosmosR 1.1.2  (landing page)Katharina Zirngibl  OK    OK    OK  YES
407/2083COSNet 1.27.0  (landing page)Marco Frasca  OK    OK    OK  UNNEEDED, same version is already published
408/2083CountClust 1.21.0  (landing page)Kushal Dey  OK    ERROR  skipped
409/2083countsimQC 1.11.0  (landing page)Charlotte Soneson  OK    OK    OK  UNNEEDED, same version is already published
410/2083covEB 1.19.0  (landing page)C. Pacini  OK    OK    OK  UNNEEDED, same version is already published
411/2083CoverageView 1.31.0  (landing page)Ernesto Lowy  OK    OK    WARNINGS  UNNEEDED, same version is already published
412/2083covRNA 1.19.0  (landing page)Lara Urban  OK    OK    OK  UNNEEDED, same version is already published
413/2083cpvSNP 1.25.0  (landing page)Caitlin McHugh  OK    OK    OK  UNNEEDED, same version is already published
414/2083cqn 1.39.0  (landing page)Kasper Daniel Hansen  OK    OK    OK  UNNEEDED, same version is already published
415/2083CRImage 1.41.0  (landing page)Henrik Failmezger , Yinyin Yuan  OK    OK    OK  UNNEEDED, same version is already published
416/2083CRISPRseek 1.33.5  (landing page)Lihua Julie Zhu  OK    OK    OK  UNNEEDED, same version is already published
417/2083crisprseekplus 1.19.0  (landing page)Alper Kucukural  OK    OK    OK  UNNEEDED, same version is already published
418/2083CrispRVariants 1.21.0  (landing page)Helen Lindsay  OK    OK    WARNINGS  UNNEEDED, same version is already published
419/2083crlmm 1.51.0  (landing page)Benilton S Carvalho  OK    OK    OK  UNNEEDED, same version is already published
420/2083crossmeta 1.19.0  (landing page)Alex Pickering  OK    OK    WARNINGS  UNNEEDED, same version is already published
421/2083CSAR 1.45.0  (landing page)Jose M Muino  OK    OK    OK  UNNEEDED, same version is already published
422/2083csaw 1.27.1  (landing page)Aaron Lun  OK    OK    OK  YES
423/2083csdR 0.99.8  (landing page)Jakob Peder Pettersen  OK    OK    OK  UNNEEDED, same version is already published
424/2083CSSP 1.31.0  (landing page)Chandler Zuo  OK    OK    OK  UNNEEDED, same version is already published
425/2083CSSQ 1.5.1  (landing page)Fan Lab at Georgia Institute of Technology  OK    OK    OK  UNNEEDED, same version is already published
426/2083ctc 1.67.0  (landing page)Antoine Lucas  OK    OK    OK  UNNEEDED, same version is already published
427/2083CTDquerier 2.1.0  (landing page)Xavier Escribà-Montagut  OK    OK    WARNINGS  UNNEEDED, same version is already published
428/2083ctgGEM 1.5.2  (landing page)USD Biomedical Engineering  OK    OK    OK  UNNEEDED, same version is already published
429/2083cTRAP 1.11.2  (landing page)Nuno Saraiva-Agostinho  OK    OK    OK  YES
430/2083ctsGE 1.19.0  (landing page)Michal Sharabi-Schwager  OK    OK    OK  UNNEEDED, same version is already published
431/2083cummeRbund 2.35.0  (landing page)Loyal A. Goff  OK    OK    WARNINGS  UNNEEDED, same version is already published
432/2083customCMPdb 1.3.0  (landing page)Yuzhu Duan  OK    OK    OK  UNNEEDED, same version is already published
433/2083customProDB 1.33.0  (landing page)Xiaojing Wang  OK    OK    OK  UNNEEDED, same version is already published
434/2083cyanoFilter 1.1.1  (landing page)Oluwafemi Olusoji  OK    OK    OK  UNNEEDED, same version is already published
435/2083cycle 1.47.0  (landing page)Matthias Futschik  OK    OK    OK  UNNEEDED, same version is already published
436/2083cydar 1.17.0  (landing page)Aaron Lun  OK    OK    OK  UNNEEDED, same version is already published
437/2083CytoDx 1.13.2  (landing page)Zicheng Hu  OK    OK    OK  UNNEEDED, same version is already published
438/2083CyTOFpower 0.99.4  (landing page)Anne-Maud Ferreira  OK    OK    OK  UNNEEDED, same version is already published
439/2083CytoGLMM 1.1.0  (landing page)Christof Seiler  OK    OK    OK  UNNEEDED, same version is already published
440/2083cytoKernel 0.99.0  (landing page)Tusharkanti Ghosh  OK    OK    OK  UNNEEDED, same version is already published
441/2083cytolib 2.5.3  (landing page)Mike Jiang  OK    OK    OK  UNNEEDED, same version is already published
442/2083cytomapper 1.5.5  (landing page)Nils Eling  OK    OK    OK  UNNEEDED, same version is already published
443/2083CytoML 2.5.4  (landing page)Mike Jiang  OK    OK    WARNINGS  UNNEEDED, same version is already published
444/2083CytoTree 1.3.0  (landing page)Yuting Dai  OK    OK    OK  UNNEEDED, same version is already published
D
ABCDEFGHIJKLMNOPQRSTUVWXYZ
PackageMaintainerINSTALLBUILDCHECKBUILD BIN
445/2083dada2 1.21.0  (landing page)Benjamin Callahan  OK    OK    OK  UNNEEDED, same version is already published
446/2083dagLogo 1.31.0  (landing page)Jianhong Ou  OK    OK    OK  UNNEEDED, same version is already published
447/2083daMA 1.65.0  (landing page)Jobst Landgrebe  OK    OK    OK  UNNEEDED, same version is already published
448/2083DAMEfinder 1.5.0  (landing page)Stephany Orjuela  OK    OK    OK  UNNEEDED, same version is already published
449/2083DaMiRseq 2.5.4  (landing page)Mattia Chiesa  OK    OK    WARNINGS  UNNEEDED, same version is already published
450/2083DAPAR 1.25.5  (landing page)Samuel Wieczorek  OK    OK    ERROR  
451/2083DART 1.41.0  (landing page)Charles Shijie Zheng  OK    OK    OK  UNNEEDED, same version is already published
452/2083dasper 1.3.7  (landing page)David Zhang  OK    OK    OK  UNNEEDED, same version is already published
453/2083dcanr 1.9.0  (landing page)Dharmesh D. Bhuva  OK    OK    OK  UNNEEDED, same version is already published
454/2083dce 1.1.0  (landing page)Kim Philipp Jablonski  OK    OK    OK  UNNEEDED, same version is already published
455/2083dcGSA 1.21.0  (landing page)Jiehuan sun  OK    OK    WARNINGS  UNNEEDED, same version is already published
456/2083ddCt 1.49.1  (landing page)Jitao David Zhang  OK    OK    OK  UNNEEDED, same version is already published
457/2083ddPCRclust 1.13.0  (landing page)Benedikt G. Brink  OK    OK    OK  UNNEEDED, same version is already published
458/2083dearseq 1.5.1  (landing page)Boris P. Hejblum  OK    OK    OK  UNNEEDED, same version is already published
459/2083debCAM 1.11.0  (landing page)Lulu Chen  OK    OK    OK  UNNEEDED, same version is already published
460/2083debrowser 1.21.1  (landing page)Alper Kucukural  OK    OK    OK  UNNEEDED, same version is already published
461/2083DECIPHER 2.21.0  (landing page)Erik Wright  OK    OK    OK  UNNEEDED, same version is already published
462/2083deco 1.9.1  (landing page)Francisco Jose Campos Laborie  OK    OK    OK  UNNEEDED, same version is already published
463/2083DEComplexDisease 1.13.0  (landing page)Guofeng Meng  OK    OK    OK  UNNEEDED, same version is already published
464/2083decompTumor2Sig 2.9.0  (landing page)Rosario M. Piro  OK    OK    OK  UNNEEDED, same version is already published
465/2083DeconRNASeq 1.35.0  (landing page)Ting Gong  OK    OK    OK  UNNEEDED, same version is already published
466/2083decontam 1.13.0  (landing page)Benjamin Callahan  OK    OK    OK  UNNEEDED, same version is already published
467/2083deconvR 0.99.7  (landing page)İrem B. Gündüz  OK    OK    OK  UNNEEDED, same version is already published
468/2083decoupleR 1.99.5  (landing page)Jesús Vélez  OK    OK    OK  YES
469/2083DeepBlueR 1.19.1  (landing page)Felipe Albrecht , Markus List  OK    OK    OK  UNNEEDED, same version is already published
470/2083DeepPINCS 1.1.6  (landing page)Dongmin Jung  OK    OK    OK  UNNEEDED, same version is already published
471/2083deepSNV 1.39.0  (landing page)Moritz Gerstung  OK    OK    OK  UNNEEDED, same version is already published
472/2083DEFormats 1.21.0  (landing page)Andrzej Oleś  OK    OK    OK  UNNEEDED, same version is already published
473/2083DegNorm 1.3.3  (landing page)Ji-Ping Wang  OK    OK    OK  UNNEEDED, same version is already published
474/2083DEGraph 1.45.0  (landing page)Laurent Jacob  OK    OK    OK  UNNEEDED, same version is already published
475/2083DEGreport 1.29.0  (landing page)Lorena Pantano  OK    OK    OK  UNNEEDED, same version is already published
476/2083DEGseq 1.47.0  (landing page)Likun Wang  OK    OK    OK  UNNEEDED, same version is already published
477/2083DelayedArray 0.19.4  (landing page)Hervé Pagès  OK    OK    WARNINGS  UNNEEDED, same version is already published
478/2083DelayedDataFrame 1.9.1  (landing page)Qian Liu  OK    OK    OK  UNNEEDED, same version is already published
479/2083DelayedMatrixStats 1.15.4  (landing page)Peter Hickey  OK    OK    OK  UNNEEDED, same version is already published
480/2083DelayedRandomArray 1.1.0  (landing page)Aaron Lun  OK    OK    OK  UNNEEDED, same version is already published
481/2083DelayedTensor 0.99.12  (landing page)Koki Tsuyuzaki  OK    OK    WARNINGS  UNNEEDED, same version is already published
482/2083deltaCaptureC 1.7.1  (landing page)Michael Shapiro  OK    OK    OK  UNNEEDED, same version is already published
483/2083deltaGseg 1.33.0  (landing page)Diana Low  OK    OK    OK  UNNEEDED, same version is already published
484/2083DeMAND 1.23.0  (landing page)Jung Hoon Woo , Mariano Alvarez  OK    OK    OK  UNNEEDED, same version is already published
485/2083DeMixT 1.9.2  (landing page)Shaolong Cao, Peng Yang  OK    OK    OK  UNNEEDED, same version is already published
486/2083densvis 1.3.0  (landing page)Alan O'Callaghan  OK    OK    OK  UNNEEDED, same version is already published
487/2083DEP 1.15.0  (landing page)Arne Smits  OK    OK    WARNINGS  UNNEEDED, same version is already published
488/2083DepecheR 1.9.2  (landing page)Jakob Theorell  OK    OK    OK  UNNEEDED, same version is already published
489/2083DEqMS 1.11.1  (landing page)Yafeng Zhu  OK    ERROR  skipped
490/2083derfinder 1.27.3  (landing page)Leonardo Collado-Torres  OK    OK    OK  UNNEEDED, same version is already published
491/2083derfinderHelper 1.27.1  (landing page)Leonardo Collado-Torres  OK    OK    OK  UNNEEDED, same version is already published
492/2083derfinderPlot 1.27.1  (landing page)Leonardo Collado-Torres  OK    ERROR  skipped
493/2083DEScan2 1.13.0  (landing page)Dario Righelli  OK    OK    OK  UNNEEDED, same version is already published
494/2083DESeq2 1.33.5  (landing page)Michael Love  OK    OK    OK  UNNEEDED, same version is already published
495/2083DEsingle 1.13.0  (landing page)Zhun Miao  OK    OK    OK  UNNEEDED, same version is already published
496/2083destiny 3.7.1  (landing page)Philipp Angerer  OK    ERROR  skipped
497/2083DEsubs 1.19.1  (landing page)Aristidis G. Vrahatis , Panos Balomenos  OK    OK    OK  UNNEEDED, same version is already published
498/2083DEWSeq 1.7.2  (landing page)bioinformatics team Hentze  OK    OK    OK  UNNEEDED, same version is already published
499/2083DExMA 1.1.2  (landing page)Juan Antonio Villatoro-García  OK    OK    OK  UNNEEDED, same version is already published
500/2083DEXSeq 1.39.0  (landing page)Alejandro Reyes  OK    OK    OK  UNNEEDED, same version is already published
501/2083DFP 1.51.0  (landing page)Rodrigo Alvarez-Glez  OK    OK    OK  UNNEEDED, same version is already published
502/2083DIAlignR 2.1.4  (landing page)Shubham Gupta  OK    OK    OK  UNNEEDED, same version is already published
503/2083DiffBind 3.3.4  (landing page)Rory Stark  OK    OK    OK  UNNEEDED, same version is already published
504/2083diffcoexp 1.13.0  (landing page)Wenbin Wei  OK    OK    OK  UNNEEDED, same version is already published
505/2083diffcyt 1.13.0  (landing page)Lukas M. Weber  OK    OK    OK  UNNEEDED, same version is already published
506/2083diffGeneAnalysis 1.75.0  (landing page)Choudary Jagarlamudi  OK    OK    OK  UNNEEDED, same version is already published
507/2083diffHic 1.25.1  (landing page)Aaron Lun  OK    OK    OK  UNNEEDED, same version is already published
508/2083DiffLogo 2.17.0  (landing page)Hendrik Treutler  OK    OK    WARNINGS  UNNEEDED, same version is already published
509/2083diffloop 1.21.0  (landing page)Caleb Lareau  OK    OK    OK  UNNEEDED, same version is already published
510/2083diffuStats 1.13.0  (landing page)Sergio Picart-Armada  OK    OK    OK  UNNEEDED, same version is already published
511/2083diffUTR 1.1.2  (landing page)Pierre-Luc Germain  OK    OK    OK  UNNEEDED, same version is already published
512/2083diggit 1.25.1  (landing page)Mariano J Alvarez  OK    OK    WARNINGS  UNNEEDED, same version is already published
513/2083Dino 0.99.11  (landing page)Jared Brown  OK    OK    OK  UNNEEDED, same version is already published
514/2083dir.expiry 1.1.0  (landing page)Aaron Lun  OK    OK    OK  UNNEEDED, same version is already published
515/2083Director 1.19.0  (landing page)Katherine Icay  OK    OK    OK  UNNEEDED, same version is already published
516/2083DirichletMultinomial 1.35.0  (landing page)Martin Morgan  OK    OK    OK  UNNEEDED, same version is already published
517/2083discordant 1.17.0  (landing page)Charlotte Siska  OK    OK    WARNINGS  UNNEEDED, same version is already published
518/2083DiscoRhythm 1.9.0  (landing page)Matthew Carlucci  OK    OK    OK  UNNEEDED, same version is already published
519/2083distinct 1.5.1  (landing page)Simone Tiberi  OK    OK    OK  UNNEEDED, same version is already published
520/2083dittoSeq 1.5.4  (landing page)Daniel Bunis  OK    OK    OK  UNNEEDED, same version is already published
521/2083divergence 1.9.1  (landing page)Wikum Dinalankara , Luigi Marchionni  OK    OK    OK  UNNEEDED, same version is already published
522/2083dks 1.39.0  (landing page)Jeffrey T. Leek  OK    OK    OK  UNNEEDED, same version is already published
523/2083DMCFB 1.7.0  (landing page)Farhad Shokoohi  OK    OK    OK  UNNEEDED, same version is already published
524/2083DMCHMM 1.15.1  (landing page)Farhad Shokoohi  OK    OK    OK  UNNEEDED, same version is already published
525/2083DMRcaller 1.25.0  (landing page)Nicolae Radu Zabet  OK    OK    OK  UNNEEDED, same version is already published
526/2083DMRcate 2.7.0  (landing page)Tim Peters  OK    OK    WARNINGS  UNNEEDED, same version is already published
527/2083DMRforPairs 1.29.0  (landing page)Martin Rijlaarsdam  OK    OK    OK  UNNEEDED, same version is already published
528/2083DMRScan 1.15.0  (landing page)Christian M Page  OK    OK    OK  UNNEEDED, same version is already published
529/2083dmrseq 1.13.0  (landing page)Keegan Korthauer  OK    OK    WARNINGS  UNNEEDED, same version is already published
530/2083DNABarcodeCompatibility 1.9.0  (landing page)Céline Trébeau  OK    OK    OK  UNNEEDED, same version is already published
531/2083DNABarcodes 1.23.0  (landing page)Tilo Buschmann  OK    OK    OK  UNNEEDED, same version is already published
532/2083DNAcopy 1.67.0  (landing page)Venkatraman E. Seshan  OK    OK    OK  UNNEEDED, same version is already published
533/2083DNAshapeR 1.21.0  (landing page)Tsu-Pei Chiu  OK    OK    OK  UNNEEDED, same version is already published
534/2083DominoEffect 1.13.0  (landing page)Marija Buljan  OK    OK    OK  UNNEEDED, same version is already published
535/2083doppelgangR 1.21.0  (landing page)Levi Waldron  OK    OK    OK  UNNEEDED, same version is already published
536/2083Doscheda 1.15.0  (landing page)Bruno Contrino  OK    OK    OK  UNNEEDED, same version is already published
537/2083DOSE 3.19.4  (landing page)Guangchuang Yu  OK    OK    OK  UNNEEDED, same version is already published
538/2083doseR 1.9.0  (landing page)ake.vastermark  OK    OK    OK  UNNEEDED, same version is already published
539/2083dpeak 1.5.0  (landing page)Dongjun Chung  OK    OK    OK  UNNEEDED, same version is already published
540/2083drawProteins 1.13.0  (landing page)Paul Brennan  OK    OK    OK  UNNEEDED, same version is already published
541/2083DRIMSeq 1.21.0  (landing page)Malgorzata Nowicka  OK    OK    WARNINGS  UNNEEDED, same version is already published
542/2083DriverNet 1.33.0  (landing page)Jiarui Ding  OK    OK    OK  UNNEEDED, same version is already published
543/2083DropletUtils 1.13.4  (landing page)Aaron Lun  OK    OK    OK  UNNEEDED, same version is already published
544/2083drugTargetInteractions 1.1.2  (landing page)Thomas Girke  OK    OK    OK  UNNEEDED, same version is already published
545/2083DrugVsDisease 2.35.0  (landing page)j. Saez-Rodriguez  OK    OK    OK  UNNEEDED, same version is already published
546/2083DSS 2.41.0  (landing page)Hao Wu , Hao Feng  OK    OK    WARNINGS  UNNEEDED, same version is already published
547/2083dStruct 0.99.3  (landing page)Krishna Choudhary  OK    OK    OK  UNNEEDED, same version is already published
548/2083DTA 2.39.0  (landing page)Bjoern Schwalb  OK    OK    OK  UNNEEDED, same version is already published
549/2083dualKS 1.53.2  (landing page)Eric J. Kort  OK    ERROR  skipped
550/2083Dune 1.5.0  (landing page)Hector Roux de Bezieux  OK    OK    OK  UNNEEDED, same version is already published
551/2083dupRadar 1.23.0  (landing page)Sergi Sayols , Holger Klein  OK    OK    OK  UNNEEDED, same version is already published
552/2083dyebias 1.53.0  (landing page)Philip Lijnzaad  OK    OK    OK  UNNEEDED, same version is already published
553/2083DynDoc 1.71.0  (landing page)Bioconductor Package Maintainer  OK    OK    OK  UNNEEDED, same version is already published
E
ABCDEFGHIJKLMNOPQRSTUVWXYZ
PackageMaintainerINSTALLBUILDCHECKBUILD BIN
554/2083easier 0.99.12  (landing page)Oscar Lapuente-Santana  ERROR    ERROR  skipped
555/2083easyreporting 1.5.0  (landing page)Dario Righelli  OK    OK    OK  UNNEEDED, same version is already published
556/2083easyRNASeq 2.29.0  (landing page)Nicolas Delhomme  OK    OK    OK  UNNEEDED, same version is already published
557/2083EBarrays 2.57.0  (landing page)Ming Yuan  OK    OK    OK  UNNEEDED, same version is already published
558/2083EBcoexpress 1.37.0  (landing page)John A. Dawson  OK    OK    WARNINGS  UNNEEDED, same version is already published
559/2083EBImage 4.35.2  (landing page)Andrzej Oleś  OK    OK    OK  UNNEEDED, same version is already published
560/2083EBSEA 1.21.0  (landing page)Arfa Mehmood  OK    OK    OK  UNNEEDED, same version is already published
561/2083EBSeq 1.33.0  (landing page)Ning Leng  OK    OK    OK  UNNEEDED, same version is already published
562/2083EBSeqHMM 1.27.0  (landing page)Ning Leng  OK    OK    OK  UNNEEDED, same version is already published
563/2083ecolitk 1.65.0  (landing page)Laurent Gautier  OK    OK    WARNINGS  UNNEEDED, same version is already published
564/2083EDASeq 2.27.1  (landing page)Davide Risso  OK    OK    OK  UNNEEDED, same version is already published
565/2083edge 2.25.0  (landing page)John D. Storey , Andrew J. Bass  OK    OK    WARNINGS  UNNEEDED, same version is already published
566/2083edgeR 3.35.3  (landing page)Yunshun Chen , Gordon Smyth , Aaron Lun , Mark Robinson  OK    OK    OK  UNNEEDED, same version is already published
567/2083eegc 1.19.0  (landing page)Xiaoyuan Zhou  OK    OK    WARNINGS  UNNEEDED, same version is already published
568/2083EGAD 1.21.0  (landing page)Sara Ballouz  OK    OK    WARNINGS  UNNEEDED, same version is already published
569/2083EGSEA 1.21.1  (landing page)Monther Alhamdoosh  OK    OK    WARNINGS  UNNEEDED, same version is already published
570/2083eiR 1.33.0  (landing page)Thomas Girke  OK    OK    WARNINGS  UNNEEDED, same version is already published
571/2083eisaR 1.5.4  (landing page)Michael Stadler  OK    OK    OK  UNNEEDED, same version is already published
572/2083ELMER 2.17.3  (landing page)Tiago Chedraoui Silva  OK    OK    OK  UNNEEDED, same version is already published
573/2083EMDomics 2.23.0  (landing page)Sadhika Malladi and Daniel Schmolze  OK    OK    OK  UNNEEDED, same version is already published
574/2083EmpiricalBrownsMethod 1.21.0  (landing page)David Gibbs  OK    OK    OK  UNNEEDED, same version is already published
575/2083ENCODExplorer 2.19.1  (landing page)Charles Joly Beauparlant  OK    OK    ERROR  
576/2083EnhancedVolcano 1.11.5  (landing page)Kevin Blighe  OK    OK    OK  UNNEEDED, same version is already published
577/2083enhancerHomologSearch 0.99.17  (landing page)Jianhong Ou  OK    OK    OK  UNNEEDED, same version is already published
578/2083EnMCB 1.5.0  (landing page)Xin Yu  OK    OK    OK  UNNEEDED, same version is already published
579/2083ENmix 1.29.10  (landing page)Zongli Xu  OK    OK    OK  UNNEEDED, same version is already published
580/2083EnrichedHeatmap 1.23.1  (landing page)Zuguang Gu  OK    OK    OK  UNNEEDED, same version is already published
581/2083EnrichmentBrowser 2.23.4  (landing page)Ludwig Geistlinger  OK    OK    OK  UNNEEDED, same version is already published
582/2083enrichplot 1.13.2  (landing page)Guangchuang Yu  OK    OK    OK  UNNEEDED, same version is already published
583/2083enrichTF 1.9.0  (landing page)Zheng Wei  OK    OK    OK  UNNEEDED, same version is already published
584/2083ensembldb 2.17.4  (landing page)Johannes Rainer  OK    OK    OK  UNNEEDED, same version is already published
585/2083ensemblVEP 1.35.0  (landing page)Bioconductor Package Maintainer  OK    OK    OK  UNNEEDED, same version is already published
586/2083ENVISIONQuery 1.41.1  (landing page)Alex Lisovich , Roger Day  OK    ERROR  skipped
587/2083epialleleR 1.1.12  (landing page)Oleksii Nikolaienko  OK    OK    OK  UNNEEDED, same version is already published
588/2083epidecodeR 1.1.3  (landing page)Kandarp Joshi  OK    OK    OK  UNNEEDED, same version is already published
589/2083EpiDISH 2.9.0  (landing page)Shijie C. Zheng  OK    OK    OK  UNNEEDED, same version is already published
590/2083epigenomix 1.33.0  (landing page)Hans-Ulrich Klein  OK    OK    OK  UNNEEDED, same version is already published
591/2083epigraHMM 1.1.9  (landing page)Pedro Baldoni  OK    OK    OK  UNNEEDED, same version is already published
592/2083epihet 1.9.0  (landing page)Xiaowen Chen  OK    OK    OK  UNNEEDED, same version is already published
593/2083epiNEM 1.17.4  (landing page)Martin Pirkl  OK    OK    OK  UNNEEDED, same version is already published
594/2083epistack 0.99.3  (landing page)DEVAILLY Guillaume  OK    OK    OK  UNNEEDED, same version is already published
595/2083EpiTxDb 1.5.0  (landing page)Felix G.M. Ernst  OK    OK    OK  UNNEEDED, same version is already published
596/2083epivizr 2.23.1  (landing page)Hector Corrada Bravo  OK    OK    OK  UNNEEDED, same version is already published
597/2083epivizrChart 1.15.0  (landing page)Hector Corrada Bravo  OK    OK    OK  UNNEEDED, same version is already published
598/2083epivizrData 1.21.0  (landing page)Hector Corrada Bravo  OK    OK    OK  UNNEEDED, same version is already published
599/2083epivizrServer 1.21.0  (landing page)Hector Corrada Bravo  OK    OK    OK  UNNEEDED, same version is already published
600/2083epivizrStandalone 1.21.0  (landing page)Hector Corrada Bravo  OK    OK    OK  UNNEEDED, same version is already published
601/2083erccdashboard 1.27.0  (landing page)Sarah Munro  OK    OK    OK  UNNEEDED, same version is already published
602/2083erma 1.9.0  (landing page)VJ Carey  OK    OK    OK  UNNEEDED, same version is already published
603/2083ERSSA 1.11.0  (landing page)Zixuan Shao  OK    OK    OK  UNNEEDED, same version is already published
604/2083esATAC 1.15.3  (landing page)Zheng Wei  OK    OK    OK  UNNEEDED, same version is already published
605/2083escape 1.3.1  (landing page)Nick Borcherding  OK    OK    OK  UNNEEDED, same version is already published
606/2083esetVis 1.19.1  (landing page)Laure Cougnaud  OK    OK    OK  UNNEEDED, same version is already published
607/2083eudysbiome 1.23.0  (landing page)Xiaoyuan Zhou  OK    OK    OK  UNNEEDED, same version is already published
608/2083evaluomeR 1.9.0  (landing page)José Antonio Bernabé-Díaz  OK    OK    OK  UNNEEDED, same version is already published
609/2083EventPointer 3.1.0  (landing page)Juan A. Ferrer-Bonsoms  OK    OK    OK  UNNEEDED, same version is already published
610/2083EWCE 1.1.2  (landing page)Alan Murphy  OK    OK    OK  UNNEEDED, same version is already published
611/2083ExCluster 1.11.0  (landing page)R. Matthew Tanner  OK    OK    OK  UNNEEDED, same version is already published
612/2083ExiMiR 2.35.0  (landing page)Sylvain Gubian  OK    OK    OK  UNNEEDED, same version is already published
613/2083exomeCopy 1.39.0  (landing page)Michael Love  OK    OK    OK  UNNEEDED, same version is already published
614/2083exomePeak2 1.5.0  (landing page)Zhen Wei  OK    OK    WARNINGS  UNNEEDED, same version is already published
615/2083ExperimentHub 2.1.4  (landing page)Bioconductor Package Maintainer  OK    OK    OK  UNNEEDED, same version is already published
616/2083ExperimentHubData 1.19.1  (landing page)Bioconductor Package Maintainer  OK    OK    OK  UNNEEDED, same version is already published
617/2083ExperimentSubset 1.3.0  (landing page)Irzam Sarfraz  OK    OK    OK  UNNEEDED, same version is already published
618/2083ExploreModelMatrix 1.5.0  (landing page)Charlotte Soneson  OK    OK    OK  UNNEEDED, same version is already published
619/2083ExpressionAtlas 1.21.4  (landing page)Pedro Madrigal  OK    OK    OK  UNNEEDED, same version is already published
F
ABCDEFGHIJKLMNOPQRSTUVWXYZ
PackageMaintainerINSTALLBUILDCHECKBUILD BIN
620/2083fabia 2.39.0  (landing page)Andreas Mitterecker  OK    OK    OK  UNNEEDED, same version is already published
621/2083factDesign 1.69.0  (landing page)Denise Scholtens  OK    OK    OK  UNNEEDED, same version is already published
622/2083FamAgg 1.21.2  (landing page)Johannes Rainer  OK    OK    OK  UNNEEDED, same version is already published
623/2083famat 1.3.2  (landing page)Mathieu Charles  OK    OK    OK  UNNEEDED, same version is already published
624/2083farms 1.45.0  (landing page)Djork-Arne Clevert  OK    OK    OK  UNNEEDED, same version is already published
625/2083fastLiquidAssociation 1.29.0  (landing page)Tina Gunderson  OK    OK    WARNINGS  UNNEEDED, same version is already published
626/2083FastqCleaner 1.11.0  (landing page)Leandro Roser  OK    OK    OK  UNNEEDED, same version is already published
627/2083fastseg 1.39.0  (landing page)Guenter Klambauer  OK    OK    WARNINGS  UNNEEDED, same version is already published
628/2083FCBF 2.1.0  (landing page)Tiago Lubiana  OK    OK    OK  UNNEEDED, same version is already published
629/2083fCCAC 1.19.11  (landing page)Pedro Madrigal  OK    OK    OK  UNNEEDED, same version is already published
630/2083fCI 1.23.0  (landing page)Shaojun Tang  OK    OK    OK  UNNEEDED, same version is already published
631/2083fcoex 1.7.2  (landing page)Tiago Lubiana  OK    OK    WARNINGS  UNNEEDED, same version is already published
632/2083fcScan 1.7.4  (landing page)Pierre Khoueiry Abdullah El-Kurdi  OK    OK    OK  UNNEEDED, same version is already published
633/2083fdrame 1.65.0  (landing page)Effi Kenigsberg  OK    OK    OK  UNNEEDED, same version is already published
634/2083FEAST 1.1.2  (landing page)Kenong Su  OK    OK    OK  UNNEEDED, same version is already published
635/2083fedup 1.1.0  (landing page)Catherine Ross  OK    OK    OK  UNNEEDED, same version is already published
636/2083FELLA 1.13.0  (landing page)Sergio Picart-Armada  OK    OK    OK  UNNEEDED, same version is already published
637/2083ffpe 1.37.0  (landing page)Levi Waldron  OK    OK    OK  UNNEEDED, same version is already published
638/2083fgga 1.1.0  (landing page)Spetale Flavio  OK    OK    OK  UNNEEDED, same version is already published
639/2083FGNet 3.27.0  (landing page)Sara Aibar  OK    OK    OK  UNNEEDED, same version is already published
640/2083fgsea 1.19.4  (landing page)Alexey Sergushichev  OK    OK    OK  UNNEEDED, same version is already published
641/2083FilterFFPE 1.3.0  (landing page)Lanying Wei  OK    OK    OK  UNNEEDED, same version is already published
642/2083FindIT2 0.99.14  (landing page)Guandong Shang  OK    OK    OK  UNNEEDED, same version is already published
643/2083FindMyFriends 1.23.1  (landing page)Thomas Lin Pedersen  ERROR    ERROR  skipped
644/2083FISHalyseR 1.27.0  (landing page)Karesh Arunakirinathan  OK    OK    WARNINGS  UNNEEDED, same version is already published
645/2083fishpond 1.99.34  (landing page)Michael Love  OK    OK    OK  UNNEEDED, same version is already published
646/2083FitHiC 1.19.0  (landing page)Ruyu Tan  OK    OK    OK  UNNEEDED, same version is already published
647/2083flagme 1.49.0  (landing page)Mark Robinson , Riccardo Romoli  OK    OK    WARNINGS  UNNEEDED, same version is already published
648/2083FLAMES 0.99.31  (landing page)Voogd Oliver  OK    OK    OK  UNNEEDED, same version is already published
649/2083flowAI 1.23.0  (landing page)Gianni Monaco  OK    OK    OK  UNNEEDED, same version is already published
650/2083flowBeads 1.31.0  (landing page)Nikolas Pontikos  OK    OK    WARNINGS  UNNEEDED, same version is already published
651/2083flowBin 1.29.0  (landing page)Kieran O'Neill  OK    OK    OK  UNNEEDED, same version is already published
652/2083flowcatchR 1.27.0  (landing page)Federico Marini  OK    OK    OK  UNNEEDED, same version is already published
653/2083flowCHIC 1.27.0  (landing page)Author: Joachim Schumann  OK    OK    OK  UNNEEDED, same version is already published
654/2083flowCL 1.31.0  (landing page)Justin Meskas  OK    OK    OK  UNNEEDED, same version is already published
655/2083flowClean 1.31.0  (landing page)Kipper Fletez-Brant  OK    OK    WARNINGS  UNNEEDED, same version is already published
656/2083flowClust 3.31.0  (landing page)Greg Finak , Mike Jiang  OK    OK    OK  UNNEEDED, same version is already published
657/2083flowCore 2.5.0  (landing page)Mike Jiang  OK    OK    OK  UNNEEDED, same version is already published
658/2083flowCut 1.3.1  (landing page)Justin Meskas  OK    OK    OK  UNNEEDED, same version is already published
659/2083flowCyBar 1.29.0  (landing page)Joachim Schumann  OK    OK    OK  UNNEEDED, same version is already published
660/2083flowDensity 1.27.2  (landing page)Mehrnoush Malek  OK    OK    WARNINGS  UNNEEDED, same version is already published
661/2083flowFP 1.51.0  (landing page)Herb Holyst  OK    OK    OK  UNNEEDED, same version is already published
662/2083flowGraph 1.1.0  (landing page)Alice Yue  OK    OK    OK  UNNEEDED, same version is already published
663/2083flowMap 1.31.0  (landing page)Chiaowen Joyce Hsiao  OK    OK    WARNINGS  UNNEEDED, same version is already published
664/2083flowMatch 1.29.0  (landing page)Ariful Azad  OK    OK    OK  UNNEEDED, same version is already published
665/2083flowMeans 1.53.0  (landing page)Nima Aghaeepour  OK    OK    OK  UNNEEDED, same version is already published
666/2083flowMerge 2.41.0  (landing page)Greg Finak  OK    OK    OK  UNNEEDED, same version is already published
667/2083flowPeaks 1.39.0  (landing page)Yongchao Ge  OK    OK    OK  UNNEEDED, same version is already published
668/2083flowPloidy 1.19.0  (landing page)Tyler Smith  OK    OK    OK  UNNEEDED, same version is already published
669/2083flowPlots 1.41.0  (landing page)N. Hawkins  OK    OK    OK  UNNEEDED, same version is already published
670/2083FlowSOM 2.1.24  (landing page)Sofie Van Gassen  OK    OK    OK  UNNEEDED, same version is already published
671/2083flowSpecs 1.7.0  (landing page)Jakob Theorell  OK    OK    OK  UNNEEDED, same version is already published
672/2083flowStats 4.5.1  (landing page)Greg Finak , Mike Jiang , Jake Wagner  OK    OK    OK  UNNEEDED, same version is already published
673/2083flowTime 1.15.2  (landing page)R. Clay Wright  OK    OK    OK  NO, version to propagate (1.15.2) is lower than published version (1.17.0)
674/2083flowTrans 1.45.0  (landing page)Greg Finak  OK    OK    OK  UNNEEDED, same version is already published
675/2083flowUtils 1.57.0  (landing page)Josef Spidlen  OK    OK    WARNINGS  UNNEEDED, same version is already published
676/2083flowViz 1.57.2  (landing page)Mike Jiang , Jake Wagner  OK    OK    OK  UNNEEDED, same version is already published
677/2083flowVS 1.25.0  (landing page)Ariful Azad  OK    OK    OK  UNNEEDED, same version is already published
678/2083flowWorkspace 4.5.3  (landing page)Greg Finak , Mike Jiang  OK    OK    WARNINGS  UNNEEDED, same version is already published
679/2083fmcsR 1.35.0  (landing page)Thomas Girke  OK    OK    WARNINGS  UNNEEDED, same version is already published
680/2083fmrs 1.3.1  (landing page)Farhad Shokoohi  OK    OK    OK  UNNEEDED, same version is already published
681/2083fobitools 1.1.9  (landing page)Pol Castellano-Escuder  OK    OK    OK  UNNEEDED, same version is already published
682/2083FoldGO 1.11.0  (landing page)Daniil Wiebe  OK    OK    OK  UNNEEDED, same version is already published
683/2083FRASER 1.5.0  (landing page)Christian Mertes  OK    OK    OK  UNNEEDED, same version is already published
684/2083frenchFISH 1.5.0  (landing page)Adam Berman  OK    OK    OK  UNNEEDED, same version is already published
685/2083FRGEpistasis 1.29.0  (landing page)Futao Zhang  OK    OK    OK  UNNEEDED, same version is already published
686/2083frma 1.45.0  (landing page)Matthew N. McCall  OK    OK    OK  UNNEEDED, same version is already published
687/2083frmaTools 1.45.0  (landing page)Matthew N. McCall  OK    OK    OK  UNNEEDED, same version is already published
688/2083FScanR 1.3.0  (landing page)Xiao Chen  OK    OK    OK  UNNEEDED, same version is already published
689/2083FunChIP 1.19.0  (landing page)Alice Parodi  OK    OK    WARNINGS  UNNEEDED, same version is already published
690/2083funtooNorm 1.17.0  (landing page)Kathleen Klein  OK    OK    WARNINGS  UNNEEDED, same version is already published
G
ABCDEFGHIJKLMNOPQRSTUVWXYZ
PackageMaintainerINSTALLBUILDCHECKBUILD BIN
691/2083GA4GHclient 1.17.0  (landing page)Welliton Souza  OK    OK    OK  UNNEEDED, same version is already published
692/2083GA4GHshiny 1.15.0  (landing page)Welliton Souza  OK    OK    OK  UNNEEDED, same version is already published
693/2083gaga 2.39.0  (landing page)David Rossell  OK    OK    OK  UNNEEDED, same version is already published
694/2083gage 2.43.0  (landing page)Weijun Luo  OK    OK    WARNINGS  UNNEEDED, same version is already published
695/2083gaggle 1.61.0  (landing page)Christopher Bare  OK    OK    OK  UNNEEDED, same version is already published
696/2083gaia 2.37.0  (landing page)S. Morganella  OK    OK    OK  UNNEEDED, same version is already published
697/2083GAPGOM 1.9.0  (landing page)Rezvan Ehsani  OK    OK    OK  UNNEEDED, same version is already published
698/2083GAprediction 1.19.0  (landing page)Jon Bohlin  OK    OK    OK  UNNEEDED, same version is already published
699/2083garfield 1.21.0  (landing page)Valentina Iotchkova  OK    OK    OK  UNNEEDED, same version is already published
700/2083GARS 1.13.0  (landing page)Mattia Chiesa  OK    OK    OK  UNNEEDED, same version is already published
701/2083GateFinder 1.13.0  (landing page)Nima Aghaeepour  OK    OK    OK  UNNEEDED, same version is already published
702/2083gcapc 1.17.0  (landing page)Mingxiang Teng  OK    OK    OK  UNNEEDED, same version is already published
703/2083gcatest 1.23.0  (landing page)Wei Hao , John D. Storey  OK    OK    OK  UNNEEDED, same version is already published
704/2083gCrisprTools 1.99.3  (landing page)Russell Bainer  OK    OK    OK  YES
705/2083gcrma 2.65.0  (landing page)Z. Wu  OK    OK    OK  UNNEEDED, same version is already published
706/2083GCSConnection 1.5.0  (landing page)Jiefei Wang  OK    OK    OK  UNNEEDED, same version is already published
707/2083GCSFilesystem 1.3.0  (landing page)Jiefei Wang  OK    OK    OK  UNNEEDED, same version is already published
708/2083GCSscore 1.7.0  (landing page)Guy M. Harris  OK    OK    OK  UNNEEDED, same version is already published
709/2083GDCRNATools 1.13.1  (landing page)Ruidong Li  OK    OK    OK  UNNEEDED, same version is already published
710/2083GDSArray 1.13.1  (landing page)Qian Liu  OK    OK    OK  UNNEEDED, same version is already published
711/2083gdsfmt 1.29.1  (landing page)Xiuwen Zheng  OK    OK    OK  UNNEEDED, same version is already published
712/2083GEM 1.19.1  (landing page)Hong Pan  OK    OK    OK  UNNEEDED, same version is already published
713/2083gemini 1.7.0  (landing page)Sidharth Jain  OK    OK    OK  UNNEEDED, same version is already published
714/2083genArise 1.69.0  (landing page)IFC Development Team  OK    OK    WARNINGS  UNNEEDED, same version is already published
715/2083genbankr 1.21.0  (landing page)Gabriel Becker  OK    OK    OK  UNNEEDED, same version is already published
716/2083GeneAccord 1.11.0  (landing page)Ariane L. Moore  OK    OK    OK  UNNEEDED, same version is already published
717/2083GeneAnswers 2.35.1  (landing page)Lei Huang and Gang Feng  OK    OK    WARNINGS  UNNEEDED, same version is already published
718/2083geneAttribution 1.19.0  (landing page)Arthur Wuster  OK    OK    OK  UNNEEDED, same version is already published
719/2083GeneBreak 1.23.0  (landing page)Evert van den Broek  OK    OK    OK  UNNEEDED, same version is already published
720/2083geneClassifiers 1.17.0  (landing page)R Kuiper  OK    OK    OK  UNNEEDED, same version is already published
721/2083GeneExpressionSignature 1.39.0  (landing page)Yang Cao  OK    OK    OK  UNNEEDED, same version is already published
722/2083genefilter 1.75.1  (landing page)Bioconductor Package Maintainer  OK    OK    WARNINGS  UNNEEDED, same version is already published
723/2083genefu 2.25.1  (landing page)Benjamin Haibe-Kains  OK    OK    OK  UNNEEDED, same version is already published
724/2083GeneGA 1.43.0  (landing page)Zhenpeng Li  OK    OK    OK  UNNEEDED, same version is already published
725/2083GeneGeneInteR 1.19.0  (landing page)Mathieu Emily  OK    OK    OK  UNNEEDED, same version is already published
726/2083GeneMeta 1.65.0  (landing page)Bioconductor Package Maintainer  OK    OK    OK  UNNEEDED, same version is already published
727/2083GeneNetworkBuilder 1.35.0  (landing page)Jianhong Ou  OK    OK    OK  UNNEEDED, same version is already published
728/2083GeneOverlap 1.29.0  (landing page)António Miguel de Jesus Domingues, Max-Planck Institute for Cell Biology and Genetics  OK    OK    OK  UNNEEDED, same version is already published
729/2083geneplast 1.19.0  (landing page)Mauro Castro  OK    OK    OK  UNNEEDED, same version is already published
730/2083geneplotter 1.71.0  (landing page)Bioconductor Package Maintainer  OK    OK    OK  UNNEEDED, same version is already published
731/2083geneRecommender 1.65.0  (landing page)Greg Hather  OK    OK    OK  UNNEEDED, same version is already published
732/2083GeneRegionScan 1.49.0  (landing page)Lasse Folkersen  OK    OK    OK  UNNEEDED, same version is already published
733/2083geneRxCluster 1.29.0  (landing page)Charles Berry  OK    OK    OK  UNNEEDED, same version is already published
734/2083GeneSelectMMD 2.37.0  (landing page)Weiliang Qiu  OK    OK    WARNINGS  UNNEEDED, same version is already published
735/2083GENESIS 2.23.9  (landing page)Stephanie M. Gogarten  OK    OK    OK  UNNEEDED, same version is already published
736/2083GeneStructureTools 1.13.0  (landing page)Beth Signal  OK    OK    OK  UNNEEDED, same version is already published
737/2083geNetClassifier 1.33.0  (landing page)Sara Aibar  OK    OK    OK  UNNEEDED, same version is already published
738/2083GeneticsPed 1.55.0  (landing page)David Henderson  OK    OK    OK  UNNEEDED, same version is already published
739/2083GeneTonic 1.5.6  (landing page)Federico Marini  OK    OK    OK  UNNEEDED, same version is already published
740/2083geneXtendeR 1.19.0  (landing page)Bohdan Khomtchouk  OK    OK    WARNINGS  UNNEEDED, same version is already published
741/2083GENIE3 1.15.0  (landing page)Van Anh Huynh-Thu  OK    OK    WARNINGS  UNNEEDED, same version is already published
742/2083genoCN 1.45.0  (landing page)Wei Sun  OK    OK    WARNINGS  UNNEEDED, same version is already published
743/2083GenoGAM 2.11.0  (landing page)Georg Stricker  OK    ERROR  skipped
744/2083genomation 1.25.0  (landing page)Altuna Akalin , Vedran Franke  OK    OK    WARNINGS  UNNEEDED, same version is already published
745/2083GenomeInfoDb 1.29.10  (landing page)Bioconductor Package Maintainer  OK    OK    OK  UNNEEDED, same version is already published
746/2083genomeIntervals 1.49.0  (landing page)Julien Gagneur  OK    OK    OK  UNNEEDED, same version is already published
747/2083genomes 3.23.0  (landing page)Chris Stubben  OK    OK    OK  UNNEEDED, same version is already published
748/2083GenomicAlignments 1.29.0  (landing page)Bioconductor Package Maintainer  OK    OK    OK  UNNEEDED, same version is already published
749/2083GenomicDataCommons 1.17.4  (landing page)Sean Davis  OK    OK    OK  UNNEEDED, same version is already published
750/2083GenomicDistributions 1.1.10  (landing page)Kristyna Kupkova  OK    OK    OK  UNNEEDED, same version is already published
751/2083GenomicFeatures 1.45.2  (landing page)Bioconductor Package Maintainer  OK    OK    WARNINGS  UNNEEDED, same version is already published
752/2083GenomicFiles 1.29.0  (landing page)Bioconductor Package Maintainer  OK    OK    OK  UNNEEDED, same version is already published
753/2083genomicInstability 0.99.7  (landing page)Mariano Alvarez  OK    OK    OK  UNNEEDED, same version is already published
754/2083GenomicInteractions 1.27.0  (landing page)Liz Ing-Simmons  OK    OK    OK  UNNEEDED, same version is already published
755/2083GenomicOZone 1.7.0  (landing page)Hua Zhong, Mingzhou Song  OK    OK    OK  UNNEEDED, same version is already published
756/2083GenomicRanges 1.45.0  (landing page)Bioconductor Package Maintainer  OK    OK    OK  UNNEEDED, same version is already published
757/2083GenomicScores 2.5.1  (landing page)Robert Castelo  OK    OK    OK  UNNEEDED, same version is already published
758/2083GenomicSuperSignature 1.1.8  (landing page)Sehyun Oh  OK    OK    OK  UNNEEDED, same version is already published
759/2083GenomicTuples 1.27.1  (landing page)Peter Hickey  OK    OK    OK  UNNEEDED, same version is already published
760/2083genotypeeval 1.25.0  (landing page)Jennifer Tom  OK    OK    WARNINGS  UNNEEDED, same version is already published
761/2083genphen 1.21.2  (landing page)Simo Kitanovski  OK    OK    OK  UNNEEDED, same version is already published
762/2083GenVisR 1.25.0  (landing page)Zachary Skidmore  OK    OK    OK  UNNEEDED, same version is already published
763/2083GeoDiff 0.99.5  (landing page)Zhi Yang  OK    OK    OK  UNNEEDED, same version is already published
764/2083GEOexplorer 0.99.31  (landing page)Guy Hunt  OK    OK    OK  UNNEEDED, same version is already published
765/2083GEOfastq 1.1.0  (landing page)Alex Pickering  OK    OK    OK  UNNEEDED, same version is already published
766/2083GEOmetadb 1.55.0  (landing page)Jack Zhu  OK    ERROR  skipped
767/2083GeomxTools 1.99.4  (landing page)Nicole Ortogero  OK    OK    OK  UNNEEDED, same version is already published
768/2083GEOquery 2.61.1  (landing page)Sean Davis  OK    OK    OK  UNNEEDED, same version is already published
769/2083GEOsubmission 1.45.0  (landing page)Alexandre Kuhn  OK    OK    OK  UNNEEDED, same version is already published
770/2083gep2pep 1.13.0  (landing page)Francesco Napolitano  OK    OK    OK  UNNEEDED, same version is already published
771/2083gespeR 1.25.0  (landing page)Fabian Schmich  OK    OK    WARNINGS  UNNEEDED, same version is already published
772/2083getDEE2 1.3.0  (landing page)Mark Ziemann  OK    ERROR  skipped
773/2083geva 1.1.0  (landing page)Itamar José Guimarães Nunes  OK    OK    OK  UNNEEDED, same version is already published
774/2083GEWIST 1.37.0  (landing page)Wei Q. Deng  OK    OK    OK  UNNEEDED, same version is already published
775/2083ggbio 1.41.0  (landing page)Michael Lawrence  OK    OK    ERROR  
776/2083ggcyto 1.21.0  (landing page)Mike Jiang ,Jake Wagner  OK    OK    OK  UNNEEDED, same version is already published
777/2083ggmsa 0.99.4  (landing page)Lang Zhou