Back to Multiple platform build/check report for BioC 3.14
ABCDEFGHIJKLM[N]OPQRSTUVWXYZ

This page was generated on 2021-11-29 15:05:02 -0500 (Mon, 29 Nov 2021).

CHECK results for ncGTW on nebbiolo2

To the developers/maintainers of the ncGTW package:
- Please allow up to 24 hours (and sometimes 48 hours) for your latest push to git@git.bioconductor.org:packages/ncGTW.git to
reflect on this report. See How and When does the builder pull? When will my changes propagate? here for more information.
- Make sure to use the following settings in order to reproduce any error or warning you see on this page.

raw results

Package 1273/2083HostnameOS / ArchINSTALLBUILDCHECKBUILD BIN
ncGTW 1.8.0  (landing page)
Chiung-Ting Wu
Snapshot Date: 2021-11-28 04:15:06 -0500 (Sun, 28 Nov 2021)
git_url: https://git.bioconductor.org/packages/ncGTW
git_branch: RELEASE_3_14
git_last_commit: b4a5445
git_last_commit_date: 2021-10-26 12:53:15 -0500 (Tue, 26 Oct 2021)
nebbiolo2Linux (Ubuntu 20.04.3 LTS) / x86_64  OK    OK    OK  UNNEEDED, same version is already published
tokay2Windows Server 2012 R2 Standard / x64  OK    OK    OK    OK  UNNEEDED, same version is already published
machv2macOS 10.14.6 Mojave / x86_64  OK    OK    OK    OK  UNNEEDED, same version is already published

Summary

Package: ncGTW
Version: 1.8.0
Command: /home/biocbuild/bbs-3.14-bioc/R/bin/R CMD check --install=check:ncGTW.install-out.txt --library=/home/biocbuild/bbs-3.14-bioc/R/library --no-vignettes --timings ncGTW_1.8.0.tar.gz
StartedAt: 2021-11-28 10:07:43 -0500 (Sun, 28 Nov 2021)
EndedAt: 2021-11-28 10:13:58 -0500 (Sun, 28 Nov 2021)
EllapsedTime: 375.4 seconds
RetCode: 0
Status:   OK  
CheckDir: ncGTW.Rcheck
Warnings: 0

Command output

##############################################################################
##############################################################################
###
### Running command:
###
###   /home/biocbuild/bbs-3.14-bioc/R/bin/R CMD check --install=check:ncGTW.install-out.txt --library=/home/biocbuild/bbs-3.14-bioc/R/library --no-vignettes --timings ncGTW_1.8.0.tar.gz
###
##############################################################################
##############################################################################


* using log directory ‘/home/biocbuild/bbs-3.14-bioc/meat/ncGTW.Rcheck’
* using R version 4.1.2 (2021-11-01)
* using platform: x86_64-pc-linux-gnu (64-bit)
* using session charset: UTF-8
* using option ‘--no-vignettes’
* checking for file ‘ncGTW/DESCRIPTION’ ... OK
* checking extension type ... Package
* this is package ‘ncGTW’ version ‘1.8.0’
* package encoding: UTF-8
* checking package namespace information ... OK
* checking package dependencies ... OK
* checking if this is a source package ... OK
* checking if there is a namespace ... OK
* checking for hidden files and directories ... OK
* checking for portable file names ... OK
* checking for sufficient/correct file permissions ... OK
* checking whether package ‘ncGTW’ can be installed ... OK
* checking installed package size ... NOTE
  installed size is  5.2Mb
  sub-directories of 1Mb or more:
    extdata   3.3Mb
    libs      1.3Mb
* checking package directory ... OK
* checking ‘build’ directory ... OK
* checking DESCRIPTION meta-information ... OK
* checking top-level files ... OK
* checking for left-over files ... OK
* checking index information ... OK
* checking package subdirectories ... OK
* checking R files for non-ASCII characters ... OK
* checking R files for syntax errors ... OK
* checking whether the package can be loaded ... OK
* checking whether the package can be loaded with stated dependencies ... OK
* checking whether the package can be unloaded cleanly ... OK
* checking whether the namespace can be loaded with stated dependencies ... OK
* checking whether the namespace can be unloaded cleanly ... OK
* checking dependencies in R code ... NOTE
Unexported objects imported by ':::' calls:
  ‘xcms:::.createProfileMatrix’ ‘xcms:::colMax’ ‘xcms:::findRange’
  See the note in ?`:::` about the use of this operator.
* checking S3 generic/method consistency ... OK
* checking replacement functions ... OK
* checking foreign function calls ... OK
* checking R code for possible problems ... OK
* checking Rd files ... OK
* checking Rd metadata ... OK
* checking Rd cross-references ... OK
* checking for missing documentation entries ... OK
* checking for code/documentation mismatches ... OK
* checking Rd \usage sections ... OK
* checking Rd contents ... OK
* checking for unstated dependencies in examples ... OK
* checking contents of ‘data’ directory ... OK
* checking data for non-ASCII characters ... OK
* checking LazyData ... OK
* checking data for ASCII and uncompressed saves ... OK
* checking line endings in C/C++/Fortran sources/headers ... OK
* checking compiled code ... NOTE
Note: information on .o files is not available
* checking files in ‘vignettes’ ... OK
* checking examples ... OK
Examples with CPU (user + system) or elapsed time > 5s
              user system elapsed
loadProfile 29.495  0.516  30.023
plotGroup   29.404  0.008  29.412
meanCorOl   28.400  0.012  28.413
* checking for unstated dependencies in ‘tests’ ... OK
* checking tests ...
  Running ‘testthat.R’
 OK
* checking for unstated dependencies in vignettes ... OK
* checking package vignettes in ‘inst/doc’ ... OK
* checking running R code from vignettes ... SKIPPED
* checking re-building of vignette outputs ... SKIPPED
* checking PDF version of manual ... OK
* DONE

Status: 3 NOTEs
See
  ‘/home/biocbuild/bbs-3.14-bioc/meat/ncGTW.Rcheck/00check.log’
for details.



Installation output

ncGTW.Rcheck/00install.out

##############################################################################
##############################################################################
###
### Running command:
###
###   /home/biocbuild/bbs-3.14-bioc/R/bin/R CMD INSTALL ncGTW
###
##############################################################################
##############################################################################


* installing to library ‘/home/biocbuild/bbs-3.14-bioc/R/library’
* installing *source* package ‘ncGTW’ ...
** using staged installation
** libs
g++ -std=gnu++14 -I"/home/biocbuild/bbs-3.14-bioc/R/include" -DNDEBUG  -I'/home/biocbuild/bbs-3.14-bioc/R/library/Rcpp/include' -I/usr/local/include   -fpic  -g -O2  -Wall -c RcppExports.cpp -o RcppExports.o
g++ -std=gnu++14 -I"/home/biocbuild/bbs-3.14-bioc/R/include" -DNDEBUG  -I'/home/biocbuild/bbs-3.14-bioc/R/library/Rcpp/include' -I/usr/local/include   -fpic  -g -O2  -Wall -c graphCut.cpp -o graphCut.o
g++ -std=gnu++14 -I"/home/biocbuild/bbs-3.14-bioc/R/include" -DNDEBUG  -I'/home/biocbuild/bbs-3.14-bioc/R/library/Rcpp/include' -I/usr/local/include   -fpic  -g -O2  -Wall -c ibfs.cpp -o ibfs.o
g++ -std=gnu++14 -shared -L/home/biocbuild/bbs-3.14-bioc/R/lib -L/usr/local/lib -o ncGTW.so RcppExports.o graphCut.o ibfs.o -L/home/biocbuild/bbs-3.14-bioc/R/lib -lR
installing to /home/biocbuild/bbs-3.14-bioc/R/library/00LOCK-ncGTW/00new/ncGTW/libs
** R
** data
*** moving datasets to lazyload DB
** inst
** byte-compile and prepare package for lazy loading
** help
*** installing help indices
** building package indices
** installing vignettes
** testing if installed package can be loaded from temporary location
** checking absolute paths in shared objects and dynamic libraries
** testing if installed package can be loaded from final location
** testing if installed package keeps a record of temporary installation path
* DONE (ncGTW)

Tests output

ncGTW.Rcheck/tests/testthat.Rout


R version 4.1.2 (2021-11-01) -- "Bird Hippie"
Copyright (C) 2021 The R Foundation for Statistical Computing
Platform: x86_64-pc-linux-gnu (64-bit)

R is free software and comes with ABSOLUTELY NO WARRANTY.
You are welcome to redistribute it under certain conditions.
Type 'license()' or 'licence()' for distribution details.

R is a collaborative project with many contributors.
Type 'contributors()' for more information and
'citation()' on how to cite R or R packages in publications.

Type 'demo()' for some demos, 'help()' for on-line help, or
'help.start()' for an HTML browser interface to help.
Type 'q()' to quit R.

> library(testthat)
> library(ncGTW)
Loading required package: BiocParallel
Loading required package: xcms
Loading required package: MSnbase
Loading required package: BiocGenerics

Attaching package: 'BiocGenerics'

The following objects are masked from 'package:stats':

    IQR, mad, sd, var, xtabs

The following objects are masked from 'package:base':

    Filter, Find, Map, Position, Reduce, anyDuplicated, append,
    as.data.frame, basename, cbind, colnames, dirname, do.call,
    duplicated, eval, evalq, get, grep, grepl, intersect, is.unsorted,
    lapply, mapply, match, mget, order, paste, pmax, pmax.int, pmin,
    pmin.int, rank, rbind, rownames, sapply, setdiff, sort, table,
    tapply, union, unique, unsplit, which.max, which.min

Loading required package: Biobase
Welcome to Bioconductor

    Vignettes contain introductory material; view with
    'browseVignettes()'. To cite Bioconductor, see
    'citation("Biobase")', and for packages 'citation("pkgname")'.

Loading required package: mzR
Loading required package: Rcpp
Loading required package: S4Vectors
Loading required package: stats4

Attaching package: 'S4Vectors'

The following objects are masked from 'package:base':

    I, expand.grid, unname

Loading required package: ProtGenerics

Attaching package: 'ProtGenerics'

The following object is masked from 'package:stats':

    smooth


This is MSnbase version 2.20.3 
  Visit https://lgatto.github.io/MSnbase/ to get started.


Attaching package: 'MSnbase'

The following object is masked from 'package:base':

    trimws


This is xcms version 3.16.1 


Attaching package: 'xcms'

The following object is masked from 'package:stats':

    sigma

> 
> test_check("ncGTW")
[ FAIL 0 | WARN 0 | SKIP 0 | PASS 7 ]
> 
> proc.time()
   user  system elapsed 
 64.080   1.161  65.227 

Example timings

ncGTW.Rcheck/ncGTW-Ex.timings

nameusersystemelapsed
adjustRT0.0230.0000.024
compCV0.0040.0020.007
loadProfile29.495 0.51630.023
meanCorOl28.400 0.01228.413
misalignDetect0.0070.0000.007
ncGTWalign0.0150.0000.014
ncGTWinput-accessors0.0100.0040.014
ncGTWoutput-accessors0.0100.0040.014
ncGTWwarp-accessors0.0140.0000.014
plotGroup29.404 0.00829.412