Back to Multiple platform build/check report for BioC 3.14
ABCDEFGHIJKLM[N]OPQRSTUVWXYZ

This page was generated on 2022-01-19 13:07:01 -0500 (Wed, 19 Jan 2022).

HostnameOSArch (*)R versionInstalled pkgs
nebbiolo2Linux (Ubuntu 20.04.4 LTS)x86_644.1.2 (2021-11-01) -- "Bird Hippie" 4328
tokay2Windows Server 2012 R2 Standardx644.1.2 (2021-11-01) -- "Bird Hippie" 4077
machv2macOS 10.14.6 Mojavex86_644.1.2 (2021-11-01) -- "Bird Hippie" 4138
Click on any hostname to see more info about the system (e.g. compilers)      (*) as reported by 'uname -p', except on Windows and Mac OS X

CHECK results for nanotatoR on tokay2


To the developers/maintainers of the nanotatoR package:
- Please allow up to 24 hours (and sometimes 48 hours) for your latest push to git@git.bioconductor.org:packages/nanotatoR.git to
reflect on this report. See How and When does the builder pull? When will my changes propagate? here for more information.
- Make sure to use the following settings in order to reproduce any error or warning you see on this page.

raw results

Package 1268/2083HostnameOS / ArchINSTALLBUILDCHECKBUILD BIN
nanotatoR 1.10.0  (landing page)
Surajit Bhattacharya
Snapshot Date: 2022-01-18 01:55:07 -0500 (Tue, 18 Jan 2022)
git_url: https://git.bioconductor.org/packages/nanotatoR
git_branch: RELEASE_3_14
git_last_commit: 821a44d
git_last_commit_date: 2021-10-26 12:51:40 -0500 (Tue, 26 Oct 2021)
nebbiolo2Linux (Ubuntu 20.04.4 LTS) / x86_64  OK    OK    OK  UNNEEDED, same version is already published
tokay2Windows Server 2012 R2 Standard / x64  OK    OK    OK    OK  UNNEEDED, same version is already published
machv2macOS 10.14.6 Mojave / x86_64  OK    OK    OK    OK  UNNEEDED, same version is already published

Summary

Package: nanotatoR
Version: 1.10.0
Command: C:\Users\biocbuild\bbs-3.14-bioc\R\bin\R.exe CMD check --force-multiarch --install=check:nanotatoR.install-out.txt --library=C:\Users\biocbuild\bbs-3.14-bioc\R\library --no-vignettes --timings nanotatoR_1.10.0.tar.gz
StartedAt: 2022-01-18 23:21:21 -0500 (Tue, 18 Jan 2022)
EndedAt: 2022-01-18 23:26:01 -0500 (Tue, 18 Jan 2022)
EllapsedTime: 279.8 seconds
RetCode: 0
Status:   OK  
CheckDir: nanotatoR.Rcheck
Warnings: 0

Command output

##############################################################################
##############################################################################
###
### Running command:
###
###   C:\Users\biocbuild\bbs-3.14-bioc\R\bin\R.exe CMD check --force-multiarch --install=check:nanotatoR.install-out.txt --library=C:\Users\biocbuild\bbs-3.14-bioc\R\library --no-vignettes --timings nanotatoR_1.10.0.tar.gz
###
##############################################################################
##############################################################################


* using log directory 'C:/Users/biocbuild/bbs-3.14-bioc/meat/nanotatoR.Rcheck'
* using R version 4.1.2 (2021-11-01)
* using platform: x86_64-w64-mingw32 (64-bit)
* using session charset: ISO8859-1
* using option '--no-vignettes'
* checking for file 'nanotatoR/DESCRIPTION' ... OK
* this is package 'nanotatoR' version '1.10.0'
* package encoding: UTF-8
* checking package namespace information ... OK
* checking package dependencies ... OK
* checking if this is a source package ... OK
* checking if there is a namespace ... OK
* checking for hidden files and directories ... NOTE
Found the following hidden files and directories:
  .travis.yml
These were most likely included in error. See section 'Package
structure' in the 'Writing R Extensions' manual.
* checking for portable file names ... OK
* checking whether package 'nanotatoR' can be installed ... OK
* checking installed package size ... OK
* checking package directory ... OK
* checking 'build' directory ... OK
* checking DESCRIPTION meta-information ... OK
* checking top-level files ... OK
* checking for left-over files ... OK
* checking index information ... OK
* checking package subdirectories ... OK
* checking R files for non-ASCII characters ... OK
* checking R files for syntax errors ... OK
* loading checks for arch 'i386'
** checking whether the package can be loaded ... OK
** checking whether the package can be loaded with stated dependencies ... OK
** checking whether the package can be unloaded cleanly ... OK
** checking whether the namespace can be loaded with stated dependencies ... OK
** checking whether the namespace can be unloaded cleanly ... OK
* loading checks for arch 'x64'
** checking whether the package can be loaded ... OK
** checking whether the package can be loaded with stated dependencies ... OK
** checking whether the package can be unloaded cleanly ... OK
** checking whether the namespace can be loaded with stated dependencies ... OK
** checking whether the namespace can be unloaded cleanly ... OK
* checking dependencies in R code ... NOTE
Namespace in Imports field not imported from: 'GenomicRanges'
  All declared Imports should be used.
* checking S3 generic/method consistency ... OK
* checking replacement functions ... OK
* checking foreign function calls ... OK
* checking R code for possible problems ... OK
* checking Rd files ... OK
* checking Rd metadata ... OK
* checking Rd cross-references ... OK
* checking for missing documentation entries ... OK
* checking for code/documentation mismatches ... OK
* checking Rd \usage sections ... OK
* checking Rd contents ... OK
* checking for unstated dependencies in examples ... OK
* checking files in 'vignettes' ... OK
* checking examples ...
** running examples for arch 'i386' ... OK
** running examples for arch 'x64' ... OK
* checking for unstated dependencies in 'tests' ... OK
* checking tests ...
** running tests for arch 'i386' ...
  Running 'testthat.R'
 OK
** running tests for arch 'x64' ...
  Running 'testthat.R'
 OK
* checking for unstated dependencies in vignettes ... OK
* checking package vignettes in 'inst/doc' ... OK
* checking running R code from vignettes ... SKIPPED
* checking re-building of vignette outputs ... SKIPPED
* checking PDF version of manual ... OK
* DONE

Status: 2 NOTEs
See
  'C:/Users/biocbuild/bbs-3.14-bioc/meat/nanotatoR.Rcheck/00check.log'
for details.



Installation output

nanotatoR.Rcheck/00install.out

##############################################################################
##############################################################################
###
### Running command:
###
###   C:\cygwin\bin\curl.exe -O http://155.52.207.166/BBS/3.14/bioc/src/contrib/nanotatoR_1.10.0.tar.gz && rm -rf nanotatoR.buildbin-libdir && mkdir nanotatoR.buildbin-libdir && C:\Users\biocbuild\bbs-3.14-bioc\R\bin\R.exe CMD INSTALL --merge-multiarch --build --library=nanotatoR.buildbin-libdir nanotatoR_1.10.0.tar.gz && C:\Users\biocbuild\bbs-3.14-bioc\R\bin\R.exe CMD INSTALL nanotatoR_1.10.0.zip && rm nanotatoR_1.10.0.tar.gz nanotatoR_1.10.0.zip
###
##############################################################################
##############################################################################


  % Total    % Received % Xferd  Average Speed   Time    Time     Time  Current
                                 Dload  Upload   Total   Spent    Left  Speed

  0     0    0     0    0     0      0      0 --:--:-- --:--:-- --:--:--     0
  1  214k    1  2487    0     0  42008      0  0:00:05 --:--:--  0:00:05 42152
100  214k  100  214k    0     0  1341k      0 --:--:-- --:--:-- --:--:-- 1337k

install for i386

* installing *source* package 'nanotatoR' ...
** using staged installation
** R
** inst
** byte-compile and prepare package for lazy loading
** help
*** installing help indices
  converting help for package 'nanotatoR'
    finding HTML links ... done
    BNDBfrequency                           html  
    DGVfrequency                            html  
    Decipherfrequency                       html  
    FamilyInfoPrep                          html  
    OverlapRNAseq                           html  
    OverlapRNAseq_solo                      html  
    RNAseqcombine                           html  
    RNAseqcombine_solo                      html  
    SVexpression_duo_trio                   html  
    SVexpression_solo                       html  
    buildrunBNBedFiles                      html  
    clinvar_gene                            html  
    extract_clinvar_mod                     html  
    gene_extraction                         html  
    gene_list_generation                    html  
    gtr_gene                                html  
    internalFrequencyTrio_Duo               html  
    internalFrequency_solo                  html  
    makeInternalBNDatabase                  html  
    mergingSMAP_SE                          html  
    mergingSMAP_SVMerge                     html  
    merging_SE_SVMerge                      html  
    nanotatoR                               html  
    nanotatoR_Duo_SVmerge                   html  
    nanotatoR_SVmerge_Trio                  html  
    nanotatoR_main_Duo_SE                   html  
    nanotatoR_main_Solo_SE                  html  
    nanotatoR_main_Solo_SVmerge             html  
    nanotatoR_main_Trio_SE                  html  
    nonOverlapGenes                         html  
    nonOverlapRNAseq                        html  
    nonOverlapRNAseq_solo                   html  
    nonOverlappingDNGenes                   html  
    nonOverlappingUPGenes                   html  
    omim_gene                               html  
    overlapGenes                            html  
    overlapnearestgeneSearch                html  
    overlappingGenes                        html  
    phenoextractHPO_mod                     html  
    readBNBedFiles                          html  
    readSMap                                html  
    readSMap_DLE                            html  
    reading_GTR                             html  
    reading_mim2gene                        html  
    run_bionano_filter_SE_Trio              html  
    run_bionano_filter_SE_duo               html  
    run_bionano_filter_SE_solo              html  
    run_bionano_filter_SVMerge_Trio         html  
    run_bionano_filter_SVMerge_duo          html  
    run_bionano_filter_SVMerge_solo         html  
** building package indices
** installing vignettes
** testing if installed package can be loaded from temporary location
** testing if installed package can be loaded from final location
** testing if installed package keeps a record of temporary installation path

install for x64

* installing *source* package 'nanotatoR' ...
** testing if installed package can be loaded
* MD5 sums
packaged installation of 'nanotatoR' as nanotatoR_1.10.0.zip
* DONE (nanotatoR)
* installing to library 'C:/Users/biocbuild/bbs-3.14-bioc/R/library'
package 'nanotatoR' successfully unpacked and MD5 sums checked

Tests output

nanotatoR.Rcheck/tests_i386/testthat.Rout


R version 4.1.2 (2021-11-01) -- "Bird Hippie"
Copyright (C) 2021 The R Foundation for Statistical Computing
Platform: i386-w64-mingw32/i386 (32-bit)

R is free software and comes with ABSOLUTELY NO WARRANTY.
You are welcome to redistribute it under certain conditions.
Type 'license()' or 'licence()' for distribution details.

R is a collaborative project with many contributors.
Type 'contributors()' for more information and
'citation()' on how to cite R or R packages in publications.

Type 'demo()' for some demos, 'help()' for on-line help, or
'help.start()' for an HTML browser interface to help.
Type 'q()' to quit R.

> library(testthat)
> library(nanotatoR)

> 
> test_check("nanotatoR")
[ FAIL 0 | WARN 0 | SKIP 0 | PASS 0 ]
> 
> proc.time()
   user  system elapsed 
   5.76    0.39    6.14 

nanotatoR.Rcheck/tests_x64/testthat.Rout


R version 4.1.2 (2021-11-01) -- "Bird Hippie"
Copyright (C) 2021 The R Foundation for Statistical Computing
Platform: x86_64-w64-mingw32/x64 (64-bit)

R is free software and comes with ABSOLUTELY NO WARRANTY.
You are welcome to redistribute it under certain conditions.
Type 'license()' or 'licence()' for distribution details.

R is a collaborative project with many contributors.
Type 'contributors()' for more information and
'citation()' on how to cite R or R packages in publications.

Type 'demo()' for some demos, 'help()' for on-line help, or
'help.start()' for an HTML browser interface to help.
Type 'q()' to quit R.

> library(testthat)
> library(nanotatoR)

> 
> test_check("nanotatoR")
[ FAIL 0 | WARN 0 | SKIP 0 | PASS 0 ]
> 
> proc.time()
   user  system elapsed 
   5.96    0.28    6.25 

Example timings

nanotatoR.Rcheck/examples_i386/nanotatoR-Ex.timings

nameusersystemelapsed
BNDBfrequency0.110.000.19
DGVfrequency0.020.020.03
Decipherfrequency0.050.000.05
FamilyInfoPrep0.010.000.01
OverlapRNAseq0.290.000.28
OverlapRNAseq_solo0.150.000.16
RNAseqcombine000
RNAseqcombine_solo0.140.000.15
SVexpression_duo_trio000
SVexpression_solo0.200.000.21
buildrunBNBedFiles000
clinvar_gene0.030.000.05
extract_clinvar_mod0.030.020.05
gene_extraction0.410.031.19
gene_list_generation0.480.011.46
gtr_gene0.020.000.02
internalFrequencyTrio_Duo0.250.000.25
internalFrequency_solo0.220.000.22
makeInternalBNDatabase0.010.000.01
mergingSMAP_SE0.020.000.02
mergingSMAP_SVMerge0.020.000.03
merging_SE_SVMerge0.060.000.06
nanotatoR000
nanotatoR_Duo_SVmerge000
nanotatoR_SVmerge_Trio000
nanotatoR_main_Duo_SE000
nanotatoR_main_Solo_SE0.670.010.70
nanotatoR_main_Solo_SVmerge0.110.020.13
nanotatoR_main_Trio_SE0.080.000.08
nonOverlapGenes0.010.000.01
nonOverlapRNAseq0.140.000.14
nonOverlapRNAseq_solo0.140.000.14
nonOverlappingDNGenes0.020.000.02
nonOverlappingUPGenes0.020.000.01
omim_gene0.030.000.49
overlapGenes0.010.000.01
overlapnearestgeneSearch0.030.010.05
overlappingGenes0.050.000.05
phenoextractHPO_mod000
readBNBedFiles0.020.000.01
readSMap0.010.000.02
readSMap_DLE0.020.000.01
reading_GTR0.000.020.02
reading_mim2gene000
run_bionano_filter_SE_Trio0.340.000.37
run_bionano_filter_SE_duo000
run_bionano_filter_SE_solo0.520.000.52
run_bionano_filter_SVMerge_Trio000
run_bionano_filter_SVMerge_duo000
run_bionano_filter_SVMerge_solo0.320.000.31

nanotatoR.Rcheck/examples_x64/nanotatoR-Ex.timings

nameusersystemelapsed
BNDBfrequency0.050.020.06
DGVfrequency0.010.000.02
Decipherfrequency0.020.000.01
FamilyInfoPrep0.010.000.02
OverlapRNAseq0.170.000.17
OverlapRNAseq_solo0.100.010.11
RNAseqcombine000
RNAseqcombine_solo0.110.000.11
SVexpression_duo_trio000
SVexpression_solo0.180.000.18
buildrunBNBedFiles000
clinvar_gene0.020.000.02
extract_clinvar_mod0.010.000.02
gene_extraction0.440.021.18
gene_list_generation0.420.001.39
gtr_gene0.020.000.02
internalFrequencyTrio_Duo0.190.010.20
internalFrequency_solo0.230.000.23
makeInternalBNDatabase000
mergingSMAP_SE0.010.000.01
mergingSMAP_SVMerge0.020.000.02
merging_SE_SVMerge0.050.000.05
nanotatoR000
nanotatoR_Duo_SVmerge000
nanotatoR_SVmerge_Trio000
nanotatoR_main_Duo_SE000
nanotatoR_main_Solo_SE0.570.010.62
nanotatoR_main_Solo_SVmerge0.180.000.17
nanotatoR_main_Trio_SE0.090.000.10
nonOverlapGenes0.030.000.03
nonOverlapRNAseq0.140.020.15
nonOverlapRNAseq_solo0.140.000.15
nonOverlappingDNGenes0.020.000.01
nonOverlappingUPGenes0.040.000.05
omim_gene0.000.000.48
overlapGenes0.020.000.02
overlapnearestgeneSearch0.050.000.04
overlappingGenes0.040.000.05
phenoextractHPO_mod0.020.000.02
readBNBedFiles000
readSMap0.030.000.03
readSMap_DLE0.020.000.01
reading_GTR000
reading_mim2gene000
run_bionano_filter_SE_Trio0.310.020.33
run_bionano_filter_SE_duo000
run_bionano_filter_SE_solo0.430.010.44
run_bionano_filter_SVMerge_Trio000
run_bionano_filter_SVMerge_duo000
run_bionano_filter_SVMerge_solo0.280.000.28