Back to Multiple platform build/check report for BioC 3.14
ABCDEFGHIJKL[M]NOPQRSTUVWXYZ

This page was generated on 2022-01-26 13:08:24 -0500 (Wed, 26 Jan 2022).

HostnameOSArch (*)R versionInstalled pkgs
nebbiolo2Linux (Ubuntu 20.04.4 LTS)x86_644.1.2 (2021-11-01) -- "Bird Hippie" 4329
tokay2Windows Server 2012 R2 Standardx644.1.2 (2021-11-01) -- "Bird Hippie" 4080
machv2macOS 10.14.6 Mojavex86_644.1.2 (2021-11-01) -- "Bird Hippie" 4141
Click on any hostname to see more info about the system (e.g. compilers)      (*) as reported by 'uname -p', except on Windows and Mac OS X

CHECK results for muscat on machv2


To the developers/maintainers of the muscat package:
- Please allow up to 24 hours (and sometimes 48 hours) for your latest push to git@git.bioconductor.org:packages/muscat.git to
reflect on this report. See How and When does the builder pull? When will my changes propagate? here for more information.
- Make sure to use the following settings in order to reproduce any error or warning you see on this page.

raw results

Package 1253/2083HostnameOS / ArchINSTALLBUILDCHECKBUILD BIN
muscat 1.8.1  (landing page)
Helena L. Crowell
Snapshot Date: 2022-01-25 01:55:07 -0500 (Tue, 25 Jan 2022)
git_url: https://git.bioconductor.org/packages/muscat
git_branch: RELEASE_3_14
git_last_commit: 06006c2
git_last_commit_date: 2022-01-14 03:51:16 -0500 (Fri, 14 Jan 2022)
nebbiolo2Linux (Ubuntu 20.04.4 LTS) / x86_64  OK    OK    ERROR  
tokay2Windows Server 2012 R2 Standard / x64  OK    OK    ERROR    OK  
machv2macOS 10.14.6 Mojave / x86_64  OK    OK    ERROR    OK  

Summary

Package: muscat
Version: 1.8.1
Command: /Library/Frameworks/R.framework/Resources/bin/R CMD check --install=check:muscat.install-out.txt --library=/Library/Frameworks/R.framework/Resources/library --no-vignettes --timings muscat_1.8.1.tar.gz
StartedAt: 2022-01-25 15:38:20 -0500 (Tue, 25 Jan 2022)
EndedAt: 2022-01-25 15:50:32 -0500 (Tue, 25 Jan 2022)
EllapsedTime: 732.3 seconds
RetCode: 1
Status:   ERROR  
CheckDir: muscat.Rcheck
Warnings: NA

Command output

##############################################################################
##############################################################################
###
### Running command:
###
###   /Library/Frameworks/R.framework/Resources/bin/R CMD check --install=check:muscat.install-out.txt --library=/Library/Frameworks/R.framework/Resources/library --no-vignettes --timings muscat_1.8.1.tar.gz
###
##############################################################################
##############################################################################


* using log directory ‘/Users/biocbuild/bbs-3.14-bioc/meat/muscat.Rcheck’
* using R version 4.1.2 (2021-11-01)
* using platform: x86_64-apple-darwin17.0 (64-bit)
* using session charset: UTF-8
* using option ‘--no-vignettes’
* checking for file ‘muscat/DESCRIPTION’ ... OK
* checking extension type ... Package
* this is package ‘muscat’ version ‘1.8.1’
* package encoding: UTF-8
* checking package namespace information ... OK
* checking package dependencies ... OK
* checking if this is a source package ... OK
* checking if there is a namespace ... OK
* checking for hidden files and directories ... OK
* checking for portable file names ... OK
* checking for sufficient/correct file permissions ... OK
* checking whether package ‘muscat’ can be installed ... OK
* checking installed package size ... OK
* checking package directory ... OK
* checking ‘build’ directory ... OK
* checking DESCRIPTION meta-information ... OK
* checking top-level files ... OK
* checking for left-over files ... OK
* checking index information ... OK
* checking package subdirectories ... OK
* checking R files for non-ASCII characters ... OK
* checking R files for syntax errors ... OK
* checking whether the package can be loaded ... OK
* checking whether the package can be loaded with stated dependencies ... OK
* checking whether the package can be unloaded cleanly ... OK
* checking whether the namespace can be loaded with stated dependencies ... OK
* checking whether the namespace can be unloaded cleanly ... OK
* checking dependencies in R code ... OK
* checking S3 generic/method consistency ... OK
* checking replacement functions ... OK
* checking foreign function calls ... OK
* checking R code for possible problems ... OK
* checking Rd files ... OK
* checking Rd metadata ... OK
* checking Rd cross-references ... OK
* checking for missing documentation entries ... OK
* checking for code/documentation mismatches ... OK
* checking Rd \usage sections ... OK
* checking Rd contents ... OK
* checking for unstated dependencies in examples ... OK
* checking contents of ‘data’ directory ... OK
* checking data for non-ASCII characters ... OK
* checking data for ASCII and uncompressed saves ... OK
* checking files in ‘vignettes’ ... OK
* checking examples ... OK
Examples with CPU (user + system) or elapsed time > 5s
                user system elapsed
simData       18.880  0.229  19.129
mmDS          17.375  0.279  17.666
pbHeatmap     14.344  0.158  14.516
prepSim       11.863  0.199  12.083
aggregateData  6.433  0.255   6.693
resDS          6.434  0.089   6.535
* checking for unstated dependencies in ‘tests’ ... OK
* checking tests ...
  Running ‘testthat.R’
 ERROR
Running the tests in ‘tests/testthat.R’ failed.
Last 13 lines of output:
  Please re-install glmmTMB from source or restore original 'TMB' package (see '?reinstalling' for more information)
  > 
  > test_check("muscat")
  [ FAIL 1 | WARN 2 | SKIP 0 | PASS 550 ]
  
  ══ Failed tests ════════════════════════════════════════════════════════════════
  ── Failure (test-resDS.R:66:5): resDS() - 'cpm = TRUE' ─────────────────────────
  all(u%%2 == 0 | is.na(u)) is not TRUE
  
  `actual`:   FALSE
  `expected`: TRUE 
  
  [ FAIL 1 | WARN 2 | SKIP 0 | PASS 550 ]
  Error: Test failures
  Execution halted
* checking for unstated dependencies in vignettes ... OK
* checking package vignettes in ‘inst/doc’ ... OK
* checking running R code from vignettes ... SKIPPED
* checking re-building of vignette outputs ... SKIPPED
* checking PDF version of manual ... OK
* DONE

Status: 1 ERROR
See
  ‘/Users/biocbuild/bbs-3.14-bioc/meat/muscat.Rcheck/00check.log’
for details.


Installation output

muscat.Rcheck/00install.out

##############################################################################
##############################################################################
###
### Running command:
###
###   /Library/Frameworks/R.framework/Resources/bin/R CMD INSTALL muscat
###
##############################################################################
##############################################################################


* installing to library ‘/Library/Frameworks/R.framework/Versions/4.1/Resources/library’
* installing *source* package ‘muscat’ ...
** using staged installation
** R
** data
** inst
** byte-compile and prepare package for lazy loading
Warning in checkMatrixPackageVersion() :
  Package version inconsistency detected.
TMB was built with Matrix version 1.3.4
Current Matrix version is 1.4.0
Please re-install 'TMB' from source using install.packages('TMB', type = 'source') or ask CRAN for a binary version of 'TMB' matching CRAN's 'Matrix' package
Warning in checkDepPackageVersion(dep_pkg = "TMB") :
  Package version inconsistency detected.
glmmTMB was built with TMB version 1.7.21
Current TMB version is 1.7.22
Please re-install glmmTMB from source or restore original ‘TMB’ package (see '?reinstalling' for more information)
** help
*** installing help indices
** building package indices
** installing vignettes
** testing if installed package can be loaded from temporary location
Warning in checkMatrixPackageVersion() :
  Package version inconsistency detected.
TMB was built with Matrix version 1.3.4
Current Matrix version is 1.4.0
Please re-install 'TMB' from source using install.packages('TMB', type = 'source') or ask CRAN for a binary version of 'TMB' matching CRAN's 'Matrix' package
Warning in checkDepPackageVersion(dep_pkg = "TMB") :
  Package version inconsistency detected.
glmmTMB was built with TMB version 1.7.21
Current TMB version is 1.7.22
Please re-install glmmTMB from source or restore original ‘TMB’ package (see '?reinstalling' for more information)
** testing if installed package can be loaded from final location
Warning in checkMatrixPackageVersion() :
  Package version inconsistency detected.
TMB was built with Matrix version 1.3.4
Current Matrix version is 1.4.0
Please re-install 'TMB' from source using install.packages('TMB', type = 'source') or ask CRAN for a binary version of 'TMB' matching CRAN's 'Matrix' package
Warning in checkDepPackageVersion(dep_pkg = "TMB") :
  Package version inconsistency detected.
glmmTMB was built with TMB version 1.7.21
Current TMB version is 1.7.22
Please re-install glmmTMB from source or restore original ‘TMB’ package (see '?reinstalling' for more information)
** testing if installed package keeps a record of temporary installation path
* DONE (muscat)

Tests output

muscat.Rcheck/tests/testthat.Rout.fail


R version 4.1.2 (2021-11-01) -- "Bird Hippie"
Copyright (C) 2021 The R Foundation for Statistical Computing
Platform: x86_64-apple-darwin17.0 (64-bit)

R is free software and comes with ABSOLUTELY NO WARRANTY.
You are welcome to redistribute it under certain conditions.
Type 'license()' or 'licence()' for distribution details.

R is a collaborative project with many contributors.
Type 'contributors()' for more information and
'citation()' on how to cite R or R packages in publications.

Type 'demo()' for some demos, 'help()' for on-line help, or
'help.start()' for an HTML browser interface to help.
Type 'q()' to quit R.

> library(testthat)
> library(muscat)
Warning messages:
1: In checkMatrixPackageVersion() :
  Package version inconsistency detected.
TMB was built with Matrix version 1.3.4
Current Matrix version is 1.4.0
Please re-install 'TMB' from source using install.packages('TMB', type = 'source') or ask CRAN for a binary version of 'TMB' matching CRAN's 'Matrix' package
2: In checkDepPackageVersion(dep_pkg = "TMB") :
  Package version inconsistency detected.
glmmTMB was built with TMB version 1.7.21
Current TMB version is 1.7.22
Please re-install glmmTMB from source or restore original 'TMB' package (see '?reinstalling' for more information)
> 
> test_check("muscat")
[ FAIL 1 | WARN 2 | SKIP 0 | PASS 550 ]

══ Failed tests ════════════════════════════════════════════════════════════════
── Failure (test-resDS.R:66:5): resDS() - 'cpm = TRUE' ─────────────────────────
all(u%%2 == 0 | is.na(u)) is not TRUE

`actual`:   FALSE
`expected`: TRUE 

[ FAIL 1 | WARN 2 | SKIP 0 | PASS 550 ]
Error: Test failures
Execution halted

Example timings

muscat.Rcheck/muscat-Ex.timings

nameusersystemelapsed
aggregateData6.4330.2556.693
calcExprFreqs1.7920.0351.829
data000
mmDS17.375 0.27917.666
pbDS4.2420.0474.294
pbFlatten3.0260.0333.061
pbHeatmap14.344 0.15814.516
pbMDS2.3520.0192.372
prepSCE1.6450.0191.666
prepSim11.863 0.19912.083
resDS6.4340.0896.535
simData18.880 0.22919.129