Back to Multiple platform build/check report for BioC 3.14
ABCDEFGHIJKL[M]NOPQRSTUVWXYZ

This page was generated on 2022-01-19 13:07:00 -0500 (Wed, 19 Jan 2022).

HostnameOSArch (*)R versionInstalled pkgs
nebbiolo2Linux (Ubuntu 20.04.4 LTS)x86_644.1.2 (2021-11-01) -- "Bird Hippie" 4328
tokay2Windows Server 2012 R2 Standardx644.1.2 (2021-11-01) -- "Bird Hippie" 4077
machv2macOS 10.14.6 Mojavex86_644.1.2 (2021-11-01) -- "Bird Hippie" 4138
Click on any hostname to see more info about the system (e.g. compilers)      (*) as reported by 'uname -p', except on Windows and Mac OS X

BUILD BIN results for mumosa on tokay2


To the developers/maintainers of the mumosa package:
- Please allow up to 24 hours (and sometimes 48 hours) for your latest push to git@git.bioconductor.org:packages/mumosa.git to
reflect on this report. See How and When does the builder pull? When will my changes propagate? here for more information.
- Make sure to use the following settings in order to reproduce any error or warning you see on this page.

raw results

Package 1251/2083HostnameOS / ArchINSTALLBUILDCHECKBUILD BIN
mumosa 1.2.0  (landing page)
Aaron Lun
Snapshot Date: 2022-01-18 01:55:07 -0500 (Tue, 18 Jan 2022)
git_url: https://git.bioconductor.org/packages/mumosa
git_branch: RELEASE_3_14
git_last_commit: 8c9f2e8
git_last_commit_date: 2021-10-26 13:05:57 -0500 (Tue, 26 Oct 2021)
nebbiolo2Linux (Ubuntu 20.04.4 LTS) / x86_64  OK    OK    OK  UNNEEDED, same version is already published
tokay2Windows Server 2012 R2 Standard / x64  OK    OK    OK    OK  UNNEEDED, same version is already published
machv2macOS 10.14.6 Mojave / x86_64  OK    OK    OK    OK  UNNEEDED, same version is already published

Summary

Package: mumosa
Version: 1.2.0
Command: rm -rf mumosa.buildbin-libdir && mkdir mumosa.buildbin-libdir && C:\Users\biocbuild\bbs-3.14-bioc\R\bin\R.exe CMD INSTALL --merge-multiarch --build --library=mumosa.buildbin-libdir mumosa_1.2.0.tar.gz
StartedAt: 2022-01-19 06:18:08 -0500 (Wed, 19 Jan 2022)
EndedAt: 2022-01-19 06:19:01 -0500 (Wed, 19 Jan 2022)
EllapsedTime: 52.9 seconds
RetCode: 0
Status:   OK  
PackageFile: mumosa_1.2.0.zip
PackageFileSize: 501.1 KiB

Command output

##############################################################################
##############################################################################
###
### Running command:
###
###   rm -rf mumosa.buildbin-libdir && mkdir mumosa.buildbin-libdir && C:\Users\biocbuild\bbs-3.14-bioc\R\bin\R.exe CMD INSTALL --merge-multiarch --build --library=mumosa.buildbin-libdir mumosa_1.2.0.tar.gz
###
##############################################################################
##############################################################################



install for i386

* installing *source* package 'mumosa' ...
** using staged installation
** R
** inst
** byte-compile and prepare package for lazy loading
** help
*** installing help indices
  converting help for package 'mumosa'
    finding HTML links ... done
    computeCorrelations                     html  
    finding level-2 HTML links ... done

    findTopCorrelations                     html  
    intersectClusters                       html  
    intersectGraphs                         html  
    multiModalMNN                           html  
    rescaleByNeighbors                      html  
    runMultiUMAP                            html  
** building package indices
** installing vignettes
** testing if installed package can be loaded from temporary location
** testing if installed package can be loaded from final location
** testing if installed package keeps a record of temporary installation path

install for x64

* installing *source* package 'mumosa' ...
** testing if installed package can be loaded
* MD5 sums
packaged installation of 'mumosa' as mumosa_1.2.0.zip
* DONE (mumosa)