Back to Multiple platform build/check report for BioC 3.14
ABCDEFGHIJKL[M]NOPQRSTUVWXYZ

This page was generated on 2022-01-17 13:06:39 -0500 (Mon, 17 Jan 2022).

HostnameOSArch (*)R versionInstalled pkgs
nebbiolo2Linux (Ubuntu 20.04.4 LTS)x86_644.1.2 (2021-11-01) -- "Bird Hippie" 4328
tokay2Windows Server 2012 R2 Standardx644.1.2 (2021-11-01) -- "Bird Hippie" 4077
machv2macOS 10.14.6 Mojavex86_644.1.2 (2021-11-01) -- "Bird Hippie" 4138
Click on any hostname to see more info about the system (e.g. compilers)      (*) as reported by 'uname -p', except on Windows and Mac OS X

BUILD BIN results for multiMiR on tokay2


To the developers/maintainers of the multiMiR package:
- Please allow up to 24 hours (and sometimes 48 hours) for your latest push to git@git.bioconductor.org:packages/multiMiR.git to
reflect on this report. See How and When does the builder pull? When will my changes propagate? here for more information.
- Make sure to use the following settings in order to reproduce any error or warning you see on this page.

raw results

Package 1246/2083HostnameOS / ArchINSTALLBUILDCHECKBUILD BIN
multiMiR 1.16.0  (landing page)
Matt Mulvahill
Snapshot Date: 2022-01-16 01:55:05 -0500 (Sun, 16 Jan 2022)
git_url: https://git.bioconductor.org/packages/multiMiR
git_branch: RELEASE_3_14
git_last_commit: 56f3190
git_last_commit_date: 2021-10-26 12:38:12 -0500 (Tue, 26 Oct 2021)
nebbiolo2Linux (Ubuntu 20.04.4 LTS) / x86_64  OK    OK    OK  UNNEEDED, same version is already published
tokay2Windows Server 2012 R2 Standard / x64  OK    OK    OK    OK  UNNEEDED, same version is already published
machv2macOS 10.14.6 Mojave / x86_64  OK    OK    OK    OK  UNNEEDED, same version is already published

Summary

Package: multiMiR
Version: 1.16.0
Command: rm -rf multiMiR.buildbin-libdir && mkdir multiMiR.buildbin-libdir && C:\Users\biocbuild\bbs-3.14-bioc\R\bin\R.exe CMD INSTALL --merge-multiarch --build --library=multiMiR.buildbin-libdir multiMiR_1.16.0.tar.gz
StartedAt: 2022-01-17 07:43:12 -0500 (Mon, 17 Jan 2022)
EndedAt: 2022-01-17 07:44:03 -0500 (Mon, 17 Jan 2022)
EllapsedTime: 50.7 seconds
RetCode: 0
Status:   OK  
PackageFile: multiMiR_1.16.0.zip
PackageFileSize: 675.5 KiB

Command output

##############################################################################
##############################################################################
###
### Running command:
###
###   rm -rf multiMiR.buildbin-libdir && mkdir multiMiR.buildbin-libdir && C:\Users\biocbuild\bbs-3.14-bioc\R\bin\R.exe CMD INSTALL --merge-multiarch --build --library=multiMiR.buildbin-libdir multiMiR_1.16.0.tar.gz
###
##############################################################################
##############################################################################



install for i386

* installing *source* package 'multiMiR' ...
** using staged installation
** R
** inst
** byte-compile and prepare package for lazy loading
** help
*** installing help indices
  converting help for package 'multiMiR'
    finding HTML links ... done
    add.multimir.links                      html  
    all_tables                              html  
    as.mmquery                              html  
    as_mmsql_components                     html  
    build_mmsql                             html  
    default_cutoff                          html  
    deprecate_arg                           html  
    extract_mmquery                         html  
    get.multimir.cutoffs                    html  
    get_multimir                            html  
    list_multimir                           html  
    mmquery_bioc-class                      html  
    multiMiR                                html  
REDIRECT:topic	 Previous alias or file overwritten by alias: C:/Users/biocbuild/bbs-3.14-bioc/meat/multiMiR.buildbin-libdir/00LOCK-multiMiR/00new/multiMiR/help/multimir.html
    multimir.summary                        html  
    multimir_dbInfo                         html  
    multimir_switchDBVersion                html  
    null_to_df                              html  
    pad                                     html  
    parens_quote                            html  
    parens_wrap                             html  
    parse_orgs                              html  
    parse_response                          html  
    query_multimir                          html  
    quote_wrap                              html  
    remove_empty_strings                    html  
    remove_table                            html  
    search_multimir                         html  
    split_by                                html  
    sql_org                                 html  
    sql_validated                           html  
    submit_request                          html  
** building package indices
** installing vignettes
** testing if installed package can be loaded from temporary location
** testing if installed package can be loaded from final location
** testing if installed package keeps a record of temporary installation path

install for x64

* installing *source* package 'multiMiR' ...
** testing if installed package can be loaded
* MD5 sums
packaged installation of 'multiMiR' as multiMiR_1.16.0.zip
* DONE (multiMiR)