Back to Multiple platform build/check report for BioC 3.14
ABCDEFGHIJKL[M]NOPQRSTUVWXYZ

This page was generated on 2021-12-06 13:05:04 -0500 (Mon, 06 Dec 2021).

BUILD results for msqrob2 on nebbiolo2

To the developers/maintainers of the msqrob2 package:
- Please allow up to 24 hours (and sometimes 48 hours) for your latest push to git@git.bioconductor.org:packages/msqrob2.git to
reflect on this report. See How and When does the builder pull? When will my changes propagate? here for more information.
- Make sure to use the following settings in order to reproduce any error or warning you see on this page.

raw results

Package 1226/2083HostnameOS / ArchINSTALLBUILDCHECKBUILD BIN
msqrob2 1.2.0  (landing page)
Lieven Clement
Snapshot Date: 2021-12-05 01:55:05 -0500 (Sun, 05 Dec 2021)
git_url: https://git.bioconductor.org/packages/msqrob2
git_branch: RELEASE_3_14
git_last_commit: 815b2a6
git_last_commit_date: 2021-10-26 13:10:11 -0500 (Tue, 26 Oct 2021)
nebbiolo2Linux (Ubuntu 20.04.3 LTS) / x86_64  OK    OK    OK  UNNEEDED, same version is already published
tokay2Windows Server 2012 R2 Standard / x64  OK    OK    OK    OK  UNNEEDED, same version is already published
machv2macOS 10.14.6 Mojave / x86_64  OK    OK    OK    OK  UNNEEDED, same version is already published

Summary

Package: msqrob2
Version: 1.2.0
Command: /home/biocbuild/bbs-3.14-bioc/R/bin/R CMD build --keep-empty-dirs --no-resave-data msqrob2
StartedAt: 2021-12-05 05:04:48 -0500 (Sun, 05 Dec 2021)
EndedAt: 2021-12-05 05:06:32 -0500 (Sun, 05 Dec 2021)
EllapsedTime: 103.2 seconds
RetCode: 0
Status:   OK  
PackageFile: msqrob2_1.2.0.tar.gz
PackageFileSize: 2.026 MiB

Command output

##############################################################################
##############################################################################
###
### Running command:
###
###   /home/biocbuild/bbs-3.14-bioc/R/bin/R CMD build --keep-empty-dirs --no-resave-data msqrob2
###
##############################################################################
##############################################################################


* checking for file ‘msqrob2/DESCRIPTION’ ... OK
* preparing ‘msqrob2’:
* checking DESCRIPTION meta-information ... OK
* installing the package to build vignettes
* creating vignettes ... OK
* checking for LF line-endings in source and make files and shell scripts
* checking for empty or unneeded directories
* looking to see if a ‘data/datalist’ file should be added
* building ‘msqrob2_1.2.0.tar.gz’