Back to Multiple platform build/check report for BioC 3.14
ABCDEFGHIJKL[M]NOPQRSTUVWXYZ

This page was generated on 2022-01-17 13:06:36 -0500 (Mon, 17 Jan 2022).

HostnameOSArch (*)R versionInstalled pkgs
nebbiolo2Linux (Ubuntu 20.04.4 LTS)x86_644.1.2 (2021-11-01) -- "Bird Hippie" 4328
tokay2Windows Server 2012 R2 Standardx644.1.2 (2021-11-01) -- "Bird Hippie" 4077
machv2macOS 10.14.6 Mojavex86_644.1.2 (2021-11-01) -- "Bird Hippie" 4138
Click on any hostname to see more info about the system (e.g. compilers)      (*) as reported by 'uname -p', except on Windows and Mac OS X

CHECK results for mixOmics on tokay2


To the developers/maintainers of the mixOmics package:
- Please allow up to 24 hours (and sometimes 48 hours) for your latest push to git@git.bioconductor.org:packages/mixOmics.git to
reflect on this report. See How and When does the builder pull? When will my changes propagate? here for more information.
- Make sure to use the following settings in order to reproduce any error or warning you see on this page.

raw results

Package 1178/2083HostnameOS / ArchINSTALLBUILDCHECKBUILD BIN
mixOmics 6.18.1  (landing page)
Al J Abadi
Snapshot Date: 2022-01-16 01:55:05 -0500 (Sun, 16 Jan 2022)
git_url: https://git.bioconductor.org/packages/mixOmics
git_branch: RELEASE_3_14
git_last_commit: 5ef4960
git_last_commit_date: 2021-11-17 07:39:17 -0500 (Wed, 17 Nov 2021)
nebbiolo2Linux (Ubuntu 20.04.4 LTS) / x86_64  OK    OK    OK  UNNEEDED, same version is already published
tokay2Windows Server 2012 R2 Standard / x64  OK    OK    OK    OK  UNNEEDED, same version is already published
machv2macOS 10.14.6 Mojave / x86_64  OK    OK    OK    OK  UNNEEDED, same version is already published

Summary

Package: mixOmics
Version: 6.18.1
Command: C:\Users\biocbuild\bbs-3.14-bioc\R\bin\R.exe CMD check --force-multiarch --install=check:mixOmics.install-out.txt --library=C:\Users\biocbuild\bbs-3.14-bioc\R\library --no-vignettes --timings mixOmics_6.18.1.tar.gz
StartedAt: 2022-01-17 00:02:31 -0500 (Mon, 17 Jan 2022)
EndedAt: 2022-01-17 00:09:42 -0500 (Mon, 17 Jan 2022)
EllapsedTime: 431.7 seconds
RetCode: 0
Status:   OK  
CheckDir: mixOmics.Rcheck
Warnings: 0

Command output

##############################################################################
##############################################################################
###
### Running command:
###
###   C:\Users\biocbuild\bbs-3.14-bioc\R\bin\R.exe CMD check --force-multiarch --install=check:mixOmics.install-out.txt --library=C:\Users\biocbuild\bbs-3.14-bioc\R\library --no-vignettes --timings mixOmics_6.18.1.tar.gz
###
##############################################################################
##############################################################################


* using log directory 'C:/Users/biocbuild/bbs-3.14-bioc/meat/mixOmics.Rcheck'
* using R version 4.1.2 (2021-11-01)
* using platform: x86_64-w64-mingw32 (64-bit)
* using session charset: ISO8859-1
* using option '--no-vignettes'
* checking for file 'mixOmics/DESCRIPTION' ... OK
* checking extension type ... Package
* this is package 'mixOmics' version '6.18.1'
* package encoding: UTF-8
* checking package namespace information ... OK
* checking package dependencies ... OK
* checking if this is a source package ... OK
* checking if there is a namespace ... OK
* checking for hidden files and directories ... OK
* checking for portable file names ... OK
* checking whether package 'mixOmics' can be installed ... OK
* checking installed package size ... NOTE
  installed size is  7.3Mb
  sub-directories of 1Mb or more:
    R      1.3Mb
    data   3.3Mb
* checking package directory ... OK
* checking DESCRIPTION meta-information ...It is recommended to use 'given' instead of 'middle'.
 OK
* checking top-level files ... OK
* checking for left-over files ... OK
* checking index information ... OK
* checking package subdirectories ... OK
* checking R files for non-ASCII characters ... OK
* checking R files for syntax errors ... OK
* loading checks for arch 'i386'
** checking whether the package can be loaded ... OK
** checking whether the package can be loaded with stated dependencies ... OK
** checking whether the package can be unloaded cleanly ... OK
** checking whether the namespace can be loaded with stated dependencies ... OK
** checking whether the namespace can be unloaded cleanly ... OK
* loading checks for arch 'x64'
** checking whether the package can be loaded ... OK
** checking whether the package can be loaded with stated dependencies ... OK
** checking whether the package can be unloaded cleanly ... OK
** checking whether the namespace can be loaded with stated dependencies ... OK
** checking whether the namespace can be unloaded cleanly ... OK
* checking dependencies in R code ... OK
* checking S3 generic/method consistency ... OK
* checking replacement functions ... OK
* checking foreign function calls ... OK
* checking R code for possible problems ... OK
* checking Rd files ... OK
* checking Rd metadata ... OK
* checking Rd cross-references ... OK
* checking for missing documentation entries ... OK
* checking for code/documentation mismatches ... OK
* checking Rd \usage sections ... OK
* checking Rd contents ... OK
* checking for unstated dependencies in examples ... OK
* checking contents of 'data' directory ... OK
* checking data for non-ASCII characters ... OK
* checking data for ASCII and uncompressed saves ... OK
* checking files in 'vignettes' ... OK
* checking examples ...
** running examples for arch 'i386' ... OK
Examples with CPU (user + system) or elapsed time > 5s
                    user system elapsed
biplot             14.36   0.02   14.37
background.predict  7.58   0.34    7.92
circosPlot          6.28   0.05    6.32
block.splsda        5.72   0.03    5.75
** running examples for arch 'x64' ... OK
Examples with CPU (user + system) or elapsed time > 5s
                    user system elapsed
biplot             12.33   0.03   12.39
background.predict  7.47   0.07    7.53
circosPlot          6.42   0.03    6.45
block.spls          5.21   0.00    5.20
block.splsda        5.17   0.03    5.20
* checking for unstated dependencies in 'tests' ... OK
* checking tests ...
** running tests for arch 'i386' ...
  Running 'testthat.R'
 OK
** running tests for arch 'x64' ...
  Running 'testthat.R'
 OK
* checking for unstated dependencies in vignettes ... OK
* checking package vignettes in 'inst/doc' ... OK
* checking running R code from vignettes ... SKIPPED
* checking re-building of vignette outputs ... SKIPPED
* checking PDF version of manual ... OK
* DONE

Status: 1 NOTE
See
  'C:/Users/biocbuild/bbs-3.14-bioc/meat/mixOmics.Rcheck/00check.log'
for details.



Installation output

mixOmics.Rcheck/00install.out

##############################################################################
##############################################################################
###
### Running command:
###
###   C:\cygwin\bin\curl.exe -O http://155.52.207.166/BBS/3.14/bioc/src/contrib/mixOmics_6.18.1.tar.gz && rm -rf mixOmics.buildbin-libdir && mkdir mixOmics.buildbin-libdir && C:\Users\biocbuild\bbs-3.14-bioc\R\bin\R.exe CMD INSTALL --merge-multiarch --build --library=mixOmics.buildbin-libdir mixOmics_6.18.1.tar.gz && C:\Users\biocbuild\bbs-3.14-bioc\R\bin\R.exe CMD INSTALL mixOmics_6.18.1.zip && rm mixOmics_6.18.1.tar.gz mixOmics_6.18.1.zip
###
##############################################################################
##############################################################################


  % Total    % Received % Xferd  Average Speed   Time    Time     Time  Current
                                 Dload  Upload   Total   Spent    Left  Speed

  0     0    0     0    0     0      0      0 --:--:-- --:--:-- --:--:--     0
 49 5131k   49 2528k    0     0  4845k      0  0:00:01 --:--:--  0:00:01 4844k
100 5131k  100 5131k    0     0  6124k      0 --:--:-- --:--:-- --:--:-- 6123k

install for i386

* installing *source* package 'mixOmics' ...
** using staged installation
It is recommended to use 'given' instead of 'middle'.
It is recommended to use 'given' instead of 'middle'.
** R
** data
** inst
** byte-compile and prepare package for lazy loading
** help
*** installing help indices
  converting help for package 'mixOmics'
    finding HTML links ... done
    Koren.16S                               html  
    S3methods-print                         html  
    auroc                                   html  
    background.predict                      html  
    biplot                                  html  
    block.pls                               html  
    block.plsda                             html  
    block.spls                              html  
    block.splsda                            html  
    breast.TCGA                             html  
    breast.tumors                           html  
    cim                                     html  
    cimDiablo                               html  
    circosPlot                              html  
    colors                                  html  
    diverse.16S                             html  
    explained_variance                      html  
    get.confusion_matrix                    html  
    image.tune.rcc                          html  
    imgCor                                  html  
    impute.nipals                           html  
    ipca                                    html  
    linnerud                                html  
    liver.toxicity                          html  
    logratio-transformations                html  
    map                                     html  
    mat.rank                                html  
    mint.block.pls                          html  
    mint.block.plsda                        html  
    mint.block.spls                         html  
    mint.block.splsda                       html  
    mint.pca                                html  
    mint.pls                                html  
    mint.plsda                              html  
    mint.spls                               html  
    mint.splsda                             html  
    mixOmics-package                        html  
    mixOmics                                html  
    multidrug                               html  
    nearZeroVar                             html  
    network                                 html  
    nipals                                  html  
    nutrimouse                              html  
    pca                                     html  
    perf                                    html  
    plot.pca                                html  
    plot.perf                               html  
    plot.perf.pls                           html  
    plot.rcc                                html  
    plot.tune                               html  
    plotArrow                               html  
    plotDiablo                              html  
    plotIndiv                               html  
    plotLoadings                            html  
    plotMarkers                             html  
    plotVar                                 html  
    pls                                     html  
    plsda                                   html  
    predict                                 html  
    rcc                                     html  
    finding level-2 HTML links ... done

    selectVar                               html  
    sipca                                   html  
    spca                                    html  
    spls                                    html  
    splsda                                  html  
    srbct                                   html  
    stemcells                               html  
    study_split                             html  
    summary                                 html  
    tune                                    html  
    tune.block.splsda                       html  
    tune.mint.splsda                        html  
    tune.pca                                html  
    tune.rcc                                html  
    tune.spca                               html  
    tune.spls                               html  
    tune.splsda                             html  
    tune.splslevel                          html  
    unmap                                   html  
    vac18                                   html  
    vac18.simulated                         html  
    vip                                     html  
    withinVariation                         html  
    wrapper.rgcca                           html  
    wrapper.sgcca                           html  
    yeast                                   html  
    zz-defunct                              html  
** building package indices
** installing vignettes
** testing if installed package can be loaded from temporary location
** testing if installed package can be loaded from final location
** testing if installed package keeps a record of temporary installation path

install for x64

* installing *source* package 'mixOmics' ...
** testing if installed package can be loaded
* MD5 sums
packaged installation of 'mixOmics' as mixOmics_6.18.1.zip
* DONE (mixOmics)
* installing to library 'C:/Users/biocbuild/bbs-3.14-bioc/R/library'
package 'mixOmics' successfully unpacked and MD5 sums checked

Tests output

mixOmics.Rcheck/tests_i386/testthat.Rout


R version 4.1.2 (2021-11-01) -- "Bird Hippie"
Copyright (C) 2021 The R Foundation for Statistical Computing
Platform: i386-w64-mingw32/i386 (32-bit)

R is free software and comes with ABSOLUTELY NO WARRANTY.
You are welcome to redistribute it under certain conditions.
Type 'license()' or 'licence()' for distribution details.

R is a collaborative project with many contributors.
Type 'contributors()' for more information and
'citation()' on how to cite R or R packages in publications.

Type 'demo()' for some demos, 'help()' for on-line help, or
'help.start()' for an HTML browser interface to help.
Type 'q()' to quit R.

> library(testthat)
> library(mixOmics)
Loading required package: MASS
Loading required package: lattice
Loading required package: ggplot2

Loaded mixOmics 6.18.1
Thank you for using mixOmics!
Tutorials: http://mixomics.org
Bookdown vignette: https://mixomicsteam.github.io/Bookdown
Questions, issues: Follow the prompts at http://mixomics.org/contact-us
Cite us:  citation('mixOmics')

> 
> test_check("mixOmics")
$Comp1
           AUC   p-value
AF vs BE 0.863 2.473e-05

$Comp2
            AUC   p-value
AF vs BE 0.9981 7.124e-09


adding block name to feature names in the output similarity matrix as there are similar feature names across blocks.

Performing repeated cross-validation with nrepeat = 3...

  |                                                                            
  |                                                                      |   0%
  |                                                                            
  |=======================                                               |  33%
  |                                                                            
  |===============================================                       |  67%
  |                                                                            
  |======================================================================| 100%
Performing repeated cross-validation with nrepeat = 3...

  |                                                                            
  |                                                                      |   0%[ FAIL 0 | WARN 0 | SKIP 0 | PASS 134 ]
> 
> proc.time()
   user  system elapsed 
  37.20    1.31   48.37 

mixOmics.Rcheck/tests_x64/testthat.Rout


R version 4.1.2 (2021-11-01) -- "Bird Hippie"
Copyright (C) 2021 The R Foundation for Statistical Computing
Platform: x86_64-w64-mingw32/x64 (64-bit)

R is free software and comes with ABSOLUTELY NO WARRANTY.
You are welcome to redistribute it under certain conditions.
Type 'license()' or 'licence()' for distribution details.

R is a collaborative project with many contributors.
Type 'contributors()' for more information and
'citation()' on how to cite R or R packages in publications.

Type 'demo()' for some demos, 'help()' for on-line help, or
'help.start()' for an HTML browser interface to help.
Type 'q()' to quit R.

> library(testthat)
> library(mixOmics)
Loading required package: MASS
Loading required package: lattice
Loading required package: ggplot2

Loaded mixOmics 6.18.1
Thank you for using mixOmics!
Tutorials: http://mixomics.org
Bookdown vignette: https://mixomicsteam.github.io/Bookdown
Questions, issues: Follow the prompts at http://mixomics.org/contact-us
Cite us:  citation('mixOmics')

> 
> test_check("mixOmics")
$Comp1
           AUC   p-value
AF vs BE 0.863 2.473e-05

$Comp2
            AUC   p-value
AF vs BE 0.9981 7.124e-09


adding block name to feature names in the output similarity matrix as there are similar feature names across blocks.

Performing repeated cross-validation with nrepeat = 3...

  |                                                                            
  |                                                                      |   0%
  |                                                                            
  |=======================                                               |  33%
  |                                                                            
  |===============================================                       |  67%
  |                                                                            
  |======================================================================| 100%
Performing repeated cross-validation with nrepeat = 3...

  |                                                                            
  |                                                                      |   0%[ FAIL 0 | WARN 0 | SKIP 0 | PASS 134 ]
> 
> proc.time()
   user  system elapsed 
  38.39    1.01   49.57 

Example timings

mixOmics.Rcheck/examples_i386/mixOmics-Ex.timings

nameusersystemelapsed
S3methods-print0.020.020.03
auroc0.720.010.73
background.predict7.580.347.92
biplot14.36 0.0214.37
block.pls0.470.000.47
block.plsda0.620.000.63
block.spls4.800.034.83
block.splsda5.720.035.75
cim0.030.020.04
cimDiablo0.330.010.35
circosPlot6.280.056.32
colors0.030.000.03
explained_variance0.130.000.13
get.confusion_matrix0.530.010.54
image.tune.rcc1.930.001.94
imgCor0.130.020.14
impute.nipals0.020.000.02
ipca0.730.030.76
logratio-transformations0.090.000.10
map0.020.000.01
mat.rank000
mint.block.pls0.160.000.16
mint.block.plsda0.100.010.12
mint.block.spls0.140.020.15
mint.block.splsda0.130.020.15
mint.pca0.340.000.34
mint.pls0.450.000.45
mint.plsda0.500.010.52
mint.spls0.460.020.47
mint.splsda0.530.000.53
mixOmics0.620.030.65
nearZeroVar0.850.000.85
network0.010.000.01
pca4.470.014.49
perf2.860.132.98
plot.rcc0.030.000.03
plot.tune000
plotArrow3.480.013.50
plotDiablo0.170.020.19
plotIndiv0.240.020.25
plotLoadings0.110.000.11
plotMarkers000
plotVar0.50.00.5
pls000
plsda0.340.010.36
predict0.190.000.18
rcc000
selectVar0.540.160.71
sipca0.650.010.65
spca3.140.133.27
spls0.210.010.23
splsda0.320.020.33
study_split000
summary0.010.020.03
tune4.250.094.35
tune.block.splsda000
tune.mint.splsda2.580.002.57
tune.pca0.190.010.21
tune.rcc1.950.021.97
tune.spca0.690.000.68
tune.spls000
tune.splsda4.140.064.21
tune.splslevel0.910.020.92
unmap0.000.010.01
vip0.010.000.02
withinVariation0.810.000.81
wrapper.rgcca0.080.000.08
wrapper.sgcca0.130.000.12

mixOmics.Rcheck/examples_x64/mixOmics-Ex.timings

nameusersystemelapsed
S3methods-print0.010.000.01
auroc0.750.010.77
background.predict7.470.077.53
biplot12.33 0.0312.39
block.pls0.50.00.5
block.plsda0.670.010.69
block.spls5.210.005.20
block.splsda5.170.035.20
cim0.050.000.05
cimDiablo0.290.000.30
circosPlot6.420.036.45
colors0.040.000.03
explained_variance0.100.000.11
get.confusion_matrix0.180.000.17
image.tune.rcc2.040.002.05
imgCor0.110.020.12
impute.nipals0.020.000.02
ipca1.010.021.03
logratio-transformations0.080.000.08
map0.020.000.01
mat.rank000
mint.block.pls0.110.000.11
mint.block.plsda0.110.000.11
mint.block.spls0.140.020.15
mint.block.splsda0.110.000.11
mint.pca0.360.010.38
mint.pls0.480.000.48
mint.plsda0.530.000.53
mint.spls0.470.020.49
mint.splsda0.580.000.58
mixOmics0.280.030.31
nearZeroVar0.810.000.81
network0.020.000.02
pca4.230.064.29
perf2.500.022.52
plot.rcc0.000.010.02
plot.tune000
plotArrow3.500.033.53
plotDiablo0.140.040.17
plotIndiv0.360.000.36
plotLoadings0.160.030.19
plotMarkers000
plotVar0.560.010.58
pls000
plsda0.330.000.33
predict0.170.000.18
rcc0.000.020.01
selectVar0.420.020.44
sipca0.430.000.42
spca3.280.043.33
spls0.180.020.20
splsda0.30.00.3
study_split0.020.000.02
summary0.010.000.01
tune4.020.014.03
tune.block.splsda000
tune.mint.splsda2.400.002.41
tune.pca0.160.000.16
tune.rcc1.880.001.88
tune.spca0.610.000.60
tune.spls000
tune.splsda4.150.004.16
tune.splslevel0.800.030.83
unmap000
vip0.020.000.02
withinVariation0.780.000.78
wrapper.rgcca0.080.000.08
wrapper.sgcca0.140.000.14