Back to Multiple platform build/check report for BioC 3.14
ABCDEFGHIJKL[M]NOPQRSTUVWXYZ

This page was generated on 2021-11-26 15:04:32 -0500 (Fri, 26 Nov 2021).

All results for package mixOmics

To the developers/maintainers of the mixOmics package:
- Please allow up to 24 hours (and sometimes 48 hours) for your latest push to git@git.bioconductor.org:packages/mixOmics.git to
reflect on this report. See How and When does the builder pull? When will my changes propagate? here for more information.
- Make sure to use the following settings in order to reproduce any error or warning you see on this page.

raw results

Package 1178/2083HostnameOS / ArchINSTALLBUILDCHECKBUILD BIN
mixOmics 6.18.1  (landing page)
Al J Abadi
Snapshot Date: 2021-11-25 04:15:05 -0500 (Thu, 25 Nov 2021)
git_url: https://git.bioconductor.org/packages/mixOmics
git_branch: RELEASE_3_14
git_last_commit: 5ef4960
git_last_commit_date: 2021-11-17 07:39:17 -0500 (Wed, 17 Nov 2021)
nebbiolo2Linux (Ubuntu 20.04.3 LTS) / x86_64  OK    OK    OK  UNNEEDED, same version is already published
tokay2Windows Server 2012 R2 Standard / x64  OK    OK    OK    OK  UNNEEDED, same version is already published
machv2macOS 10.14.6 Mojave / x86_64  OK    OK    OK    OK  UNNEEDED, same version is already published

Results for Bioconductor software packages that depend directly on package mixOmics

QUICK STATSOS / ArchINSTALLBUILDCHECKBUILD BIN
nebbiolo2Linux (Ubuntu 20.04.3 LTS) / x86_64
005
005
0005
tokay2Windows Server 2012 R2 Standard / x64
005
005
0005
005
machv2macOS 10.14.6 Mojave / x86_64
005
005
0104
005
Package 1/5HostnameOS / ArchINSTALLBUILDCHECKBUILD BIN
AlpsNMR 3.4.0  (landing page)
Sergio Oller Moreno
git_last_commit: 8ef0246
git_last_commit_date: 2021-10-26 13:05:05 -0500
nebbiolo2Linux (Ubuntu 20.04.3 LTS) / x86_64  OK    OK    OK  UNNEEDED, same version is already published
tokay2Windows Server 2012 R2 Standard / x64  OK    OK    OK    OK  UNNEEDED, same version is already published
machv2macOS 10.14.6 Mojave / x86_64  OK    OK    OK    OK  UNNEEDED, same version is already published
Package 2/5HostnameOS / ArchINSTALLBUILDCHECKBUILD BIN
DepecheR 1.10.0  (landing page)
Jakob Theorell
git_last_commit: d9ec88d
git_last_commit_date: 2021-10-26 12:50:05 -0500
nebbiolo2Linux (Ubuntu 20.04.3 LTS) / x86_64  OK    OK    OK  UNNEEDED, same version is already published
tokay2Windows Server 2012 R2 Standard / x64  OK    OK    OK    OK  UNNEEDED, same version is already published
machv2macOS 10.14.6 Mojave / x86_64  OK    OK    ERROR    OK  
Package 3/5HostnameOS / ArchINSTALLBUILDCHECKBUILD BIN
multiSight 1.2.0  (landing page)
Florian Jeanneret
git_last_commit: 371993c
git_last_commit_date: 2021-10-26 13:09:27 -0500
nebbiolo2Linux (Ubuntu 20.04.3 LTS) / x86_64  OK    OK    OK  UNNEEDED, same version is already published
tokay2Windows Server 2012 R2 Standard / x64  OK    OK    OK    OK  UNNEEDED, same version is already published
machv2macOS 10.14.6 Mojave / x86_64  OK    OK    OK    OK  UNNEEDED, same version is already published
Package 4/5HostnameOS / ArchINSTALLBUILDCHECKBUILD BIN
POMA 1.4.0  (landing page)
Pol Castellano-Escuder
git_last_commit: c549d40
git_last_commit_date: 2021-10-26 13:01:27 -0500
nebbiolo2Linux (Ubuntu 20.04.3 LTS) / x86_64  OK    OK    OK  UNNEEDED, same version is already published
tokay2Windows Server 2012 R2 Standard / x64  OK    OK    OK    OK  UNNEEDED, same version is already published
machv2macOS 10.14.6 Mojave / x86_64  OK    OK    OK    OK  UNNEEDED, same version is already published
Package 5/5HostnameOS / ArchINSTALLBUILDCHECKBUILD BIN
timeOmics 1.6.0  (landing page)
Antoine Bodein
git_last_commit: 6d94bd4
git_last_commit_date: 2021-10-26 12:58:42 -0500
nebbiolo2Linux (Ubuntu 20.04.3 LTS) / x86_64  OK    OK    OK  UNNEEDED, same version is already published
tokay2Windows Server 2012 R2 Standard / x64  OK    OK    OK    OK  UNNEEDED, same version is already published
machv2macOS 10.14.6 Mojave / x86_64  OK    OK    OK    OK  UNNEEDED, same version is already published