Back to Multiple platform build/check report for BioC 3.14
ABCDEFGHIJKL[M]NOPQRSTUVWXYZ

This page was generated on 2022-01-24 13:06:35 -0500 (Mon, 24 Jan 2022).

HostnameOSArch (*)R versionInstalled pkgs
nebbiolo2Linux (Ubuntu 20.04.4 LTS)x86_644.1.2 (2021-11-01) -- "Bird Hippie" 4329
tokay2Windows Server 2012 R2 Standardx644.1.2 (2021-11-01) -- "Bird Hippie" 4080
machv2macOS 10.14.6 Mojavex86_644.1.2 (2021-11-01) -- "Bird Hippie" 4141
Click on any hostname to see more info about the system (e.g. compilers)      (*) as reported by 'uname -p', except on Windows and Mac OS X

BUILD BIN results for missMethyl on tokay2


To the developers/maintainers of the missMethyl package:
- Please allow up to 24 hours (and sometimes 48 hours) for your latest push to git@git.bioconductor.org:packages/missMethyl.git to
reflect on this report. See How and When does the builder pull? When will my changes propagate? here for more information.
- Make sure to use the following settings in order to reproduce any error or warning you see on this page.

raw results

Package 1173/2083HostnameOS / ArchINSTALLBUILDCHECKBUILD BIN
missMethyl 1.28.0  (landing page)
Belinda Phipson
Snapshot Date: 2022-01-23 01:55:04 -0500 (Sun, 23 Jan 2022)
git_url: https://git.bioconductor.org/packages/missMethyl
git_branch: RELEASE_3_14
git_last_commit: 6a36aee
git_last_commit_date: 2021-10-26 12:14:52 -0500 (Tue, 26 Oct 2021)
nebbiolo2Linux (Ubuntu 20.04.4 LTS) / x86_64  OK    ERROR  skipped
tokay2Windows Server 2012 R2 Standard / x64  OK    OK    OK    OK  UNNEEDED, same version is already published
machv2macOS 10.14.6 Mojave / x86_64  OK    OK    OK    OK  UNNEEDED, same version is already published

Summary

Package: missMethyl
Version: 1.28.0
Command: rm -rf missMethyl.buildbin-libdir && mkdir missMethyl.buildbin-libdir && C:\Users\biocbuild\bbs-3.14-bioc\R\bin\R.exe CMD INSTALL --merge-multiarch --build --library=missMethyl.buildbin-libdir missMethyl_1.28.0.tar.gz
StartedAt: 2022-01-24 06:13:47 -0500 (Mon, 24 Jan 2022)
EndedAt: 2022-01-24 06:20:19 -0500 (Mon, 24 Jan 2022)
EllapsedTime: 391.6 seconds
RetCode: 0
Status:   OK  
PackageFile: missMethyl_1.28.0.zip
PackageFileSize: 768.4 KiB

Command output

##############################################################################
##############################################################################
###
### Running command:
###
###   rm -rf missMethyl.buildbin-libdir && mkdir missMethyl.buildbin-libdir && C:\Users\biocbuild\bbs-3.14-bioc\R\bin\R.exe CMD INSTALL --merge-multiarch --build --library=missMethyl.buildbin-libdir missMethyl_1.28.0.tar.gz
###
##############################################################################
##############################################################################



install for i386

* installing *source* package 'missMethyl' ...
** using staged installation
** R
** inst
** byte-compile and prepare package for lazy loading
** help
*** installing help indices
  converting help for package 'missMethyl'
    finding HTML links ... done
    RUVadj                                  html  
    finding level-2 HTML links ... done

    RUVfit                                  html  
    SWAN                                    html  
    contrasts.varFit                        html  
    densityByProbeType                      html  
    getAdj                                  html  
    getINCs                                 html  
    getLeveneResiduals                      html  
    getMappedEntrezIDs                      html  
    gometh                                  html  
    goregion                                html  
    gsameth                                 html  
    gsaregion                               html  
    gsaseq                                  html  
    missMethyl-package                      html  
    topGSA                                  html  
    topRUV                                  html  
    topVar                                  html  
    varFit                                  html  
** building package indices
** installing vignettes
** testing if installed package can be loaded from temporary location
** testing if installed package can be loaded from final location
** testing if installed package keeps a record of temporary installation path

install for x64

* installing *source* package 'missMethyl' ...
** testing if installed package can be loaded
* MD5 sums
packaged installation of 'missMethyl' as missMethyl_1.28.0.zip
* DONE (missMethyl)