Index of /checkResults/3.14/bioc-LATEST/missMethyl/raw-results/tokay2

[ICO]NameLast modifiedSizeDescription

[DIR]Parent Directory  -  
[TXT]install-out.txt14-Apr-2022 01:06 3.1K 
[   ]install-summary.dcf14-Apr-2022 01:06 668  
[TXT]buildsrc-out.txt14-Apr-2022 01:06 860  
[   ]buildsrc-summary.dcf14-Apr-2022 01:06 471  
[TXT]checksrc-out.txt14-Apr-2022 01:06 4.4K 
[   ]checksrc-summary.dcf14-Apr-2022 01:06 475  
[TXT]buildbin-out.txt14-Apr-2022 01:06 2.3K 
[   ]buildbin-summary.dcf14-Apr-2022 01:06 558