![]() | Name | Last modified | Size | Description |
---|---|---|---|---|
![]() | Parent Directory | - | ||
![]() | buildbin-out.txt | 14-Apr-2022 01:06 | 2.3K | |
![]() | buildbin-summary.dcf | 14-Apr-2022 01:06 | 558 | |
![]() | buildsrc-out.txt | 14-Apr-2022 01:06 | 860 | |
![]() | buildsrc-summary.dcf | 14-Apr-2022 01:06 | 471 | |
![]() | checksrc-out.txt | 14-Apr-2022 01:06 | 4.4K | |
![]() | checksrc-summary.dcf | 14-Apr-2022 01:06 | 475 | |
![]() | install-out.txt | 14-Apr-2022 01:06 | 3.1K | |
![]() | install-summary.dcf | 14-Apr-2022 01:06 | 668 | |