Index of /checkResults/3.14/bioc-LATEST/missMethyl/raw-results
Name
Last modified
Size
Description
Parent Directory
-
tokay2/
14-Apr-2022 01:06
-
nebbiolo2/
14-Apr-2022 01:05
-
machv2/
14-Apr-2022 01:08
-
info.dcf
14-Apr-2022 01:08
288