Back to Multiple platform build/check report for BioC 3.14
ABCDEFGHIJKL[M]NOPQRSTUVWXYZ

This page was generated on 2022-01-17 13:06:35 -0500 (Mon, 17 Jan 2022).

HostnameOSArch (*)R versionInstalled pkgs
nebbiolo2Linux (Ubuntu 20.04.4 LTS)x86_644.1.2 (2021-11-01) -- "Bird Hippie" 4328
tokay2Windows Server 2012 R2 Standardx644.1.2 (2021-11-01) -- "Bird Hippie" 4077
machv2macOS 10.14.6 Mojavex86_644.1.2 (2021-11-01) -- "Bird Hippie" 4138
Click on any hostname to see more info about the system (e.g. compilers)      (*) as reported by 'uname -p', except on Windows and Mac OS X

BUILD BIN results for miaViz on tokay2


To the developers/maintainers of the miaViz package:
- Please allow up to 24 hours (and sometimes 48 hours) for your latest push to git@git.bioconductor.org:packages/miaViz.git to
reflect on this report. See How and When does the builder pull? When will my changes propagate? here for more information.
- Make sure to use the following settings in order to reproduce any error or warning you see on this page.

raw results

Package 1139/2083HostnameOS / ArchINSTALLBUILDCHECKBUILD BIN
miaViz 1.2.1  (landing page)
Felix G.M. Ernst
Snapshot Date: 2022-01-16 01:55:05 -0500 (Sun, 16 Jan 2022)
git_url: https://git.bioconductor.org/packages/miaViz
git_branch: RELEASE_3_14
git_last_commit: 093001e
git_last_commit_date: 2021-12-31 14:33:21 -0500 (Fri, 31 Dec 2021)
nebbiolo2Linux (Ubuntu 20.04.4 LTS) / x86_64  OK    OK    OK  UNNEEDED, same version is already published
tokay2Windows Server 2012 R2 Standard / x64  OK    OK    OK    OK  UNNEEDED, same version is already published
machv2macOS 10.14.6 Mojave / x86_64  OK    OK    OK    OK  UNNEEDED, same version is already published

Summary

Package: miaViz
Version: 1.2.1
Command: rm -rf miaViz.buildbin-libdir && mkdir miaViz.buildbin-libdir && C:\Users\biocbuild\bbs-3.14-bioc\R\bin\R.exe CMD INSTALL --merge-multiarch --build --library=miaViz.buildbin-libdir miaViz_1.2.1.tar.gz
StartedAt: 2022-01-17 07:36:02 -0500 (Mon, 17 Jan 2022)
EndedAt: 2022-01-17 07:37:12 -0500 (Mon, 17 Jan 2022)
EllapsedTime: 70.1 seconds
RetCode: 0
Status:   OK  
PackageFile: miaViz_1.2.1.zip
PackageFileSize: 1.355 MiB

Command output

##############################################################################
##############################################################################
###
### Running command:
###
###   rm -rf miaViz.buildbin-libdir && mkdir miaViz.buildbin-libdir && C:\Users\biocbuild\bbs-3.14-bioc\R\bin\R.exe CMD INSTALL --merge-multiarch --build --library=miaViz.buildbin-libdir miaViz_1.2.1.tar.gz
###
##############################################################################
##############################################################################



install for i386

* installing *source* package 'miaViz' ...
** using staged installation
** R
** data
** inst
** byte-compile and prepare package for lazy loading
** help
*** installing help indices
  converting help for package 'miaViz'
    finding HTML links ... done
    mia-datasets                            html  
    mia-plot-args                           html  
    miaViz-package                          html  
    plotAbundance                           html  
    plotAbundanceDensity                    html  
    plotColTile                             html  
    finding level-2 HTML links ... done

    plotDMN                                 html  
    plotGraph                               html  
    plotPrevalence                          html  
    plotSeries                              html  
    plotTree                                html  
    treeData                                html  
** building package indices
** installing vignettes
** testing if installed package can be loaded from temporary location
** testing if installed package can be loaded from final location
** testing if installed package keeps a record of temporary installation path

install for x64

* installing *source* package 'miaViz' ...
** testing if installed package can be loaded
* MD5 sums
packaged installation of 'miaViz' as miaViz_1.2.1.zip
* DONE (miaViz)