Back to Multiple platform build/check report for BioC 3.14
ABCDEFGHIJKL[M]NOPQRSTUVWXYZ

This page was generated on 2021-12-06 13:05:03 -0500 (Mon, 06 Dec 2021).

INSTALL results for mia on nebbiolo2

To the developers/maintainers of the mia package:
- Please allow up to 24 hours (and sometimes 48 hours) for your latest push to git@git.bioconductor.org:packages/mia.git to
reflect on this report. See How and When does the builder pull? When will my changes propagate? here for more information.
- Make sure to use the following settings in order to reproduce any error or warning you see on this page.

raw results

Package 1137/2083HostnameOS / ArchINSTALLBUILDCHECKBUILD BIN
mia 1.2.3  (landing page)
Felix G.M. Ernst
Snapshot Date: 2021-12-05 01:55:05 -0500 (Sun, 05 Dec 2021)
git_url: https://git.bioconductor.org/packages/mia
git_branch: RELEASE_3_14
git_last_commit: 0c44333
git_last_commit_date: 2021-11-27 04:30:49 -0500 (Sat, 27 Nov 2021)
nebbiolo2Linux (Ubuntu 20.04.3 LTS) / x86_64  OK    OK    OK  UNNEEDED, same version is already published
tokay2Windows Server 2012 R2 Standard / x64  OK    OK    OK    OK  UNNEEDED, same version is already published
machv2macOS 10.14.6 Mojave / x86_64  OK    OK    ERROR    OK  

Summary

Package: mia
Version: 1.2.3
Command: /home/biocbuild/bbs-3.14-bioc/R/bin/R CMD INSTALL mia
StartedAt: 2021-12-05 03:32:14 -0500 (Sun, 05 Dec 2021)
EndedAt: 2021-12-05 03:32:47 -0500 (Sun, 05 Dec 2021)
EllapsedTime: 32.7 seconds
RetCode: 0
Status:   OK  

Command output

##############################################################################
##############################################################################
###
### Running command:
###
###   /home/biocbuild/bbs-3.14-bioc/R/bin/R CMD INSTALL mia
###
##############################################################################
##############################################################################


* installing to library ‘/home/biocbuild/bbs-3.14-bioc/R/library’
* installing *source* package ‘mia’ ...
** using staged installation
** R
** data
** inst
** byte-compile and prepare package for lazy loading
** help
*** installing help indices
** building package indices
** installing vignettes
** testing if installed package can be loaded from temporary location
** testing if installed package can be loaded from final location
** testing if installed package keeps a record of temporary installation path
* DONE (mia)