Back to Multiple platform build/check report for BioC 3.14
ABCDEFGHIJKL[M]NOPQRSTUVWXYZ

This page was generated on 2022-01-14 13:06:44 -0500 (Fri, 14 Jan 2022).

HostnameOSArch (*)R versionInstalled pkgs
nebbiolo2Linux (Ubuntu 20.04.4 LTS)x86_644.1.2 (2021-11-01) -- "Bird Hippie" 4327
tokay2Windows Server 2012 R2 Standardx644.1.2 (2021-11-01) -- "Bird Hippie" 4076
machv2macOS 10.14.6 Mojavex86_644.1.2 (2021-11-01) -- "Bird Hippie" 4137
Click on any hostname to see more info about the system (e.g. compilers)      (*) as reported by 'uname -p', except on Windows and Mac OS X

BUILD BIN results for miRNAmeConverter on tokay2


To the developers/maintainers of the miRNAmeConverter package:
- Please allow up to 24 hours (and sometimes 48 hours) for your latest push to git@git.bioconductor.org:packages/miRNAmeConverter.git to
reflect on this report. See How and When does the builder pull? When will my changes propagate? here for more information.
- Make sure to use the following settings in order to reproduce any error or warning you see on this page.

raw results

Package 1167/2083HostnameOS / ArchINSTALLBUILDCHECKBUILD BIN
miRNAmeConverter 1.22.0  (landing page)
Stefan J. Haunsberger
Snapshot Date: 2022-01-13 01:55:04 -0500 (Thu, 13 Jan 2022)
git_url: https://git.bioconductor.org/packages/miRNAmeConverter
git_branch: RELEASE_3_14
git_last_commit: ca6bcbb
git_last_commit_date: 2021-10-26 12:26:05 -0500 (Tue, 26 Oct 2021)
nebbiolo2Linux (Ubuntu 20.04.4 LTS) / x86_64  OK    OK    WARNINGS  UNNEEDED, same version is already published
tokay2Windows Server 2012 R2 Standard / x64  OK    OK    WARNINGS    OK  UNNEEDED, same version is already published
machv2macOS 10.14.6 Mojave / x86_64  OK    OK    WARNINGS    OK  UNNEEDED, same version is already published

Summary

Package: miRNAmeConverter
Version: 1.22.0
Command: rm -rf miRNAmeConverter.buildbin-libdir && mkdir miRNAmeConverter.buildbin-libdir && C:\Users\biocbuild\bbs-3.14-bioc\R\bin\R.exe CMD INSTALL --merge-multiarch --build --library=miRNAmeConverter.buildbin-libdir miRNAmeConverter_1.22.0.tar.gz
StartedAt: 2022-01-14 06:05:07 -0500 (Fri, 14 Jan 2022)
EndedAt: 2022-01-14 06:05:34 -0500 (Fri, 14 Jan 2022)
EllapsedTime: 27.4 seconds
RetCode: 0
Status:   OK  
PackageFile: miRNAmeConverter_1.22.0.zip
PackageFileSize: 607.3 KiB

Command output

##############################################################################
##############################################################################
###
### Running command:
###
###   rm -rf miRNAmeConverter.buildbin-libdir && mkdir miRNAmeConverter.buildbin-libdir && C:\Users\biocbuild\bbs-3.14-bioc\R\bin\R.exe CMD INSTALL --merge-multiarch --build --library=miRNAmeConverter.buildbin-libdir miRNAmeConverter_1.22.0.tar.gz
###
##############################################################################
##############################################################################



install for i386

* installing *source* package 'miRNAmeConverter' ...
** using staged installation
It is recommended to use 'given' instead of 'middle'.
** R
** data
*** moving datasets to lazyload DB
** inst
** byte-compile and prepare package for lazy loading
Creating a generic function from function 'MiRNANameConverter' in package 'miRNAmeConverter'
** help
*** installing help indices
  converting help for package 'miRNAmeConverter'
    finding HTML links ... done
    MiRNANameConverter-ANY-method           html  
    MiRNANameConverter                      html  
    assessMiRNASwappingMIMAT                html  
    assessVersion                           html  
    checkMiRNAName                          html  
    currentVersion-set                      html  
    currentVersion                          html  
    example.miRNAs                          html  
    miRNAmeConverter                        html  
    nOrganisms-set                          html  
    nOrganisms                              html  
    nTotalEntries-set                       html  
    nTotalEntries                           html  
    saveResults                             html  
    show-MiRNANameConverter-method          html  
    translateMiRNAName                      html  
    validOrganisms-set                      html  
    validOrganisms                          html  
    validVersions-set                       html  
    validVersions                           html  
** building package indices
** testing if installed package can be loaded from temporary location
** testing if installed package can be loaded from final location
** testing if installed package keeps a record of temporary installation path

install for x64

* installing *source* package 'miRNAmeConverter' ...
** testing if installed package can be loaded
* MD5 sums
packaged installation of 'miRNAmeConverter' as miRNAmeConverter_1.22.0.zip
* DONE (miRNAmeConverter)