Back to Multiple platform build/check report for BioC 3.14
ABCDEFGHIJKL[M]NOPQRSTUVWXYZ

This page was generated on 2022-01-21 13:06:40 -0500 (Fri, 21 Jan 2022).

HostnameOSArch (*)R versionInstalled pkgs
nebbiolo2Linux (Ubuntu 20.04.4 LTS)x86_644.1.2 (2021-11-01) -- "Bird Hippie" 4329
tokay2Windows Server 2012 R2 Standardx644.1.2 (2021-11-01) -- "Bird Hippie" 4079
machv2macOS 10.14.6 Mojavex86_644.1.2 (2021-11-01) -- "Bird Hippie" 4140
Click on any hostname to see more info about the system (e.g. compilers)      (*) as reported by 'uname -p', except on Windows and Mac OS X

INSTALL results for miRLAB on tokay2


To the developers/maintainers of the miRLAB package:
- Please allow up to 24 hours (and sometimes 48 hours) for your latest push to git@git.bioconductor.org:packages/miRLAB.git to
reflect on this report. See How and When does the builder pull? When will my changes propagate? here for more information.
- Make sure to use the following settings in order to reproduce any error or warning you see on this page.

raw results

Package 1165/2083HostnameOS / ArchINSTALLBUILDCHECKBUILD BIN
miRLAB 1.24.0  (landing page)
Vu Viet Hoang Pham
Snapshot Date: 2022-01-20 01:55:04 -0500 (Thu, 20 Jan 2022)
git_url: https://git.bioconductor.org/packages/miRLAB
git_branch: RELEASE_3_14
git_last_commit: 023c639
git_last_commit_date: 2021-10-26 12:21:38 -0500 (Tue, 26 Oct 2021)
nebbiolo2Linux (Ubuntu 20.04.4 LTS) / x86_64  OK    OK    OK  UNNEEDED, same version is already published
tokay2Windows Server 2012 R2 Standard / x64  OK    OK    OK    OK  UNNEEDED, same version is already published
machv2macOS 10.14.6 Mojave / x86_64  OK    OK    OK    OK  UNNEEDED, same version is already published

Summary

Package: miRLAB
Version: 1.24.0
Command: C:\cygwin\bin\curl.exe -O http://155.52.207.166/BBS/3.14/bioc/src/contrib/miRLAB_1.24.0.tar.gz && rm -rf miRLAB.buildbin-libdir && mkdir miRLAB.buildbin-libdir && C:\Users\biocbuild\bbs-3.14-bioc\R\bin\R.exe CMD INSTALL --merge-multiarch --build --library=miRLAB.buildbin-libdir miRLAB_1.24.0.tar.gz && C:\Users\biocbuild\bbs-3.14-bioc\R\bin\R.exe CMD INSTALL miRLAB_1.24.0.zip && rm miRLAB_1.24.0.tar.gz miRLAB_1.24.0.zip
StartedAt: 2022-01-20 06:10:54 -0500 (Thu, 20 Jan 2022)
EndedAt: 2022-01-20 06:13:51 -0500 (Thu, 20 Jan 2022)
EllapsedTime: 176.8 seconds
RetCode: 0
Status:   OK  

Command output

##############################################################################
##############################################################################
###
### Running command:
###
###   C:\cygwin\bin\curl.exe -O http://155.52.207.166/BBS/3.14/bioc/src/contrib/miRLAB_1.24.0.tar.gz && rm -rf miRLAB.buildbin-libdir && mkdir miRLAB.buildbin-libdir && C:\Users\biocbuild\bbs-3.14-bioc\R\bin\R.exe CMD INSTALL --merge-multiarch --build --library=miRLAB.buildbin-libdir miRLAB_1.24.0.tar.gz && C:\Users\biocbuild\bbs-3.14-bioc\R\bin\R.exe CMD INSTALL miRLAB_1.24.0.zip && rm miRLAB_1.24.0.tar.gz miRLAB_1.24.0.zip
###
##############################################################################
##############################################################################


  % Total    % Received % Xferd  Average Speed   Time    Time     Time  Current
                                 Dload  Upload   Total   Spent    Left  Speed

  0     0    0     0    0     0      0      0 --:--:-- --:--:-- --:--:--     0
100  184k  100  184k    0     0   819k      0 --:--:-- --:--:-- --:--:--  821k

install for i386

* installing *source* package 'miRLAB' ...
** using staged installation
** R
** inst
** byte-compile and prepare package for lazy loading
** help
*** installing help indices
  converting help for package 'miRLAB'
    finding HTML links ... done
    Borda                                   html  
    BordaTopk                               html  
    Dcov                                    html  
    DiffExpAnalysis                         html  
    Elastic                                 html  
    Extopk                                  html  
    GOBPenrichment                          html  
    Hoeffding                               html  
    ICPPam50                                html  
    IDA                                     html  
    ImputeNormData                          html  
    KEGGenrichment                          html  
    Kendall                                 html  
    Lasso                                   html  
    MI                                      html  
    Pearson                                 html  
    RDC                                     html  
    Read                                    html  
    ReadExtResult                           html  
    Spearman                                html  
    Standardise                             html  
    ValidateAll                             html  
    Validation                              html  
    ValidationT                             html  
    Zscore                                  html  
    bRank                                   html  
    convert                                 html  
    experiment                              html  
    filterAndCompare                        html  
    getData                                 html  
    identifymiRTargetsByEnsemble            html  
    identifymiRTargetsByICPPam50            html  
    miRLAB-package                          html  
    readHeader                              html  
** building package indices
** installing vignettes
** testing if installed package can be loaded from temporary location
** testing if installed package can be loaded from final location
** testing if installed package keeps a record of temporary installation path

install for x64

* installing *source* package 'miRLAB' ...
** testing if installed package can be loaded
* MD5 sums
packaged installation of 'miRLAB' as miRLAB_1.24.0.zip
* DONE (miRLAB)
* installing to library 'C:/Users/biocbuild/bbs-3.14-bioc/R/library'
package 'miRLAB' successfully unpacked and MD5 sums checked