Back to Multiple platform build/check report for BioC 3.14
ABCDEFGHIJKL[M]NOPQRSTUVWXYZ

This page was generated on 2022-01-17 13:07:57 -0500 (Mon, 17 Jan 2022).

HostnameOSArch (*)R versionInstalled pkgs
nebbiolo2Linux (Ubuntu 20.04.4 LTS)x86_644.1.2 (2021-11-01) -- "Bird Hippie" 4328
tokay2Windows Server 2012 R2 Standardx644.1.2 (2021-11-01) -- "Bird Hippie" 4077
machv2macOS 10.14.6 Mojavex86_644.1.2 (2021-11-01) -- "Bird Hippie" 4138
Click on any hostname to see more info about the system (e.g. compilers)      (*) as reported by 'uname -p', except on Windows and Mac OS X

BUILD BIN results for methylscaper on machv2


To the developers/maintainers of the methylscaper package:
- Please allow up to 24 hours (and sometimes 48 hours) for your latest push to git@git.bioconductor.org:packages/methylscaper.git to
reflect on this report. See How and When does the builder pull? When will my changes propagate? here for more information.
- Make sure to use the following settings in order to reproduce any error or warning you see on this page.

raw results

Package 1126/2083HostnameOS / ArchINSTALLBUILDCHECKBUILD BIN
methylscaper 1.2.0  (landing page)
Bacher Rhonda
Snapshot Date: 2022-01-16 01:55:05 -0500 (Sun, 16 Jan 2022)
git_url: https://git.bioconductor.org/packages/methylscaper
git_branch: RELEASE_3_14
git_last_commit: b56a8c2
git_last_commit_date: 2021-10-26 13:07:54 -0500 (Tue, 26 Oct 2021)
nebbiolo2Linux (Ubuntu 20.04.4 LTS) / x86_64  OK    OK    OK  UNNEEDED, same version is already published
tokay2Windows Server 2012 R2 Standard / x64  OK    OK    OK    OK  UNNEEDED, same version is already published
machv2macOS 10.14.6 Mojave / x86_64  OK    OK    OK    OK  UNNEEDED, same version is already published

Summary

Package: methylscaper
Version: 1.2.0
Command: rm -rf methylscaper.buildbin-libdir && mkdir methylscaper.buildbin-libdir && /Users/biocbuild/BBS/utils/build-universal.sh methylscaper_1.2.0.tar.gz /Library/Frameworks/R.framework/Resources/bin/R methylscaper.buildbin-libdir
StartedAt: 2022-01-16 20:36:04 -0500 (Sun, 16 Jan 2022)
EndedAt: 2022-01-16 20:36:49 -0500 (Sun, 16 Jan 2022)
EllapsedTime: 45.6 seconds
RetCode: 0
Status:   OK  
PackageFile: methylscaper_1.2.0.tgz
PackageFileSize: 3.04 MiB

Command output

##############################################################################
##############################################################################
###
### Running command:
###
###   rm -rf methylscaper.buildbin-libdir && mkdir methylscaper.buildbin-libdir && /Users/biocbuild/BBS/utils/build-universal.sh methylscaper_1.2.0.tar.gz /Library/Frameworks/R.framework/Resources/bin/R methylscaper.buildbin-libdir
###
##############################################################################
##############################################################################


>>>>>>> 
>>>>>>> INSTALLATION WITH 'R CMD INSTALL --preclean --no-multiarch --library=methylscaper.buildbin-libdir methylscaper_1.2.0.tar.gz'
>>>>>>> 

* installing *source* package ‘methylscaper’ ...
** using staged installation
** R
** data
** inst
** byte-compile and prepare package for lazy loading
** help
*** installing help indices
** building package indices
** installing vignettes
** testing if installed package can be loaded from temporary location
** testing if installed package can be loaded from final location
** testing if installed package keeps a record of temporary installation path
* DONE (methylscaper)