Back to Multiple platform build/check report for BioC 3.14
ABCDEFGHIJKL[M]NOPQRSTUVWXYZ

This page was generated on 2022-01-19 13:06:54 -0500 (Wed, 19 Jan 2022).

HostnameOSArch (*)R versionInstalled pkgs
nebbiolo2Linux (Ubuntu 20.04.4 LTS)x86_644.1.2 (2021-11-01) -- "Bird Hippie" 4328
tokay2Windows Server 2012 R2 Standardx644.1.2 (2021-11-01) -- "Bird Hippie" 4077
machv2macOS 10.14.6 Mojavex86_644.1.2 (2021-11-01) -- "Bird Hippie" 4138
Click on any hostname to see more info about the system (e.g. compilers)      (*) as reported by 'uname -p', except on Windows and Mac OS X

INSTALL results for methylInheritance on tokay2


To the developers/maintainers of the methylInheritance package:
- Please allow up to 24 hours (and sometimes 48 hours) for your latest push to git@git.bioconductor.org:packages/methylInheritance.git to
reflect on this report. See How and When does the builder pull? When will my changes propagate? here for more information.
- Make sure to use the following settings in order to reproduce any error or warning you see on this page.

raw results

Package 1121/2083HostnameOS / ArchINSTALLBUILDCHECKBUILD BIN
methylInheritance 1.18.0  (landing page)
Astrid DeschĂȘnes
Snapshot Date: 2022-01-18 01:55:07 -0500 (Tue, 18 Jan 2022)
git_url: https://git.bioconductor.org/packages/methylInheritance
git_branch: RELEASE_3_14
git_last_commit: 0387c10
git_last_commit_date: 2021-10-26 12:34:47 -0500 (Tue, 26 Oct 2021)
nebbiolo2Linux (Ubuntu 20.04.4 LTS) / x86_64  OK    OK    OK  UNNEEDED, same version is already published
tokay2Windows Server 2012 R2 Standard / x64  OK    OK    OK    OK  UNNEEDED, same version is already published
machv2macOS 10.14.6 Mojave / x86_64  OK    OK    OK    OK  UNNEEDED, same version is already published

Summary

Package: methylInheritance
Version: 1.18.0
Command: C:\cygwin\bin\curl.exe -O http://155.52.207.166/BBS/3.14/bioc/src/contrib/methylInheritance_1.18.0.tar.gz && rm -rf methylInheritance.buildbin-libdir && mkdir methylInheritance.buildbin-libdir && C:\Users\biocbuild\bbs-3.14-bioc\R\bin\R.exe CMD INSTALL --merge-multiarch --build --library=methylInheritance.buildbin-libdir methylInheritance_1.18.0.tar.gz && C:\Users\biocbuild\bbs-3.14-bioc\R\bin\R.exe CMD INSTALL methylInheritance_1.18.0.zip && rm methylInheritance_1.18.0.tar.gz methylInheritance_1.18.0.zip
StartedAt: 2022-01-18 07:05:34 -0500 (Tue, 18 Jan 2022)
EndedAt: 2022-01-18 07:09:09 -0500 (Tue, 18 Jan 2022)
EllapsedTime: 214.8 seconds
RetCode: 0
Status:   OK  

Command output

##############################################################################
##############################################################################
###
### Running command:
###
###   C:\cygwin\bin\curl.exe -O http://155.52.207.166/BBS/3.14/bioc/src/contrib/methylInheritance_1.18.0.tar.gz && rm -rf methylInheritance.buildbin-libdir && mkdir methylInheritance.buildbin-libdir && C:\Users\biocbuild\bbs-3.14-bioc\R\bin\R.exe CMD INSTALL --merge-multiarch --build --library=methylInheritance.buildbin-libdir methylInheritance_1.18.0.tar.gz && C:\Users\biocbuild\bbs-3.14-bioc\R\bin\R.exe CMD INSTALL methylInheritance_1.18.0.zip && rm methylInheritance_1.18.0.tar.gz methylInheritance_1.18.0.zip
###
##############################################################################
##############################################################################


  % Total    % Received % Xferd  Average Speed   Time    Time     Time  Current
                                 Dload  Upload   Total   Spent    Left  Speed

  0     0    0     0    0     0      0      0 --:--:-- --:--:-- --:--:--     0
100 1456k  100 1456k    0     0  4002k      0 --:--:-- --:--:-- --:--:-- 4013k

install for i386

* installing *source* package 'methylInheritance' ...
** using staged installation
** R
** data
** inst
** byte-compile and prepare package for lazy loading
** help
*** installing help indices
  converting help for package 'methylInheritance'
    finding HTML links ... done
    calculateSignificantLevel               html  
    createDataStructure                     html  
    createOutputDir                         html  
    demoForTransgenerationalAnalysis        html  
    extractInfo                             html  
    formatInputMethylData                   html  
    getGRangesFromMethylDiff                html  
    interGeneration                         html  
    isInterGenerationResults                html  
    loadAllRDSResults                       html  
    loadConvergenceData                     html  
    mergePermutationAndObservation          html  
    methylInheritance-package               html  
    methylInheritanceAllResults             html  
    methylInheritanceResults                html  
    plotConvergenceGraph                    html  
    plotGraph                               html  
    readInterGenerationResults              html  
    runObservation                          html  
    runOnePermutationOnAllGenerations       html  
    runPermutation                          html  
    samplesForTransgenerationalAnalysis     html  
    saveInterGenerationResults              html  
    validateExtractInfo                     html  
    validateLoadConvergenceData             html  
    validateMergePermutationAndObservation
                                            html  
    validateRunObservation                  html  
    validateRunPermutation                  html  
** building package indices
** installing vignettes
** testing if installed package can be loaded from temporary location
** testing if installed package can be loaded from final location
** testing if installed package keeps a record of temporary installation path

install for x64

* installing *source* package 'methylInheritance' ...
** testing if installed package can be loaded
* MD5 sums
packaged installation of 'methylInheritance' as methylInheritance_1.18.0.zip
* DONE (methylInheritance)
* installing to library 'C:/Users/biocbuild/bbs-3.14-bioc/R/library'
package 'methylInheritance' successfully unpacked and MD5 sums checked