Back to Multiple platform build/check report for BioC 3.14
ABCDEFGHIJKL[M]NOPQRSTUVWXYZ

This page was generated on 2021-12-06 13:06:03 -0500 (Mon, 06 Dec 2021).

BUILD results for metaseqR2 on machv2

To the developers/maintainers of the metaseqR2 package:
- Please allow up to 24 hours (and sometimes 48 hours) for your latest push to git@git.bioconductor.org:packages/metaseqR2.git to
reflect on this report. See How and When does the builder pull? When will my changes propagate? here for more information.
- Make sure to use the following settings in order to reproduce any error or warning you see on this page.

raw results

Package 1106/2083HostnameOS / ArchINSTALLBUILDCHECKBUILD BIN
metaseqR2 1.6.1  (landing page)
Panagiotis Moulos
Snapshot Date: 2021-12-05 01:55:05 -0500 (Sun, 05 Dec 2021)
git_url: https://git.bioconductor.org/packages/metaseqR2
git_branch: RELEASE_3_14
git_last_commit: a87443a
git_last_commit_date: 2021-11-26 09:16:15 -0500 (Fri, 26 Nov 2021)
nebbiolo2Linux (Ubuntu 20.04.3 LTS) / x86_64  OK    OK    OK  UNNEEDED, same version is already published
tokay2Windows Server 2012 R2 Standard / x64  OK    OK    OK    OK  UNNEEDED, same version is already published
machv2macOS 10.14.6 Mojave / x86_64  OK    OK    OK    OK  UNNEEDED, same version is already published

Summary

Package: metaseqR2
Version: 1.6.1
Command: /Library/Frameworks/R.framework/Resources/bin/R CMD build --keep-empty-dirs --no-resave-data metaseqR2
StartedAt: 2021-12-05 08:19:24 -0500 (Sun, 05 Dec 2021)
EndedAt: 2021-12-05 08:27:42 -0500 (Sun, 05 Dec 2021)
EllapsedTime: 498.4 seconds
RetCode: 0
Status:   OK  
PackageFile: metaseqR2_1.6.1.tar.gz
PackageFileSize: 2.623 MiB

Command output

##############################################################################
##############################################################################
###
### Running command:
###
###   /Library/Frameworks/R.framework/Resources/bin/R CMD build --keep-empty-dirs --no-resave-data metaseqR2
###
##############################################################################
##############################################################################


* checking for file ‘metaseqR2/DESCRIPTION’ ... OK
* preparing ‘metaseqR2’:
* checking DESCRIPTION meta-information ... OK
* cleaning src
* installing the package to build vignettes
* creating vignettes ... OK
* cleaning src
* checking for LF line-endings in source and make files and shell scripts
* checking for empty or unneeded directories
* looking to see if a ‘data/datalist’ file should be added
* building ‘metaseqR2_1.6.1.tar.gz’