Back to Multiple platform build/check report for BioC 3.14
ABCDEFGHIJKL[M]NOPQRSTUVWXYZ

This page was generated on 2021-12-06 13:04:39 -0500 (Mon, 06 Dec 2021).

All results for package metaseqR2

To the developers/maintainers of the metaseqR2 package:
- Please allow up to 24 hours (and sometimes 48 hours) for your latest push to git@git.bioconductor.org:packages/metaseqR2.git to
reflect on this report. See How and When does the builder pull? When will my changes propagate? here for more information.
- Make sure to use the following settings in order to reproduce any error or warning you see on this page.

raw results

Package 1106/2083HostnameOS / ArchINSTALLBUILDCHECKBUILD BIN
metaseqR2 1.6.1  (landing page)
Panagiotis Moulos
Snapshot Date: 2021-12-05 01:55:05 -0500 (Sun, 05 Dec 2021)
git_url: https://git.bioconductor.org/packages/metaseqR2
git_branch: RELEASE_3_14
git_last_commit: a87443a
git_last_commit_date: 2021-11-26 09:16:15 -0500 (Fri, 26 Nov 2021)
nebbiolo2Linux (Ubuntu 20.04.3 LTS) / x86_64  OK    OK    OK  UNNEEDED, same version is already published
tokay2Windows Server 2012 R2 Standard / x64  OK    OK    OK    OK  UNNEEDED, same version is already published
machv2macOS 10.14.6 Mojave / x86_64  OK    OK    OK    OK  UNNEEDED, same version is already published