Back to Multiple platform build/check report for BioC 3.14
ABCDEFGHIJKL[M]NOPQRSTUVWXYZ

This page was generated on 2022-01-17 13:06:33 -0500 (Mon, 17 Jan 2022).

HostnameOSArch (*)R versionInstalled pkgs
nebbiolo2Linux (Ubuntu 20.04.4 LTS)x86_644.1.2 (2021-11-01) -- "Bird Hippie" 4328
tokay2Windows Server 2012 R2 Standardx644.1.2 (2021-11-01) -- "Bird Hippie" 4077
machv2macOS 10.14.6 Mojavex86_644.1.2 (2021-11-01) -- "Bird Hippie" 4138
Click on any hostname to see more info about the system (e.g. compilers)      (*) as reported by 'uname -p', except on Windows and Mac OS X

INSTALL results for metagene2 on tokay2


To the developers/maintainers of the metagene2 package:
- Please allow up to 24 hours (and sometimes 48 hours) for your latest push to git@git.bioconductor.org:packages/metagene2.git to
reflect on this report. See How and When does the builder pull? When will my changes propagate? here for more information.
- Make sure to use the following settings in order to reproduce any error or warning you see on this page.

raw results

Package 1098/2083HostnameOS / ArchINSTALLBUILDCHECKBUILD BIN
metagene2 1.10.0  (landing page)
Eric Fournier
Snapshot Date: 2022-01-16 01:55:05 -0500 (Sun, 16 Jan 2022)
git_url: https://git.bioconductor.org/packages/metagene2
git_branch: RELEASE_3_14
git_last_commit: f703798
git_last_commit_date: 2021-10-26 12:51:50 -0500 (Tue, 26 Oct 2021)
nebbiolo2Linux (Ubuntu 20.04.4 LTS) / x86_64  OK    OK    OK  UNNEEDED, same version is already published
tokay2Windows Server 2012 R2 Standard / x64  OK    OK    OK    OK  UNNEEDED, same version is already published
machv2macOS 10.14.6 Mojave / x86_64  OK    OK    OK    OK  UNNEEDED, same version is already published

Summary

Package: metagene2
Version: 1.10.0
Command: C:\cygwin\bin\curl.exe -O http://155.52.207.166/BBS/3.14/bioc/src/contrib/metagene2_1.10.0.tar.gz && rm -rf metagene2.buildbin-libdir && mkdir metagene2.buildbin-libdir && C:\Users\biocbuild\bbs-3.14-bioc\R\bin\R.exe CMD INSTALL --merge-multiarch --build --library=metagene2.buildbin-libdir metagene2_1.10.0.tar.gz && C:\Users\biocbuild\bbs-3.14-bioc\R\bin\R.exe CMD INSTALL metagene2_1.10.0.zip && rm metagene2_1.10.0.tar.gz metagene2_1.10.0.zip
StartedAt: 2022-01-16 06:10:52 -0500 (Sun, 16 Jan 2022)
EndedAt: 2022-01-16 06:12:40 -0500 (Sun, 16 Jan 2022)
EllapsedTime: 108.8 seconds
RetCode: 0
Status:   OK  

Command output

##############################################################################
##############################################################################
###
### Running command:
###
###   C:\cygwin\bin\curl.exe -O http://155.52.207.166/BBS/3.14/bioc/src/contrib/metagene2_1.10.0.tar.gz && rm -rf metagene2.buildbin-libdir && mkdir metagene2.buildbin-libdir && C:\Users\biocbuild\bbs-3.14-bioc\R\bin\R.exe CMD INSTALL --merge-multiarch --build --library=metagene2.buildbin-libdir metagene2_1.10.0.tar.gz && C:\Users\biocbuild\bbs-3.14-bioc\R\bin\R.exe CMD INSTALL metagene2_1.10.0.zip && rm metagene2_1.10.0.tar.gz metagene2_1.10.0.zip
###
##############################################################################
##############################################################################


  % Total    % Received % Xferd  Average Speed   Time    Time     Time  Current
                                 Dload  Upload   Total   Spent    Left  Speed

  0     0    0     0    0     0      0      0 --:--:-- --:--:-- --:--:--     0
 37 1434k   37  531k    0     0  2265k      0 --:--:-- --:--:-- --:--:-- 2270k
100 1434k  100 1434k    0     0  3883k      0 --:--:-- --:--:-- --:--:-- 3887k

install for i386

* installing *source* package 'metagene2' ...
** using staged installation
** R
** inst
** byte-compile and prepare package for lazy loading
** help
*** installing help indices
  converting help for package 'metagene2'
    finding HTML links ... done
    Bam_Handler                             html  
    as_is_region_order                      html  
    coverage_order                          html  
    get_demo_bam_files                      html  
    get_demo_design                         html  
    get_demo_metagene                       html  
    get_demo_region_filenames               html  
    get_demo_regions                        html  
    get_demo_rna_bam_files                  html  
    get_demo_rna_regions                    html  
    metagene2                               html  
    metagene2_heatmap                       html  
    plot_metagene                           html  
** building package indices
** installing vignettes
** testing if installed package can be loaded from temporary location
** testing if installed package can be loaded from final location
** testing if installed package keeps a record of temporary installation path

install for x64

* installing *source* package 'metagene2' ...
** testing if installed package can be loaded
* MD5 sums
packaged installation of 'metagene2' as metagene2_1.10.0.zip
* DONE (metagene2)
* installing to library 'C:/Users/biocbuild/bbs-3.14-bioc/R/library'
package 'metagene2' successfully unpacked and MD5 sums checked