Back to Multiple platform build/check report for BioC 3.14
ABCDEFGHIJKL[M]NOPQRSTUVWXYZ

This page was generated on 2022-01-14 13:06:41 -0500 (Fri, 14 Jan 2022).

HostnameOSArch (*)R versionInstalled pkgs
nebbiolo2Linux (Ubuntu 20.04.4 LTS)x86_644.1.2 (2021-11-01) -- "Bird Hippie" 4327
tokay2Windows Server 2012 R2 Standardx644.1.2 (2021-11-01) -- "Bird Hippie" 4076
machv2macOS 10.14.6 Mojavex86_644.1.2 (2021-11-01) -- "Bird Hippie" 4137
Click on any hostname to see more info about the system (e.g. compilers)      (*) as reported by 'uname -p', except on Windows and Mac OS X

CHECK results for metagene2 on tokay2


To the developers/maintainers of the metagene2 package:
- Please allow up to 24 hours (and sometimes 48 hours) for your latest push to git@git.bioconductor.org:packages/metagene2.git to
reflect on this report. See How and When does the builder pull? When will my changes propagate? here for more information.
- Make sure to use the following settings in order to reproduce any error or warning you see on this page.

raw results

Package 1098/2083HostnameOS / ArchINSTALLBUILDCHECKBUILD BIN
metagene2 1.10.0  (landing page)
Eric Fournier
Snapshot Date: 2022-01-13 01:55:04 -0500 (Thu, 13 Jan 2022)
git_url: https://git.bioconductor.org/packages/metagene2
git_branch: RELEASE_3_14
git_last_commit: f703798
git_last_commit_date: 2021-10-26 12:51:50 -0500 (Tue, 26 Oct 2021)
nebbiolo2Linux (Ubuntu 20.04.4 LTS) / x86_64  OK    OK    OK  UNNEEDED, same version is already published
tokay2Windows Server 2012 R2 Standard / x64  OK    OK    OK    OK  UNNEEDED, same version is already published
machv2macOS 10.14.6 Mojave / x86_64  OK    OK    OK    OK  UNNEEDED, same version is already published

Summary

Package: metagene2
Version: 1.10.0
Command: C:\Users\biocbuild\bbs-3.14-bioc\R\bin\R.exe CMD check --force-multiarch --install=check:metagene2.install-out.txt --library=C:\Users\biocbuild\bbs-3.14-bioc\R\library --no-vignettes --timings metagene2_1.10.0.tar.gz
StartedAt: 2022-01-13 22:07:29 -0500 (Thu, 13 Jan 2022)
EndedAt: 2022-01-13 22:15:48 -0500 (Thu, 13 Jan 2022)
EllapsedTime: 499.1 seconds
RetCode: 0
Status:   OK  
CheckDir: metagene2.Rcheck
Warnings: 0

Command output

##############################################################################
##############################################################################
###
### Running command:
###
###   C:\Users\biocbuild\bbs-3.14-bioc\R\bin\R.exe CMD check --force-multiarch --install=check:metagene2.install-out.txt --library=C:\Users\biocbuild\bbs-3.14-bioc\R\library --no-vignettes --timings metagene2_1.10.0.tar.gz
###
##############################################################################
##############################################################################


* using log directory 'C:/Users/biocbuild/bbs-3.14-bioc/meat/metagene2.Rcheck'
* using R version 4.1.2 (2021-11-01)
* using platform: x86_64-w64-mingw32 (64-bit)
* using session charset: ISO8859-1
* using option '--no-vignettes'
* checking for file 'metagene2/DESCRIPTION' ... OK
* this is package 'metagene2' version '1.10.0'
* checking package namespace information ... OK
* checking package dependencies ... OK
* checking if this is a source package ... OK
* checking if there is a namespace ... OK
* checking for hidden files and directories ... OK
* checking for portable file names ... OK
* checking whether package 'metagene2' can be installed ... OK
* checking installed package size ... OK
* checking package directory ... OK
* checking 'build' directory ... OK
* checking DESCRIPTION meta-information ... OK
* checking top-level files ... OK
* checking for left-over files ... OK
* checking index information ... OK
* checking package subdirectories ... OK
* checking R files for non-ASCII characters ... OK
* checking R files for syntax errors ... OK
* loading checks for arch 'i386'
** checking whether the package can be loaded ... OK
** checking whether the package can be loaded with stated dependencies ... OK
** checking whether the package can be unloaded cleanly ... OK
** checking whether the namespace can be loaded with stated dependencies ... OK
** checking whether the namespace can be unloaded cleanly ... OK
* loading checks for arch 'x64'
** checking whether the package can be loaded ... OK
** checking whether the package can be loaded with stated dependencies ... OK
** checking whether the package can be unloaded cleanly ... OK
** checking whether the namespace can be loaded with stated dependencies ... OK
** checking whether the namespace can be unloaded cleanly ... OK
* checking dependencies in R code ... OK
* checking S3 generic/method consistency ... OK
* checking replacement functions ... OK
* checking foreign function calls ... OK
* checking R code for possible problems ... OK
* checking Rd files ... OK
* checking Rd metadata ... OK
* checking Rd cross-references ... OK
* checking for missing documentation entries ... OK
* checking for code/documentation mismatches ... OK
* checking Rd \usage sections ... OK
* checking Rd contents ... OK
* checking for unstated dependencies in examples ... OK
* checking line endings in Makefiles ... OK
* checking for GNU extensions in Makefiles ... OK
* checking include directives in Makefiles ... OK
* checking files in 'vignettes' ... OK
* checking examples ...
** running examples for arch 'i386' ... OK
Examples with CPU (user + system) or elapsed time > 5s
               user system elapsed
plot_metagene 10.48   0.09   10.58
** running examples for arch 'x64' ... OK
Examples with CPU (user + system) or elapsed time > 5s
              user system elapsed
plot_metagene  8.8   0.08    8.87
* checking for unstated dependencies in 'tests' ... OK
* checking tests ...
** running tests for arch 'i386' ...
  Running 'runTests.R'
 OK
** running tests for arch 'x64' ...
  Running 'runTests.R'
 OK
* checking for unstated dependencies in vignettes ... OK
* checking package vignettes in 'inst/doc' ... OK
* checking running R code from vignettes ... SKIPPED
* checking re-building of vignette outputs ... SKIPPED
* checking PDF version of manual ... OK
* DONE

Status: OK


Installation output

metagene2.Rcheck/00install.out

##############################################################################
##############################################################################
###
### Running command:
###
###   C:\cygwin\bin\curl.exe -O http://155.52.207.166/BBS/3.14/bioc/src/contrib/metagene2_1.10.0.tar.gz && rm -rf metagene2.buildbin-libdir && mkdir metagene2.buildbin-libdir && C:\Users\biocbuild\bbs-3.14-bioc\R\bin\R.exe CMD INSTALL --merge-multiarch --build --library=metagene2.buildbin-libdir metagene2_1.10.0.tar.gz && C:\Users\biocbuild\bbs-3.14-bioc\R\bin\R.exe CMD INSTALL metagene2_1.10.0.zip && rm metagene2_1.10.0.tar.gz metagene2_1.10.0.zip
###
##############################################################################
##############################################################################


  % Total    % Received % Xferd  Average Speed   Time    Time     Time  Current
                                 Dload  Upload   Total   Spent    Left  Speed

  0     0    0     0    0     0      0      0 --:--:-- --:--:-- --:--:--     0
 22 1434k   22  320k    0     0  1497k      0 --:--:-- --:--:-- --:--:-- 1496k
100 1434k  100 1434k    0     0  4420k      0 --:--:-- --:--:-- --:--:-- 4414k

install for i386

* installing *source* package 'metagene2' ...
** using staged installation
** R
** inst
** byte-compile and prepare package for lazy loading
** help
*** installing help indices
  converting help for package 'metagene2'
    finding HTML links ... done
    Bam_Handler                             html  
    as_is_region_order                      html  
    coverage_order                          html  
    get_demo_bam_files                      html  
    get_demo_design                         html  
    get_demo_metagene                       html  
    get_demo_region_filenames               html  
    get_demo_regions                        html  
    get_demo_rna_bam_files                  html  
    get_demo_rna_regions                    html  
    metagene2                               html  
    metagene2_heatmap                       html  
    plot_metagene                           html  
** building package indices
** installing vignettes
** testing if installed package can be loaded from temporary location
** testing if installed package can be loaded from final location
** testing if installed package keeps a record of temporary installation path

install for x64

* installing *source* package 'metagene2' ...
** testing if installed package can be loaded
* MD5 sums
packaged installation of 'metagene2' as metagene2_1.10.0.zip
* DONE (metagene2)
* installing to library 'C:/Users/biocbuild/bbs-3.14-bioc/R/library'
package 'metagene2' successfully unpacked and MD5 sums checked

Tests output

metagene2.Rcheck/tests_i386/runTests.Rout


R version 4.1.2 (2021-11-01) -- "Bird Hippie"
Copyright (C) 2021 The R Foundation for Statistical Computing
Platform: i386-w64-mingw32/i386 (32-bit)

R is free software and comes with ABSOLUTELY NO WARRANTY.
You are welcome to redistribute it under certain conditions.
Type 'license()' or 'licence()' for distribution details.

R is a collaborative project with many contributors.
Type 'contributors()' for more information and
'citation()' on how to cite R or R packages in publications.

Type 'demo()' for some demos, 'help()' for on-line help, or
'help.start()' for an HTML browser interface to help.
Type 'q()' to quit R.

> ## Run all tests in the metagene package
> BiocGenerics:::testPackage("metagene2")

Attaching package: 'BiocGenerics'

The following objects are masked from 'package:stats':

    IQR, mad, sd, var, xtabs

The following objects are masked from 'package:base':

    Filter, Find, Map, Position, Reduce, anyDuplicated, append,
    as.data.frame, basename, cbind, colnames, dirname, do.call,
    duplicated, eval, evalq, get, grep, grepl, intersect, is.unsorted,
    lapply, mapply, match, mget, order, paste, pmax, pmax.int, pmin,
    pmin.int, rank, rbind, rownames, sapply, setdiff, sort, table,
    tapply, union, unique, unsplit, which.max, which.min


Attaching package: 'S4Vectors'

The following objects are masked from 'package:base':

    I, expand.grid, unname


Attaching package: 'IRanges'

The following object is masked from 'package:grDevices':

    windows

region_name is missing from the new metadata. Recreating it.
region_name is missing from the new metadata. Recreating it.
region_name is missing from the new metadata. Recreating it.
Replace region_metadata with metadata which would result in a different region split. All caches at the 'split_regions' step will be invalidated, and split_by will be reset to its default value.


RUNIT TEST PROTOCOL -- Thu Jan 13 22:14:00 2022 
*********************************************** 
Number of test functions: 128 
Number of errors: 0 
Number of failures: 0 

 
1 Test Suite : 
metagene2 RUnit Tests - 128 test functions, 0 errors, 0 failures
Number of test functions: 128 
Number of errors: 0 
Number of failures: 0 
> #BiocGenerics:::testPackage("metagene2", pattern="^test_demo.*\\.R$")
> 
> proc.time()
   user  system elapsed 
  91.09    2.31   96.56 

metagene2.Rcheck/tests_x64/runTests.Rout


R version 4.1.2 (2021-11-01) -- "Bird Hippie"
Copyright (C) 2021 The R Foundation for Statistical Computing
Platform: x86_64-w64-mingw32/x64 (64-bit)

R is free software and comes with ABSOLUTELY NO WARRANTY.
You are welcome to redistribute it under certain conditions.
Type 'license()' or 'licence()' for distribution details.

R is a collaborative project with many contributors.
Type 'contributors()' for more information and
'citation()' on how to cite R or R packages in publications.

Type 'demo()' for some demos, 'help()' for on-line help, or
'help.start()' for an HTML browser interface to help.
Type 'q()' to quit R.

> ## Run all tests in the metagene package
> BiocGenerics:::testPackage("metagene2")

Attaching package: 'BiocGenerics'

The following objects are masked from 'package:stats':

    IQR, mad, sd, var, xtabs

The following objects are masked from 'package:base':

    Filter, Find, Map, Position, Reduce, anyDuplicated, append,
    as.data.frame, basename, cbind, colnames, dirname, do.call,
    duplicated, eval, evalq, get, grep, grepl, intersect, is.unsorted,
    lapply, mapply, match, mget, order, paste, pmax, pmax.int, pmin,
    pmin.int, rank, rbind, rownames, sapply, setdiff, sort, table,
    tapply, union, unique, unsplit, which.max, which.min


Attaching package: 'S4Vectors'

The following objects are masked from 'package:base':

    I, expand.grid, unname


Attaching package: 'IRanges'

The following object is masked from 'package:grDevices':

    windows

region_name is missing from the new metadata. Recreating it.
region_name is missing from the new metadata. Recreating it.
region_name is missing from the new metadata. Recreating it.
Replace region_metadata with metadata which would result in a different region split. All caches at the 'split_regions' step will be invalidated, and split_by will be reset to its default value.


RUNIT TEST PROTOCOL -- Thu Jan 13 22:15:38 2022 
*********************************************** 
Number of test functions: 128 
Number of errors: 0 
Number of failures: 0 

 
1 Test Suite : 
metagene2 RUnit Tests - 128 test functions, 0 errors, 0 failures
Number of test functions: 128 
Number of errors: 0 
Number of failures: 0 
> #BiocGenerics:::testPackage("metagene2", pattern="^test_demo.*\\.R$")
> 
> proc.time()
   user  system elapsed 
  92.07    1.89   96.86 

Example timings

metagene2.Rcheck/examples_i386/metagene2-Ex.timings

nameusersystemelapsed
Bam_Handler0.110.000.11
as_is_region_order2.450.583.03
coverage_order1.870.091.97
get_demo_bam_files000
get_demo_design000
get_demo_metagene1.790.031.81
get_demo_region_filenames0.090.000.09
get_demo_regions0.090.000.10
get_demo_rna_bam_files000
get_demo_rna_regions0.100.000.09
metagene21.470.071.53
metagene2_heatmap3.250.113.36
plot_metagene10.48 0.0910.58

metagene2.Rcheck/examples_x64/metagene2-Ex.timings

nameusersystemelapsed
Bam_Handler0.140.000.14
as_is_region_order3.940.194.14
coverage_order2.270.082.34
get_demo_bam_files000
get_demo_design000
get_demo_metagene1.790.031.83
get_demo_region_filenames0.110.000.11
get_demo_regions0.110.000.10
get_demo_rna_bam_files000
get_demo_rna_regions0.110.000.11
metagene21.740.091.83
metagene2_heatmap3.040.143.19
plot_metagene8.800.088.87