Back to Multiple platform build/check report for BioC 3.14
ABCDEFGHIJKL[M]NOPQRSTUVWXYZ

This page was generated on 2022-01-17 13:06:33 -0500 (Mon, 17 Jan 2022).

HostnameOSArch (*)R versionInstalled pkgs
nebbiolo2Linux (Ubuntu 20.04.4 LTS)x86_644.1.2 (2021-11-01) -- "Bird Hippie" 4328
tokay2Windows Server 2012 R2 Standardx644.1.2 (2021-11-01) -- "Bird Hippie" 4077
machv2macOS 10.14.6 Mojavex86_644.1.2 (2021-11-01) -- "Bird Hippie" 4138
Click on any hostname to see more info about the system (e.g. compilers)      (*) as reported by 'uname -p', except on Windows and Mac OS X

BUILD BIN results for metagene on tokay2


To the developers/maintainers of the metagene package:
- Please allow up to 24 hours (and sometimes 48 hours) for your latest push to git@git.bioconductor.org:packages/metagene.git to
reflect on this report. See How and When does the builder pull? When will my changes propagate? here for more information.
- Make sure to use the following settings in order to reproduce any error or warning you see on this page.

raw results

Package 1097/2083HostnameOS / ArchINSTALLBUILDCHECKBUILD BIN
metagene 2.26.0  (landing page)
Charles Joly Beauparlant
Snapshot Date: 2022-01-16 01:55:05 -0500 (Sun, 16 Jan 2022)
git_url: https://git.bioconductor.org/packages/metagene
git_branch: RELEASE_3_14
git_last_commit: a09472f
git_last_commit_date: 2021-10-26 12:15:06 -0500 (Tue, 26 Oct 2021)
nebbiolo2Linux (Ubuntu 20.04.4 LTS) / x86_64  OK    OK    OK  UNNEEDED, same version is already published
tokay2Windows Server 2012 R2 Standard / x64  OK    OK    OK    OK  UNNEEDED, same version is already published
machv2macOS 10.14.6 Mojave / x86_64  OK    OK    OK    OK  UNNEEDED, same version is already published

Summary

Package: metagene
Version: 2.26.0
Command: rm -rf metagene.buildbin-libdir && mkdir metagene.buildbin-libdir && C:\Users\biocbuild\bbs-3.14-bioc\R\bin\R.exe CMD INSTALL --merge-multiarch --build --library=metagene.buildbin-libdir metagene_2.26.0.tar.gz
StartedAt: 2022-01-17 07:33:35 -0500 (Mon, 17 Jan 2022)
EndedAt: 2022-01-17 07:35:07 -0500 (Mon, 17 Jan 2022)
EllapsedTime: 91.9 seconds
RetCode: 0
Status:   OK  
PackageFile: metagene_2.26.0.zip
PackageFileSize: 6.423 MiB

Command output

##############################################################################
##############################################################################
###
### Running command:
###
###   rm -rf metagene.buildbin-libdir && mkdir metagene.buildbin-libdir && C:\Users\biocbuild\bbs-3.14-bioc\R\bin\R.exe CMD INSTALL --merge-multiarch --build --library=metagene.buildbin-libdir metagene_2.26.0.tar.gz
###
##############################################################################
##############################################################################



install for i386

* installing *source* package 'metagene' ...
** using staged installation
** R
** data
*** moving datasets to lazyload DB
** inst
** byte-compile and prepare package for lazy loading
** help
*** installing help indices
  converting help for package 'metagene'
    finding HTML links ... done
    Bam_Handler                             html  
    avoid_gaps_update                       html  
    bed_file_filter                         html  
    exon_by_gene_with_observed_transcripts
                                            html  
    get_demo_bam_files                      html  
    get_demo_design                         html  
    get_demo_metagene                       html  
    get_demo_regions                        html  
    get_promoters_txdb                      html  
    metagene                                html  
    permutation_test                        html  
    plot_metagene                           html  
    promoters_hg18                          html  
    promoters_hg19                          html  
    promoters_mm10                          html  
    promoters_mm9                           html  
    write_bed_file_filter_result            html  
** building package indices
** installing vignettes
** testing if installed package can be loaded from temporary location
** testing if installed package can be loaded from final location
** testing if installed package keeps a record of temporary installation path

install for x64

* installing *source* package 'metagene' ...
** testing if installed package can be loaded
* MD5 sums
packaged installation of 'metagene' as metagene_2.26.0.zip
* DONE (metagene)