Back to Multiple platform build/check report for BioC 3.14
ABCDEFGHIJKL[M]NOPQRSTUVWXYZ

This page was generated on 2022-01-17 13:07:56 -0500 (Mon, 17 Jan 2022).

HostnameOSArch (*)R versionInstalled pkgs
nebbiolo2Linux (Ubuntu 20.04.4 LTS)x86_644.1.2 (2021-11-01) -- "Bird Hippie" 4328
tokay2Windows Server 2012 R2 Standardx644.1.2 (2021-11-01) -- "Bird Hippie" 4077
machv2macOS 10.14.6 Mojavex86_644.1.2 (2021-11-01) -- "Bird Hippie" 4138
Click on any hostname to see more info about the system (e.g. compilers)      (*) as reported by 'uname -p', except on Windows and Mac OS X

CHECK results for metagene on machv2


To the developers/maintainers of the metagene package:
- Please allow up to 24 hours (and sometimes 48 hours) for your latest push to git@git.bioconductor.org:packages/metagene.git to
reflect on this report. See How and When does the builder pull? When will my changes propagate? here for more information.
- Make sure to use the following settings in order to reproduce any error or warning you see on this page.

raw results

Package 1097/2083HostnameOS / ArchINSTALLBUILDCHECKBUILD BIN
metagene 2.26.0  (landing page)
Charles Joly Beauparlant
Snapshot Date: 2022-01-16 01:55:05 -0500 (Sun, 16 Jan 2022)
git_url: https://git.bioconductor.org/packages/metagene
git_branch: RELEASE_3_14
git_last_commit: a09472f
git_last_commit_date: 2021-10-26 12:15:06 -0500 (Tue, 26 Oct 2021)
nebbiolo2Linux (Ubuntu 20.04.4 LTS) / x86_64  OK    OK    OK  UNNEEDED, same version is already published
tokay2Windows Server 2012 R2 Standard / x64  OK    OK    OK    OK  UNNEEDED, same version is already published
machv2macOS 10.14.6 Mojave / x86_64  OK    OK    OK    OK  UNNEEDED, same version is already published

Summary

Package: metagene
Version: 2.26.0
Command: /Library/Frameworks/R.framework/Resources/bin/R CMD check --install=check:metagene.install-out.txt --library=/Library/Frameworks/R.framework/Resources/library --no-vignettes --timings metagene_2.26.0.tar.gz
StartedAt: 2022-01-16 14:54:31 -0500 (Sun, 16 Jan 2022)
EndedAt: 2022-01-16 15:03:18 -0500 (Sun, 16 Jan 2022)
EllapsedTime: 526.9 seconds
RetCode: 0
Status:   OK  
CheckDir: metagene.Rcheck
Warnings: 0

Command output

##############################################################################
##############################################################################
###
### Running command:
###
###   /Library/Frameworks/R.framework/Resources/bin/R CMD check --install=check:metagene.install-out.txt --library=/Library/Frameworks/R.framework/Resources/library --no-vignettes --timings metagene_2.26.0.tar.gz
###
##############################################################################
##############################################################################


* using log directory ‘/Users/biocbuild/bbs-3.14-bioc/meat/metagene.Rcheck’
* using R version 4.1.2 (2021-11-01)
* using platform: x86_64-apple-darwin17.0 (64-bit)
* using session charset: UTF-8
* using option ‘--no-vignettes’
* checking for file ‘metagene/DESCRIPTION’ ... OK
* this is package ‘metagene’ version ‘2.26.0’
* checking package namespace information ... OK
* checking package dependencies ... OK
* checking if this is a source package ... OK
* checking if there is a namespace ... OK
* checking for hidden files and directories ... OK
* checking for portable file names ... OK
* checking for sufficient/correct file permissions ... OK
* checking whether package ‘metagene’ can be installed ... OK
* checking installed package size ... NOTE
  installed size is  7.2Mb
  sub-directories of 1Mb or more:
    extdata   5.4Mb
* checking package directory ... OK
* checking ‘build’ directory ... OK
* checking DESCRIPTION meta-information ... NOTE
Package listed in more than one of Depends, Imports, Suggests, Enhances:
  ‘similaRpeak’
A package should be listed in only one of these fields.
* checking top-level files ... OK
* checking for left-over files ... OK
* checking index information ... OK
* checking package subdirectories ... OK
* checking R files for non-ASCII characters ... OK
* checking R files for syntax errors ... OK
* checking whether the package can be loaded ... OK
* checking whether the package can be loaded with stated dependencies ... OK
* checking whether the package can be unloaded cleanly ... OK
* checking whether the namespace can be loaded with stated dependencies ... OK
* checking whether the namespace can be unloaded cleanly ... OK
* checking dependencies in R code ... OK
* checking S3 generic/method consistency ... OK
* checking replacement functions ... OK
* checking foreign function calls ... OK
* checking R code for possible problems ... NOTE
NCIS.internal: no visible global function definition for
  'est.norm.med.search'
avoid_gaps_update: no visible binding for global variable 'value'
avoid_gaps_update: no visible binding for global variable 'bam'
avoid_gaps_update: no visible binding for global variable 'tab'
avoid_gaps_update: no visible binding for global variable 'nuc'
bin.data: no visible global function definition for 'hist'
permutation_test: no visible global function definition for '.'
permutation_test: no visible binding for global variable 'value'
plot_metagene: no visible binding for global variable 'bin'
plot_metagene: no visible binding for global variable 'value'
plot_metagene: no visible binding for global variable 'qinf'
plot_metagene: no visible binding for global variable 'qsup'
plot_metagene: no visible binding for global variable 'group'
plot_metagene: no visible binding for global variable 'nuc'
plot_metagene: no visible binding for global variable 'design'
plot_metagene: no visible binding for global variable 'nuctot'
Undefined global functions or variables:
  . bam bin design est.norm.med.search group hist nuc nuctot qinf qsup
  tab value
Consider adding
  importFrom("graphics", "hist")
to your NAMESPACE file.
* checking Rd files ... OK
* checking Rd metadata ... OK
* checking Rd cross-references ... OK
* checking for missing documentation entries ... OK
* checking for code/documentation mismatches ... OK
* checking Rd \usage sections ... OK
* checking Rd contents ... OK
* checking for unstated dependencies in examples ... OK
* checking contents of ‘data’ directory ... OK
* checking data for non-ASCII characters ... OK
* checking LazyData ... OK
* checking data for ASCII and uncompressed saves ... OK
* checking R/sysdata.rda ... OK
* checking line endings in Makefiles ... OK
* checking for GNU extensions in Makefiles ... OK
* checking include directives in Makefiles ... OK
* checking files in ‘vignettes’ ... OK
* checking examples ... OK
* checking for unstated dependencies in ‘tests’ ... OK
* checking tests ...
  Running ‘runTests.R’
 OK
* checking for unstated dependencies in vignettes ... OK
* checking package vignettes in ‘inst/doc’ ... OK
* checking running R code from vignettes ... SKIPPED
* checking re-building of vignette outputs ... SKIPPED
* checking PDF version of manual ... OK
* DONE

Status: 3 NOTEs
See
  ‘/Users/biocbuild/bbs-3.14-bioc/meat/metagene.Rcheck/00check.log’
for details.



Installation output

metagene.Rcheck/00install.out

##############################################################################
##############################################################################
###
### Running command:
###
###   /Library/Frameworks/R.framework/Resources/bin/R CMD INSTALL metagene
###
##############################################################################
##############################################################################


* installing to library ‘/Library/Frameworks/R.framework/Versions/4.1/Resources/library’
* installing *source* package ‘metagene’ ...
** using staged installation
** R
** data
*** moving datasets to lazyload DB
** inst
** byte-compile and prepare package for lazy loading
** help
*** installing help indices
** building package indices
** installing vignettes
** testing if installed package can be loaded from temporary location
** testing if installed package can be loaded from final location
** testing if installed package keeps a record of temporary installation path
* DONE (metagene)

Tests output

metagene.Rcheck/tests/runTests.Rout


R version 4.1.2 (2021-11-01) -- "Bird Hippie"
Copyright (C) 2021 The R Foundation for Statistical Computing
Platform: x86_64-apple-darwin17.0 (64-bit)

R is free software and comes with ABSOLUTELY NO WARRANTY.
You are welcome to redistribute it under certain conditions.
Type 'license()' or 'licence()' for distribution details.

R is a collaborative project with many contributors.
Type 'contributors()' for more information and
'citation()' on how to cite R or R packages in publications.

Type 'demo()' for some demos, 'help()' for on-line help, or
'help.start()' for an HTML browser interface to help.
Type 'q()' to quit R.

> ## Run all tests in the metagene package
> BiocGenerics:::testPackage("metagene")

Attaching package: 'BiocGenerics'

The following objects are masked from 'package:stats':

    IQR, mad, sd, var, xtabs

The following objects are masked from 'package:base':

    Filter, Find, Map, Position, Reduce, anyDuplicated, append,
    as.data.frame, basename, cbind, colnames, dirname, do.call,
    duplicated, eval, evalq, get, grep, grepl, intersect, is.unsorted,
    lapply, mapply, match, mget, order, paste, pmax, pmax.int, pmin,
    pmin.int, rank, rbind, rownames, sapply, setdiff, sort, table,
    tapply, union, unique, unsplit, which.max, which.min


Attaching package: 'S4Vectors'

The following objects are masked from 'package:base':

    I, expand.grid, unname

produce data table : ChIP-Seq
produce data frame : ChIP-Seq
produce data table : ChIP-Seq
produce data frame : ChIP-Seq
produce data table : ChIP-Seq
produce data frame : ChIP-Seq
produce data table : ChIP-Seq
produce data frame : ChIP-Seq
produce data table : ChIP-Seq
produce data frame : ChIP-Seq
produce data table : ChIP-Seq
produce data frame : ChIP-Seq
produce data table : ChIP-Seq
produce data frame : ChIP-Seq
produce data table : ChIP-Seq
produce data frame : ChIP-Seq
produce data table : ChIP-Seq
produce data frame : ChIP-Seq
produce data table : ChIP-Seq
produce data frame : ChIP-Seq
produce data table : ChIP-Seq
produce data frame : ChIP-Seq
produce data table : ChIP-Seq
produce data frame : ChIP-Seq
produce data table : ChIP-Seq
produce data table : ChIP-Seq
produce data table : ChIP-Seq
produce data table : ChIP-Seq
produce data frame : ChIP-Seq
[1] TRUE
produce data table : ChIP-Seq
produce data table : ChIP-Seq
produce data table : ChIP-Seq
produce data table : ChIP-Seq
produce data table : ChIP-Seq
produce data table : ChIP-Seq
ChIP-Seq flip/unflip
Normalization done
produce data table : ChIP-Seq
[1] TRUE
produce data table : ChIP-Seq
[1] TRUE
produce data table : ChIP-Seq
[1] TRUE
produce data table : ChIP-Seq
[1] TRUE
produce data table : ChIP-Seq
[1] TRUE
produce data table : ChIP-Seq
produce data table : ChIP-Seq
ChIP-Seq flip/unflip
ChIP-Seq flip/unflip
produce data table : ChIP-Seq
produce data table : ChIP-Seq
produce data table : ChIP-Seq
produce data table : ChIP-Seq
produce data table : ChIP-Seq
produce data table : ChIP-Seq
produce data table : ChIP-Seq
produce data table : ChIP-Seq
produce data table : ChIP-Seq
produce data table : ChIP-Seq
[1] TRUE


RUNIT TEST PROTOCOL -- Sun Jan 16 15:03:10 2022 
*********************************************** 
Number of test functions: 218 
Number of errors: 0 
Number of failures: 0 

 
1 Test Suite : 
metagene RUnit Tests - 218 test functions, 0 errors, 0 failures
Number of test functions: 218 
Number of errors: 0 
Number of failures: 0 
There were 13 warnings (use warnings() to see them)
> 
> proc.time()
   user  system elapsed 
122.769  13.704 135.245 

Example timings

metagene.Rcheck/metagene-Ex.timings

nameusersystemelapsed
Bam_Handler0.1980.0100.208
avoid_gaps_update0.0010.0010.002
bed_file_filter000
exon_by_gene_with_observed_transcripts000
get_demo_bam_files0.0020.0000.003
get_demo_design0.0030.0000.004
get_demo_metagene2.9780.5473.533
get_demo_regions0.0020.0010.001
get_promoters_txdb0.0010.0010.000
metagene0.5210.0620.584
permutation_test0.0010.0000.001
plot_metagene2.1460.0952.242
promoters_hg180.0040.0030.007
promoters_hg190.0010.0020.004
promoters_mm100.0010.0020.002
promoters_mm90.0010.0010.002
write_bed_file_filter_result000