Back to Multiple platform build/check report for BioC 3.14
ABCDEFGHIJKL[M]NOPQRSTUVWXYZ

This page was generated on 2021-11-26 15:04:55 -0500 (Fri, 26 Nov 2021).

CHECK results for metabomxtr on nebbiolo2

To the developers/maintainers of the metabomxtr package:
- Please allow up to 24 hours (and sometimes 48 hours) for your latest push to git@git.bioconductor.org:packages/metabomxtr.git to
reflect on this report. See How and When does the builder pull? When will my changes propagate? here for more information.
- Make sure to use the following settings in order to reproduce any error or warning you see on this page.

raw results

Package 1093/2083HostnameOS / ArchINSTALLBUILDCHECKBUILD BIN
metabomxtr 1.28.0  (landing page)
Michael Nodzenski
Snapshot Date: 2021-11-25 04:15:05 -0500 (Thu, 25 Nov 2021)
git_url: https://git.bioconductor.org/packages/metabomxtr
git_branch: RELEASE_3_14
git_last_commit: dd76cf2
git_last_commit_date: 2021-10-26 12:15:03 -0500 (Tue, 26 Oct 2021)
nebbiolo2Linux (Ubuntu 20.04.3 LTS) / x86_64  OK    OK    OK  UNNEEDED, same version is already published
tokay2Windows Server 2012 R2 Standard / x64  OK    OK    OK    OK  UNNEEDED, same version is already published
machv2macOS 10.14.6 Mojave / x86_64  OK    OK    OK    OK  UNNEEDED, same version is already published

Summary

Package: metabomxtr
Version: 1.28.0
Command: /home/biocbuild/bbs-3.14-bioc/R/bin/R CMD check --install=check:metabomxtr.install-out.txt --library=/home/biocbuild/bbs-3.14-bioc/R/library --no-vignettes --timings metabomxtr_1.28.0.tar.gz
StartedAt: 2021-11-25 10:05:47 -0500 (Thu, 25 Nov 2021)
EndedAt: 2021-11-25 10:06:55 -0500 (Thu, 25 Nov 2021)
EllapsedTime: 68.3 seconds
RetCode: 0
Status:   OK  
CheckDir: metabomxtr.Rcheck
Warnings: 0

Command output

##############################################################################
##############################################################################
###
### Running command:
###
###   /home/biocbuild/bbs-3.14-bioc/R/bin/R CMD check --install=check:metabomxtr.install-out.txt --library=/home/biocbuild/bbs-3.14-bioc/R/library --no-vignettes --timings metabomxtr_1.28.0.tar.gz
###
##############################################################################
##############################################################################


* using log directory ‘/home/biocbuild/bbs-3.14-bioc/meat/metabomxtr.Rcheck’
* using R version 4.1.2 (2021-11-01)
* using platform: x86_64-pc-linux-gnu (64-bit)
* using session charset: UTF-8
* using option ‘--no-vignettes’
* checking for file ‘metabomxtr/DESCRIPTION’ ... OK
* checking extension type ... Package
* this is package ‘metabomxtr’ version ‘1.28.0’
* checking package namespace information ... OK
* checking package dependencies ... OK
* checking if this is a source package ... OK
* checking if there is a namespace ... OK
* checking for hidden files and directories ... OK
* checking for portable file names ... OK
* checking for sufficient/correct file permissions ... OK
* checking whether package ‘metabomxtr’ can be installed ... OK
* checking installed package size ... OK
* checking package directory ... OK
* checking ‘build’ directory ... OK
* checking DESCRIPTION meta-information ... OK
* checking top-level files ... OK
* checking for left-over files ... OK
* checking index information ... OK
* checking package subdirectories ... OK
* checking R files for non-ASCII characters ... OK
* checking R files for syntax errors ... OK
* checking whether the package can be loaded ... OK
* checking whether the package can be loaded with stated dependencies ... OK
* checking whether the package can be unloaded cleanly ... OK
* checking whether the namespace can be loaded with stated dependencies ... OK
* checking whether the namespace can be unloaded cleanly ... OK
* checking dependencies in R code ... OK
* checking S3 generic/method consistency ... OK
* checking replacement functions ... OK
* checking foreign function calls ... OK
* checking R code for possible problems ... OK
* checking Rd files ... OK
* checking Rd metadata ... OK
* checking Rd cross-references ... OK
* checking for missing documentation entries ... OK
* checking for code/documentation mismatches ... OK
* checking Rd \usage sections ... OK
* checking Rd contents ... OK
* checking for unstated dependencies in examples ... OK
* checking contents of ‘data’ directory ... OK
* checking data for non-ASCII characters ... OK
* checking data for ASCII and uncompressed saves ... OK
* checking files in ‘vignettes’ ... OK
* checking examples ... OK
Examples with CPU (user + system) or elapsed time > 5s
                    user system elapsed
mxtrmod            3.710  2.156   2.624
metabomxtr-package 3.922  1.746   2.896
* checking for unstated dependencies in vignettes ... OK
* checking package vignettes in ‘inst/doc’ ... OK
* checking running R code from vignettes ... SKIPPED
* checking re-building of vignette outputs ... SKIPPED
* checking PDF version of manual ... OK
* DONE

Status: OK


Installation output

metabomxtr.Rcheck/00install.out

##############################################################################
##############################################################################
###
### Running command:
###
###   /home/biocbuild/bbs-3.14-bioc/R/bin/R CMD INSTALL metabomxtr
###
##############################################################################
##############################################################################


* installing to library ‘/home/biocbuild/bbs-3.14-bioc/R/library’
* installing *source* package ‘metabomxtr’ ...
** using staged installation
** R
** data
** byte-compile and prepare package for lazy loading
** help
*** installing help indices
** building package indices
** installing vignettes
** testing if installed package can be loaded from temporary location
** testing if installed package can be loaded from final location
** testing if installed package keeps a record of temporary installation path
* DONE (metabomxtr)

Tests output


Example timings

metabomxtr.Rcheck/metabomxtr-Ex.timings

nameusersystemelapsed
addBatchMeans0.0250.0000.025
addOutlierInfo0.0000.0010.001
allMissingLevels0.0030.0000.003
anyMissingLevels0.0020.0000.001
idMissingLevels0.0020.0000.002
metabomxtr-package3.9221.7462.896
metabplot1.9920.9171.335
mixnorm1.6431.2190.831
mxtrmod3.7102.1562.624
mxtrmodLL0.0030.0010.003
mxtrmodLRT1.9651.2331.282
mxtrmodstart0.0030.0020.005
removeAllMissingCatVar0.3880.2540.005
removeMissingLevels0.0050.0000.005
runMxtrmod1.2810.2521.533