Back to Multiple platform build/check report for BioC 3.14

This page was generated on 2021-10-22 12:05:18 -0400 (Fri, 22 Oct 2021).

All results on merida1


Package status is indicated by one of the following glyphs
  TIMEOUT  
INSTALL, BUILD, CHECK or BUILD BIN of package took more than 40 minutes
  ERROR  
Bad DESCRIPTION file or INSTALL, BUILD or BUILD BIN of package failed, or CHECK produced errors
  WARNINGS  
CHECK of package produced warnings
  OK  
INSTALL, BUILD, CHECK or BUILD BIN of package was OK
skipped
CHECK or BUILD BIN of package was skipped because the BUILD step failed
  NA  
BUILD, CHECK or BUILD BIN result is not available because of an anomaly in the Build System
Click on any glyph in the report below to access the detailed report.
Package propagation status is indicated by one of the following LEDs
YES YES: Package was propagated because it didn't previously exist or version was bumped
NO NO: Package was not propagated because of a problem (impossible dependencies, or version lower than what is already propagated)
UNNEEDED UNNEEDED: Package was not propagated because it is already in the repository with this version. A version bump is required in order to propagate it

A crossed-out package name indicates the package is deprecated


QUICK STATSOS / ArchINSTALLBUILDCHECKBUILD BIN
nebbiolo2Linux (Ubuntu 20.04.2 LTS) / x86_64
0102065
0502025
0303061689
riesling1Windows Server 2019 Standard / x64
0172032
1611987
1472961643
041983
merida1macOS 10.14.6 Mojave / x86_64
0122056
2512015
1242961694
00532
A
ABCDEFGHIJKLMNOPQRSTUVWXYZ
PackageMaintainerINSTALLBUILDCHECKBUILD BIN
1/2075a4 1.41.0  (landing page)Laure Cougnaud  OK    OK    OK    OK  UNNEEDED, same version is already published
2/2075a4Base 1.41.0  (landing page)Laure Cougnaud  OK    OK    OK    OK  UNNEEDED, same version is already published
3/2075a4Classif 1.41.1  (landing page)Laure Cougnaud  OK    OK    OK    OK  UNNEEDED, same version is already published
4/2075a4Core 1.41.0  (landing page)Laure Cougnaud  OK    OK    OK    OK  UNNEEDED, same version is already published
5/2075a4Preproc 1.41.0  (landing page)Laure Cougnaud  OK    OK    OK    OK  UNNEEDED, same version is already published
6/2075a4Reporting 1.41.0  (landing page)Laure Cougnaud  OK    OK    OK    OK  UNNEEDED, same version is already published
7/2075ABAEnrichment 1.23.0  (landing page)Steffi Grote  OK    OK    OK    OK  UNNEEDED, same version is already published
8/2075ABarray 1.61.0  (landing page)Yongming Andrew Sun  OK    OK    OK    OK  UNNEEDED, same version is already published
9/2075abseqR 1.11.0  (landing page)JiaHong Fong  OK    OK    OK    OK  UNNEEDED, same version is already published
10/2075ABSSeq 1.47.0  (landing page)Wentao Yang  OK    OK    OK    OK  UNNEEDED, same version is already published
11/2075acde 1.23.0  (landing page)Juan Pablo Acosta  OK    OK    OK    OK  UNNEEDED, same version is already published
12/2075ACE 1.11.0  (landing page)Jos B Poell  OK    OK    OK    OK  UNNEEDED, same version is already published
13/2075aCGH 1.71.0  (landing page)Peter Dimitrov  OK    OK    OK    OK  UNNEEDED, same version is already published
14/2075ACME 2.49.0  (landing page)Sean Davis  OK    OK    OK    OK  UNNEEDED, same version is already published
15/2075ADaCGH2 2.33.0  (landing page)Ramon Diaz-Uriarte  OK    OK    OK    OK  UNNEEDED, same version is already published
16/2075ADAM 1.9.5  (landing page)Jose Luiz Rybarczyk Filho  OK    OK    OK    OK  UNNEEDED, same version is already published
17/2075ADAMgui 1.9.3  (landing page)Jose Luiz Rybarczyk Filho  OK    OK    OK    OK  UNNEEDED, same version is already published
18/2075adductomicsR 1.9.0  (landing page)Josie Hayes  OK    OK    WARNINGS    OK  UNNEEDED, same version is already published
19/2075ADImpute 1.3.0  (landing page)Ana Carolina Leote  OK    OK    WARNINGS    OK  UNNEEDED, same version is already published
20/2075adSplit 1.63.0  (landing page)Claudio Lottaz  OK    OK    OK    OK  UNNEEDED, same version is already published
21/2075AffiXcan 1.11.0  (landing page)Alessandro Lussana  OK    OK    OK    OK  UNNEEDED, same version is already published
22/2075affxparser 1.65.3  (landing page)Kasper Daniel Hansen  OK    OK    WARNINGS    OK  UNNEEDED, same version is already published
23/2075affy 1.71.0  (landing page)Rafael A. Irizarry  OK    OK    WARNINGS    OK  UNNEEDED, same version is already published
24/2075affycomp 1.69.0  (landing page)Rafael A. Irizarry  OK    OK    OK    OK  UNNEEDED, same version is already published
25/2075AffyCompatible 1.53.0  (landing page)Martin Morgan  OK    OK    OK    OK  UNNEEDED, same version is already published
26/2075affyContam 1.51.0  (landing page)V. Carey  OK    OK    OK    OK  UNNEEDED, same version is already published
27/2075affycoretools 1.65.0  (landing page)James W. MacDonald  OK    OK    WARNINGS    OK  UNNEEDED, same version is already published
28/2075affyILM 1.45.0  (landing page)Myriam Kroll and Fabrice Berger  OK    OK    OK    OK  UNNEEDED, same version is already published
29/2075affyio 1.63.2  (landing page)Ben Bolstad  OK    OK    OK    OK  UNNEEDED, same version is already published
30/2075affylmGUI 1.67.0  (landing page)Gordon Smyth  OK    OK    OK    OK  UNNEEDED, same version is already published
31/2075affyPara 1.53.1  (landing page)Markus Schmidberger  ERROR    ERROR  skippedskipped
32/2075affyPLM 1.69.0  (landing page)Ben Bolstad  OK    OK    OK    OK  UNNEEDED, same version is already published
33/2075AffyRNADegradation 1.39.0  (landing page)Mario Fasold  OK    OK    OK    OK  UNNEEDED, same version is already published
34/2075AGDEX 1.41.0  (landing page)Cuilan lani Gao  OK    OK    OK    OK  UNNEEDED, same version is already published
35/2075aggregateBioVar 1.3.0  (landing page)Jason Ratcliff  OK    OK    OK    OK  UNNEEDED, same version is already published
36/2075agilp 3.25.0  (landing page)Benny Chain  OK    OK    OK    OK  UNNEEDED, same version is already published
37/2075AgiMicroRna 2.43.0  (landing page)Pedro Lopez-Romero  OK    OK    OK    OK  UNNEEDED, same version is already published
38/2075AIMS 1.25.0  (landing page)Eric R Paquet  OK    OK    OK    OK  UNNEEDED, same version is already published
39/2075airpart 1.1.4  (landing page)Wancen Mu  OK    OK    OK    OK  UNNEEDED, same version is already published
40/2075ALDEx2 1.25.2  (landing page)Greg Gloor  OK    OK    OK    OK  UNNEEDED, same version is already published
41/2075alevinQC 1.9.0  (landing page)Charlotte Soneson  OK    OK    OK    OK  UNNEEDED, same version is already published
42/2075AllelicImbalance 1.31.0  (landing page)Jesper R Gadin  OK    OK    OK    OK  UNNEEDED, same version is already published
43/2075AlphaBeta 1.7.1  (landing page)Yadollah Shahryary Dizaji  OK    OK    OK    OK  UNNEEDED, same version is already published
44/2075alpine 1.19.1  (landing page)Michael Love  OK    OK    OK    OK  UNNEEDED, same version is already published
45/2075ALPS 1.7.1  (landing page)Venu Thatikonda  OK    ERROR  skippedskipped
46/2075AlpsNMR 3.3.4  (landing page)Sergio Oller Moreno  OK    OK    OK    OK  UNNEEDED, same version is already published
47/2075alsace 1.29.1  (landing page)Ron Wehrens  OK    OK    WARNINGS    OK  UNNEEDED, same version is already published
48/2075altcdfenvs 2.55.0  (landing page)Laurent Gautier  OK    OK    OK    OK  UNNEEDED, same version is already published
49/2075AMARETTO 1.9.0  (landing page)Olivier Gevaert  OK    OK    OK    OK  UNNEEDED, same version is already published
50/2075AMOUNTAIN 1.19.0  (landing page)Dong Li  OK    OK    OK    OK  UNNEEDED, same version is already published
51/2075amplican 1.15.5  (landing page)Eivind Valen  OK    OK    OK    OK  UNNEEDED, same version is already published
52/2075Anaquin 2.17.0  (landing page)Ted Wong  OK    OK    OK    OK  UNNEEDED, same version is already published
53/2075ANCOMBC 1.3.2  (landing page)Huang Lin  OK    OK    OK    OK  UNNEEDED, same version is already published
54/2075AneuFinder 1.21.0  (landing page)Aaron Taudt  OK    OK    OK    OK  UNNEEDED, same version is already published
55/2075ANF 1.15.0  (landing page)Tianle Ma  OK    OK    OK    OK  UNNEEDED, same version is already published
56/2075animalcules 1.9.3  (landing page)Yue Zhao  OK    OK    OK    OK  YES
57/2075annaffy 1.65.2  (landing page)Colin A. Smith  OK    OK    WARNINGS    OK  UNNEEDED, same version is already published
58/2075annmap 1.35.0  (landing page)Chris Wirth  OK    OK    WARNINGS    OK  UNNEEDED, same version is already published
59/2075annotate 1.71.0  (landing page)Bioconductor Package Maintainer  OK    OK    OK    OK  UNNEEDED, same version is already published
60/2075AnnotationDbi 1.55.2  (landing page)Bioconductor Package Maintainer  OK    OK    OK    OK  UNNEEDED, same version is already published
61/2075AnnotationFilter 1.17.1  (landing page)Bioconductor Package Maintainer  OK    OK    OK    OK  UNNEEDED, same version is already published
62/2075AnnotationForge 1.35.2  (landing page)Bioconductor Package Maintainer  OK    OK    OK    OK  UNNEEDED, same version is already published
63/2075AnnotationHub 3.1.7  (landing page)Bioconductor Package Maintainer  OK    OK    WARNINGS    OK  YES
64/2075AnnotationHubData 1.23.3  (landing page)Bioconductor Package Maintainer  OK    OK    WARNINGS    OK  UNNEEDED, same version is already published
65/2075annotationTools 1.67.0  (landing page)Alexandre Kuhn  OK    OK    OK    OK  UNNEEDED, same version is already published
66/2075annotatr 1.19.1  (landing page)Raymond G. Cavalcante  OK    OK    WARNINGS    OK  UNNEEDED, same version is already published
67/2075anota 1.41.0  (landing page)Ola Larsson  OK    OK    OK    OK  UNNEEDED, same version is already published
68/2075anota2seq 1.15.0  (landing page)Christian Oertlin , Julie Lorent  OK    OK    OK    OK  UNNEEDED, same version is already published
69/2075antiProfiles 1.33.0  (landing page)Hector Corrada Bravo  OK    OK    OK    OK  UNNEEDED, same version is already published
70/2075AnVIL 1.5.7  (landing page)Martin Morgan  OK    OK    OK    OK  UNNEEDED, same version is already published
71/2075AnVILBilling 1.3.1  (landing page)Vince Carey  OK    OK    OK    OK  UNNEEDED, same version is already published
72/2075AnVILPublish 1.3.2  (landing page)Martin Morgan  OK    OK    OK    OK  UNNEEDED, same version is already published
73/2075APAlyzer 1.7.3  (landing page)Ruijia Wang  OK    OK    WARNINGS    OK  UNNEEDED, same version is already published
74/2075apComplex 2.59.0  (landing page)Denise Scholtens  OK    OK    OK    OK  UNNEEDED, same version is already published
75/2075apeglm 1.15.0  (landing page)Anqi Zhu  OK    OK    OK    OK  UNNEEDED, same version is already published
76/2075appreci8R 1.11.1  (landing page)Sarah Sandmann  OK    OK    OK    OK  UNNEEDED, same version is already published
77/2075aroma.light 3.23.1  (landing page)Henrik Bengtsson  OK    OK    OK    OK  UNNEEDED, same version is already published
78/2075ArrayExpress 1.53.0  (landing page)Suhaib Mohammed  OK    OK    OK    OK  UNNEEDED, same version is already published
79/2075ArrayExpressHTS 1.43.0  (landing page)Angela Goncalves , Andrew Tikhonov  OK    OK    OK    OK  UNNEEDED, same version is already published
80/2075arrayMvout 1.51.0  (landing page)V. Carey  OK    OK    OK    OK  UNNEEDED, same version is already published
81/2075arrayQuality 1.71.0  (landing page)Agnes Paquet  OK    OK    WARNINGS    OK  UNNEEDED, same version is already published
82/2075arrayQualityMetrics 3.49.0  (landing page)Mike Smith  OK    OK    OK    OK  UNNEEDED, same version is already published
83/2075ARRmNormalization 1.33.0  (landing page)Jean-Philippe Fortin  OK    OK    OK    OK  UNNEEDED, same version is already published
84/2075artMS 1.11.2  (landing page)David Jimenez-Morales  OK    OK    OK    OK  UNNEEDED, same version is already published
85/2075ASAFE 1.19.0  (landing page)Qian Zhang  OK    OK    OK    OK  UNNEEDED, same version is already published
86/2075ASEB 1.37.0  (landing page)Likun Wang  OK    OK    WARNINGS    OK  UNNEEDED, same version is already published
87/2075ASGSCA 1.27.0  (landing page)Hela Romdhani  OK    OK    OK    OK  UNNEEDED, same version is already published
88/2075ASICS 2.9.2  (landing page)Gaëlle Lefort  OK    OK    WARNINGS    OK  UNNEEDED, same version is already published
89/2075ASpediaFI 1.7.0  (landing page)Doyeong Yu  OK    OK    OK    OK  UNNEEDED, same version is already published
90/2075ASpli 2.3.1  (landing page)Estefania Mancini  OK    OK    OK    OK  UNNEEDED, same version is already published
91/2075AssessORF 1.11.0  (landing page)Deepank Korandla  OK    OK    OK    OK  UNNEEDED, same version is already published
92/2075ASSET 2.11.1  (landing page)Samsiddhi Bhattacharjee  OK    OK    OK    OK  UNNEEDED, same version is already published
93/2075ASSIGN 1.29.1  (landing page)Ying Shen , W. Evan Johnson  OK    OK    OK    OK  UNNEEDED, same version is already published
94/2075ATACseqQC 1.17.1  (landing page)Jianhong Ou  OK    OK    OK    OK  UNNEEDED, same version is already published
95/2075atena 0.99.43  (landing page)Beatriz Calvo-Serra  OK    OK    OK    OK  UNNEEDED, same version is already published
96/2075atSNP 1.9.0  (landing page)Sunyoung Shin  OK    OK    OK    OK  UNNEEDED, same version is already published
97/2075attract 1.45.1  (landing page)Samuel Zimmerman  OK    OK    OK    OK  YES
98/2075AUCell 1.15.0  (landing page)Sara Aibar  OK    OK    OK    OK  UNNEEDED, same version is already published
99/2075autonomics 1.1.7  (landing page)Aditya Bhagwat  OK    OK    WARNINGS    OK  UNNEEDED, same version is already published
100/2075Autotuner 1.7.0  (landing page)Craig McLean  OK    ERROR  skippedskipped
101/2075AWFisher 1.7.0  (landing page)Zhiguang Huo  OK    OK    OK    OK  UNNEEDED, same version is already published
102/2075awst 1.1.1  (landing page)Davide Risso  OK    OK    OK    OK  UNNEEDED, same version is already published
B
ABCDEFGHIJKLMNOPQRSTUVWXYZ
PackageMaintainerINSTALLBUILDCHECKBUILD BIN
103/2075BaalChIP 1.19.0  (landing page)Ines de Santiago  OK    OK    WARNINGS    OK  UNNEEDED, same version is already published
104/2075BAC 1.53.0  (landing page)Raphael Gottardo  OK    OK    OK    OK  UNNEEDED, same version is already published
105/2075bacon 1.21.0  (landing page)Maarten van Iterson  OK    OK    OK    OK  UNNEEDED, same version is already published
106/2075BADER 1.31.0  (landing page)Andreas Neudecker  OK    OK    OK    OK  UNNEEDED, same version is already published
107/2075BadRegionFinder 1.21.0  (landing page)Sarah Sandmann  OK    OK    OK    OK  UNNEEDED, same version is already published
108/2075BAGS 2.33.0  (landing page)Alejandro Quiroz-Zarate  OK    OK    OK    OK  UNNEEDED, same version is already published
109/2075ballgown 2.25.1  (landing page)Jack Fu  OK    OK    OK    OK  UNNEEDED, same version is already published
110/2075bambu 1.99.2  (landing page)Ying Chen  OK    OK    OK    OK  YES
111/2075bamsignals 1.25.0  (landing page)Johannes Helmuth  OK    OK    OK    OK  UNNEEDED, same version is already published
112/2075BANDITS 1.9.0  (landing page)Simone Tiberi  OK    OK    OK    OK  UNNEEDED, same version is already published
113/2075banocc 1.17.0  (landing page)George Weingart  OK    OK    OK    OK  UNNEEDED, same version is already published
114/2075barcodetrackR 1.1.0  (landing page)Diego Alexander Espinoza  OK    OK    OK    OK  UNNEEDED, same version is already published
115/2075basecallQC 1.17.0  (landing page)Thomas Carroll  OK    OK    OK    OK  UNNEEDED, same version is already published
116/2075BaseSpaceR 1.37.0  (landing page)Jared O'Connell  OK    OK    OK    OK  UNNEEDED, same version is already published
117/2075Basic4Cseq 1.29.0  (landing page)Carolin Walter  OK    OK    OK    OK  UNNEEDED, same version is already published
118/2075BASiCS 2.5.7  (landing page)Alan O'Callaghan  OK    OK    OK    OK  UNNEEDED, same version is already published
119/2075BasicSTARRseq 1.21.0  (landing page)Annika Buerger  OK    OK    OK    OK  UNNEEDED, same version is already published
120/2075basilisk 1.5.0  (landing page)Aaron Lun  OK    OK    OK    OK  UNNEEDED, same version is already published
121/2075basilisk.utils 1.5.0  (landing page)Aaron Lun  OK    OK    OK    OK  UNNEEDED, same version is already published
122/2075batchelor 1.9.1  (landing page)Aaron Lun  OK    OK    OK    OK  UNNEEDED, same version is already published
123/2075BatchQC 1.21.0  (landing page)Solaiappan Manimaran  OK    OK    OK    OK  UNNEEDED, same version is already published
124/2075BayesKnockdown 1.19.0  (landing page)William Chad Young  OK    OK    OK    OK  UNNEEDED, same version is already published
125/2075BayesSpace 1.3.1  (landing page)Matt Stone  OK    OK    OK    OK  UNNEEDED, same version is already published
126/2075bayNorm 1.11.0  (landing page)Wenhao Tang  OK    OK    OK    OK  UNNEEDED, same version is already published
127/2075baySeq 2.27.0  (landing page)Thomas J. Hardcastle  OK    OK    OK    OK  UNNEEDED, same version is already published
128/2075BBCAnalyzer 1.23.0  (landing page)Sarah Sandmann  OK    OK    OK    OK  UNNEEDED, same version is already published
129/2075BCRANK 1.55.0  (landing page)Adam Ameur  OK    OK    OK    OK  UNNEEDED, same version is already published
130/2075bcSeq 1.15.0  (landing page)Jiaxing Lin  OK    OK    OK    OK  UNNEEDED, same version is already published
131/2075BDMMAcorrect 1.11.0  (landing page)ZHENWEI DAI  OK    OK    OK    OK  UNNEEDED, same version is already published
132/2075beachmat 2.9.1  (landing page)Aaron Lun  OK    OK    OK    OK  UNNEEDED, same version is already published
133/2075beadarray 2.43.0  (landing page)Mark Dunning  OK    OK    OK    OK  UNNEEDED, same version is already published
134/2075beadarraySNP 1.59.0  (landing page)Jan Oosting  OK    OK    OK    OK  UNNEEDED, same version is already published
135/2075BeadDataPackR 1.45.0  (landing page)Mike Smith  OK    OK    OK    OK  UNNEEDED, same version is already published
136/2075BEARscc 1.13.0  (landing page)Benjamin Schuster-Boeckler  OK    OK    OK    OK  UNNEEDED, same version is already published
137/2075BEAT 1.31.0  (landing page)Kemal Akman  OK    OK    OK    OK  UNNEEDED, same version is already published
138/2075BEclear 2.9.2  (landing page)David Rasp  OK    OK    OK    OK  UNNEEDED, same version is already published
139/2075benchdamic 0.99.4  (landing page)Matteo Calgaro  OK    OK    OK    OK  UNNEEDED, same version is already published
140/2075BgeeCall 1.9.0  (landing page)Julien Wollbrett  OK    OK    OK    OK  UNNEEDED, same version is already published
141/2075BgeeDB 2.19.1  (landing page)Julien Wollbrett , Julien Roux , Andrea Komljenovic , Frederic Bastian  OK    OK    OK    OK  UNNEEDED, same version is already published
142/2075BGmix 1.53.0  (landing page)Alex Lewin  OK    OK    OK    OK  UNNEEDED, same version is already published
143/2075bgx 1.59.0  (landing page)Ernest Turro  OK    OK    WARNINGS    OK  UNNEEDED, same version is already published
144/2075BHC 1.45.0  (landing page)Rich Savage  OK    OK    WARNINGS    OK  UNNEEDED, same version is already published
145/2075BicARE 1.51.0  (landing page)Pierre Gestraud  OK    OK    OK    OK  UNNEEDED, same version is already published
146/2075BiFET 1.13.1  (landing page)Ahrim Youn  OK    OK    OK    OK  UNNEEDED, same version is already published
147/2075BiGGR   (landing page)... NOT SUPPORTED ...
148/2075bigmelon 1.19.4  (landing page)Tyler J. Gorrie-Stone  OK    OK    WARNINGS    OK  NO, package depends on 'methylumi' which is not available
149/2075bigPint 1.9.0  (landing page)Lindsay Rutter  OK    OK    WARNINGS    OK  UNNEEDED, same version is already published
150/2075BindingSiteFinder 0.99.10  (landing page)Mirko Brüggemann  OK    OK    OK    OK  UNNEEDED, same version is already published
151/2075bioassayR 1.31.0  (landing page)Daniela Cassol  OK    OK    OK    OK  UNNEEDED, same version is already published
152/2075Biobase 2.53.0  (landing page)Bioconductor Package Maintainer  OK    OK    OK    OK  UNNEEDED, same version is already published
153/2075biobroom 1.25.1  (landing page)John D. Storey and Andrew J. Bass  OK    OK    WARNINGS    OK  UNNEEDED, same version is already published
154/2075biobtreeR 1.5.0  (landing page)Tamer Gur  OK    OK    OK    OK  UNNEEDED, same version is already published
155/2075bioCancer 1.21.02  (landing page)Karim Mezhoud  OK    OK    OK    OK  UNNEEDED, same version is already published
156/2075BiocCheck 1.29.16  (landing page)Bioconductor Package Maintainer  OK    OK    OK    OK  UNNEEDED, same version is already published
157/2075BiocDockerManager 1.5.0  (landing page)Bioconductor Package Maintainer  OK    OK    OK    OK  UNNEEDED, same version is already published
158/2075BiocFileCache 2.1.1  (landing page)Lori Shepherd  OK    OK    OK    OK  UNNEEDED, same version is already published
159/2075BiocGenerics 0.39.2  (landing page)Bioconductor Package Maintainer  OK    OK    WARNINGS    OK  UNNEEDED, same version is already published
160/2075biocGraph 1.55.0  (landing page)Florian Hahne  OK    OK    OK    OK  UNNEEDED, same version is already published
161/2075BiocIO 1.3.0  (landing page)Bioconductor Package Maintainer  OK    OK    OK    OK  UNNEEDED, same version is already published
162/2075BiocNeighbors 1.11.0  (landing page)Aaron Lun  OK    OK    OK    OK  UNNEEDED, same version is already published
163/2075BiocOncoTK 1.13.2  (landing page)VJ Carey  OK    OK    OK    OK  UNNEEDED, same version is already published
164/2075BioCor 1.17.0  (landing page)Lluís Revilla Sancho  OK    OK    OK    OK  UNNEEDED, same version is already published
165/2075BiocParallel 1.27.17  (landing page)Bioconductor Package Maintainer  OK    OK    OK    OK  UNNEEDED, same version is already published
166/2075BiocPkgTools 1.11.19  (landing page)Sean Davis  OK    OK    OK    OK  UNNEEDED, same version is already published
167/2075BiocSet 1.7.2  (landing page)Kayla Morrell  OK    OK    OK    OK  UNNEEDED, same version is already published
168/2075BiocSingular 1.9.1  (landing page)Aaron Lun  OK    OK    OK    OK  UNNEEDED, same version is already published
169/2075BiocSklearn 1.15.0  (landing page)Vince Carey  OK    OK    OK    OK  UNNEEDED, same version is already published
170/2075BiocStyle 2.21.4  (landing page)Bioconductor Package  OK    OK    OK    OK  UNNEEDED, same version is already published
171/2075biocthis 1.3.8  (landing page)Leonardo Collado-Torres  OK    OK    OK    OK  UNNEEDED, same version is already published
172/2075BiocVersion 3.14.0  (landing page)Bioconductor Package Maintainer  OK    OK    OK    OK  UNNEEDED, same version is already published
173/2075biocViews 1.61.3  (landing page)Bioconductor Package Maintainer  OK    OK    OK    OK  UNNEEDED, same version is already published
174/2075BiocWorkflowTools 1.19.0  (landing page)Mike Smith  OK    OK    OK    OK  UNNEEDED, same version is already published
175/2075biodb 1.1.16  (landing page)Pierrick Roger  OK    OK    OK    OK  UNNEEDED, same version is already published
176/2075biodbChebi 0.99.6  (landing page)Pierrick Roger  OK    OK    OK    OK  UNNEEDED, same version is already published
177/2075biodbKegg 0.99.4  (landing page)Pierrick Roger  OK    OK    OK    OK  UNNEEDED, same version is already published
178/2075biodbUniprot 0.99.4  (landing page)Pierrick Roger  OK    OK    OK    OK  UNNEEDED, same version is already published
179/2075bioDist 1.65.0  (landing page)Bioconductor Package Maintainer  OK    OK    OK    OK  UNNEEDED, same version is already published
180/2075biomaRt 2.49.7  (landing page)Mike Smith  OK    OK    OK    OK  UNNEEDED, same version is already published
181/2075biomformat 1.21.0  (landing page)Paul J. McMurdie  OK    OK    WARNINGS    OK  UNNEEDED, same version is already published
182/2075BioMM 1.9.0  (landing page)Junfang Chen  OK    OK    OK    OK  UNNEEDED, same version is already published
183/2075BioMVCClass 1.61.0  (landing page)Elizabeth Whalen  OK    OK    OK    OK  UNNEEDED, same version is already published
184/2075biomvRCNS 1.33.0  (landing page)Yang Du  OK    OK    OK    OK  UNNEEDED, same version is already published
185/2075BioNERO 1.1.7  (landing page)Fabricio Almeida-Silva  OK    OK    OK    OK  YES
186/2075BioNet 1.53.0  (landing page)Marcus Dittrich  OK    OK    OK    OK  UNNEEDED, same version is already published
187/2075BioNetStat 1.13.0  (landing page)Vinicius Jardim  OK    OK    OK    OK  UNNEEDED, same version is already published
188/2075BioPlex 0.99.14  (landing page)Ludwig Geistlinger  OK    OK    OK    OK  UNNEEDED, same version is already published
189/2075BioQC 1.21.4  (landing page)Jitao David Zhang  OK    OK    OK    OK  UNNEEDED, same version is already published
190/2075biosigner 1.21.0  (landing page)Philippe Rinaudo , Etienne Thevenot  OK    OK    OK    OK  UNNEEDED, same version is already published
191/2075Biostrings 2.61.2  (landing page)H. Pagès  OK    OK    WARNINGS    OK  UNNEEDED, same version is already published
192/2075BioTIP 1.7.0  (landing page)Yuxi (Jennifer) Sun , Zhezhen Wang , and X Holly Yang  OK    OK    WARNINGS    OK  UNNEEDED, same version is already published
193/2075biotmle 1.17.1  (landing page)Nima Hejazi  OK    OK    OK    OK  UNNEEDED, same version is already published
194/2075biovizBase 1.41.0  (landing page)Michael Lawrence  OK    OK    WARNINGS    OK  UNNEEDED, same version is already published
195/2075BiRewire 3.25.0  (landing page)Andrea Gobbi  OK    OK    OK    OK  UNNEEDED, same version is already published
196/2075biscuiteer 1.7.2  (landing page)"Jacob Morrison"  OK    OK    WARNINGS    OK  UNNEEDED, same version is already published
197/2075BiSeq 1.33.0  (landing page)Katja Hebestreit  OK    OK    OK    OK  UNNEEDED, same version is already published
198/2075BitSeq 1.37.0  (landing page)Antti Honkela , Panagiotis Papastamoulis  OK    OK    WARNINGS    OK  UNNEEDED, same version is already published
199/2075blacksheepr 1.7.0  (landing page)RugglesLab  OK    OK    OK    OK  UNNEEDED, same version is already published
200/2075blima 1.27.0  (landing page)Vojtěch Kulvait  OK    OK    WARNINGS    OK  UNNEEDED, same version is already published
201/2075BLMA 1.17.0  (landing page)Hung Nguyen  OK    OK    OK    OK  UNNEEDED, same version is already published
202/2075BloodGen3Module 1.1.1  (landing page)Darawan Rinchai  OK    OK    WARNINGS    OK  UNNEEDED, same version is already published
203/2075bluster 1.3.2  (landing page)Aaron Lun  OK    OK    OK    OK  UNNEEDED, same version is already published
204/2075bnbc 1.15.0  (landing page)Kipper Fletez-Brant  OK    OK    OK    OK  UNNEEDED, same version is already published
205/2075bnem 1.1.3  (landing page)Martin Pirkl  OK    OK    OK    OK  UNNEEDED, same version is already published
206/2075BPRMeth 1.19.0  (landing page)Chantriolnt-Andreas Kapourani  OK    OK    OK    OK  UNNEEDED, same version is already published
207/2075BRAIN 1.39.0  (landing page)Piotr Dittwald  OK    OK    WARNINGS    OK  UNNEEDED, same version is already published
208/2075brainflowprobes 1.7.1  (landing page)Amanda Price  OK    OK    OK    OK  UNNEEDED, same version is already published
209/2075BrainSABER 1.3.3  (landing page)USD Biomedical Engineering  OK    OK    OK    OK  UNNEEDED, same version is already published
210/2075BrainStars 1.37.1  (landing page)Itoshi NIKAIDO  OK    ERROR  skippedskipped
211/2075branchpointer 1.19.0  (landing page)Beth Signal  OK    OK    OK    OK  UNNEEDED, same version is already published
212/2075breakpointR 1.11.0  (landing page)David Porubsky  OK    OK    OK    OK  UNNEEDED, same version is already published
213/2075brendaDb 1.7.2  (landing page)Yi Zhou  OK    OK    OK    OK  UNNEEDED, same version is already published
214/2075BRGenomics 1.5.0  (landing page)Mike DeBerardine  OK    OK    WARNINGS    OK  UNNEEDED, same version is already published
215/2075bridge 1.57.0  (landing page)Raphael Gottardo  OK    OK    OK    OK  UNNEEDED, same version is already published
216/2075BridgeDbR 2.3.0  (landing page)Egon Willighagen  OK    OK    OK    OK  UNNEEDED, same version is already published
217/2075BrowserViz 2.15.2  (landing page)Paul Shannon  OK    OK    OK    OK  UNNEEDED, same version is already published
218/2075BSgenome 1.61.0  (landing page)H. Pagès  OK    ERROR  skippedskipped
219/2075bsseq 1.29.0  (landing page)Kasper Daniel Hansen  OK    OK    OK    OK  UNNEEDED, same version is already published
220/2075BubbleTree 2.23.0  (landing page)Todd Creasy , Wei Zhu  OK    OK    OK    OK  UNNEEDED, same version is already published
221/2075BufferedMatrix 1.57.0  (landing page)Ben Bolstad  OK    OK    WARNINGS    OK  UNNEEDED, same version is already published
222/2075BufferedMatrixMethods 1.57.0  (landing page)Ben Bolstad  OK    OK    OK    OK  UNNEEDED, same version is already published
223/2075bugsigdbr 0.99.8  (landing page)Ludwig Geistlinger  OK    OK    OK    OK  UNNEEDED, same version is already published
224/2075BUMHMM 1.17.0  (landing page)Alina Selega  OK    OK    OK    OK  UNNEEDED, same version is already published
225/2075bumphunter 1.35.0  (landing page)Rafael A. Irizarry  OK    OK    OK    OK  UNNEEDED, same version is already published
226/2075BumpyMatrix 1.1.1  (landing page)Aaron Lun  OK    OK    OK    OK  UNNEEDED, same version is already published
227/2075BUS 1.49.0  (landing page)Yuanhua Liu  OK    OK    OK    OK  UNNEEDED, same version is already published
228/2075BUScorrect 1.11.0  (landing page)Xiangyu Luo  OK    OK    OK    OK  UNNEEDED, same version is already published
229/2075BUSpaRse 1.7.1  (landing page)Lambda Moses  OK    OK    OK    OK  UNNEEDED, same version is already published
230/2075BUSseq 0.99.18  (landing page)Fangda Song  OK    OK    OK    OK  UNNEEDED, same version is already published
C
ABCDEFGHIJKLMNOPQRSTUVWXYZ
PackageMaintainerINSTALLBUILDCHECKBUILD BIN
231/2075CAEN 1.1.0  (landing page)Zhou Yan  OK    OK    OK    OK  UNNEEDED, same version is already published
232/2075CAFE 1.29.0  (landing page)Sander Bollen  OK    OK    WARNINGS    OK  UNNEEDED, same version is already published
233/2075CAGEfightR 1.13.1  (landing page)Malte Thodberg  OK    OK    OK    OK  UNNEEDED, same version is already published
234/2075cageminer 0.99.7  (landing page)Fabrício Almeida-Silva  OK    OK    OK    OK  UNNEEDED, same version is already published
235/2075CAGEr 1.99.0  (landing page)Charles Plessy  OK    OK    WARNINGS    OK  UNNEEDED, same version is already published
236/2075calm 1.7.0  (landing page)Kun Liang  OK    OK    OK    OK  UNNEEDED, same version is already published
237/2075CAMERA 1.49.0  (landing page)Steffen Neumann  OK    OK    OK    OK  UNNEEDED, same version is already published
238/2075canceR 1.27.0  (landing page)Karim Mezhoud  OK    OK    OK    OK  UNNEEDED, same version is already published
239/2075cancerclass 1.37.0  (landing page)Daniel Kosztyla  OK    OK    WARNINGS    OK  UNNEEDED, same version is already published
240/2075CancerInSilico 2.13.0  (landing page)Thomas D. Sherman  OK    OK    OK    OK  UNNEEDED, same version is already published
241/2075CancerSubtypes 1.19.0  (landing page)Taosheng Xu  OK    OK    OK    OK  UNNEEDED, same version is already published
242/2075CAnD 1.25.0  (landing page)Caitlin McHugh  OK    OK    OK    OK  UNNEEDED, same version is already published
243/2075caOmicsV 1.23.0  (landing page)Henry Zhang  OK    OK    OK    OK  UNNEEDED, same version is already published
244/2075Cardinal 2.11.3  (landing page)Kylie A. Bemis  OK    OK    OK    OK  UNNEEDED, same version is already published
245/2075CARNIVAL 2.3.0  (landing page)Olga Ivanova  OK    OK    OK    OK  UNNEEDED, same version is already published
246/2075casper 2.27.0  (landing page)David Rossell  OK    OK    WARNINGS    OK  UNNEEDED, same version is already published
247/2075CATALYST 1.17.3  (landing page)Helena L. Crowell  OK    OK    OK    OK  UNNEEDED, same version is already published
248/2075Category 2.59.0  (landing page)Bioconductor Package Maintainer  OK    OK    OK    OK  UNNEEDED, same version is already published
249/2075categoryCompare 1.37.1  (landing page)Robert M. Flight  OK    OK    OK    OK  UNNEEDED, same version is already published
250/2075CausalR 1.25.0  (landing page)Glyn Bradley , Steven Barrett  OK    OK    OK    OK  UNNEEDED, same version is already published
251/2075cbaf 1.15.1  (landing page)Arman Shahrisa  OK    OK    OK    OK  UNNEEDED, same version is already published
252/2075cBioPortalData 2.5.13  (landing page)Marcel Ramos  OK    OK    WARNINGS    OK  UNNEEDED, same version is already published
253/2075cbpManager 1.1.2  (landing page)Arsenij Ustjanzew  OK    OK    OK    OK  UNNEEDED, same version is already published
254/2075ccfindR 1.13.0  (landing page)Jun Woo  OK    OK    OK    OK  UNNEEDED, same version is already published
255/2075ccmap 1.19.0  (landing page)Alex Pickering  OK    OK    WARNINGS    OK  UNNEEDED, same version is already published
256/2075CCPROMISE 1.19.0  (landing page)Xueyuan Cao  OK    OK    WARNINGS    OK  UNNEEDED, same version is already published
257/2075ccrepe 1.29.0  (landing page)Emma Schwager ,Craig Bielski, George Weingart  OK    OK    OK    OK  UNNEEDED, same version is already published
258/2075celaref 1.11.0  (landing page)Sarah Williams  OK    OK    OK    OK  UNNEEDED, same version is already published
259/2075celda 1.9.3  (landing page)Joshua Campbell  OK    OK    OK    OK  UNNEEDED, same version is already published
260/2075CellaRepertorium 1.3.1  (landing page)Andrew McDavid  OK    OK    OK    OK  UNNEEDED, same version is already published
261/2075cellbaseR 1.17.0  (landing page)Mohammed OE Abdallah  OK    OK    OK    OK  UNNEEDED, same version is already published
262/2075CellBench 1.9.0  (landing page)Shian Su  OK    OK    OK    OK  UNNEEDED, same version is already published
263/2075cellHTS2 2.57.0  (landing page)Joseph Barry  OK    OK    OK    OK  UNNEEDED, same version is already published
264/2075CelliD 1.1.0  (landing page)Akira Cortal  OK    OK    OK    OK  UNNEEDED, same version is already published
265/2075cellity 1.21.0  (landing page)Tomislav Ilicic  OK    OK    OK    OK  UNNEEDED, same version is already published
266/2075CellMapper 1.19.0  (landing page)Brad Nelms  OK    OK    WARNINGS    OK  UNNEEDED, same version is already published
267/2075cellmigRation 1.1.0  (landing page)Waldir Leoncio  OK    OK    OK    OK  UNNEEDED, same version is already published
268/2075CellMixS 1.9.0  (landing page)Almut Lütge  OK    OK    OK    OK  UNNEEDED, same version is already published
269/2075CellNOptR 1.39.2  (landing page)A.Gabor  OK    OK    OK    OK  UNNEEDED, same version is already published
270/2075cellscape 1.17.0  (landing page)Maia Smith  OK    OK    WARNINGS    OK  UNNEEDED, same version is already published
271/2075CellScore 1.13.0  (landing page)Nancy Mah  OK    OK    OK    OK  UNNEEDED, same version is already published
272/2075CellTrails 1.11.0  (landing page)Daniel Ellwanger  OK    OK    OK    OK  UNNEEDED, same version is already published
273/2075cellTree 1.23.0  (landing page)David duVerle  OK    OK    OK    OK  UNNEEDED, same version is already published
274/2075CEMiTool 1.17.0  (landing page)Helder Nakaya  OK    OK    OK    OK  UNNEEDED, same version is already published
275/2075censcyt 1.1.0  (landing page)Reto Gerber  OK    OK    ERROR    OK  
276/2075Cepo 0.99.4  (landing page)Hani Jieun Kim  OK    OK    OK    OK  UNNEEDED, same version is already published
277/2075ceRNAnetsim 1.5.0  (landing page)Selcen Ari Yuka  OK    OK    OK    OK  UNNEEDED, same version is already published
278/2075CeTF 1.5.4  (landing page)Carlos Alberto Oliveira de Biagi Junior  OK    OK    OK    OK  UNNEEDED, same version is already published
279/2075CexoR 1.31.4  (landing page)Pedro Madrigal  OK    OK    OK    OK  UNNEEDED, same version is already published
280/2075CFAssay 1.27.0  (landing page)Herbert Braselmann  OK    OK    OK    OK  UNNEEDED, same version is already published
281/2075cfDNAPro 0.99.3  (landing page)Haichao Wang  OK    OK    OK    OK  UNNEEDED, same version is already published
282/2075CGEN 3.29.0  (landing page)Justin Lee  OK    OK    OK    OK  UNNEEDED, same version is already published
283/2075CGHbase 1.53.0  (landing page)Mark van de Wiel  OK    OK    OK    OK  UNNEEDED, same version is already published
284/2075CGHcall 2.55.0  (landing page)Mark van de Wiel  OK    OK    WARNINGS    OK  UNNEEDED, same version is already published
285/2075cghMCR 1.51.0  (landing page)J. Zhang  OK    OK    WARNINGS    OK  UNNEEDED, same version is already published
286/2075CGHnormaliter 1.47.0  (landing page)Bart P.P. van Houte  OK    OK    OK    OK  UNNEEDED, same version is already published
287/2075CGHregions 1.51.0  (landing page)Sjoerd Vosse  OK    OK    OK    OK  UNNEEDED, same version is already published
288/2075ChAMP 2.23.0  (landing page)Yuan Tian  OK    OK    WARNINGS    OK  UNNEEDED, same version is already published
289/2075ChemmineOB 1.31.0  (landing page)Thomas Girke  OK    OK    WARNINGS    OK  UNNEEDED, same version is already published
290/2075ChemmineR 3.45.2  (landing page)Thomas Girke  OK    OK    WARNINGS    OK  UNNEEDED, same version is already published
291/2075CHETAH 1.9.0  (landing page)Jurrian de Kanter  OK    ERROR  skippedskipped
292/2075ChIC 1.13.0  (landing page)Carmen Maria Livi  OK    OK    OK    OK  UNNEEDED, same version is already published
293/2075Chicago 1.21.0  (landing page)Mikhail Spivakov  OK    OK    OK    OK  UNNEEDED, same version is already published
294/2075chimeraviz 1.19.0  (landing page)Stian Lågstad  OK    OK    OK    OK  UNNEEDED, same version is already published
295/2075ChIPanalyser 1.15.0  (landing page)Patrick C.N. Martin  OK    OK    OK    OK  UNNEEDED, same version is already published
296/2075ChIPComp 1.23.0  (landing page)Li Chen  OK    OK    OK    OK  UNNEEDED, same version is already published
297/2075chipenrich 2.17.0  (landing page)Raymond G. Cavalcante  OK    OK    OK    OK  UNNEEDED, same version is already published
298/2075ChIPexoQual 1.17.0  (landing page)Rene Welch  OK    OK    OK    OK  UNNEEDED, same version is already published
299/2075ChIPpeakAnno 3.27.7  (landing page)Jianhong Ou  OK    OK    OK    OK  UNNEEDED, same version is already published
300/2075ChIPQC 1.29.0  (landing page)Tom Carroll , Rory Stark  OK    OK    WARNINGS    OK  UNNEEDED, same version is already published
301/2075ChIPseeker 1.29.2  (landing page)Guangchuang Yu  OK    OK    OK    OK  UNNEEDED, same version is already published
302/2075chipseq 1.43.0  (landing page)Bioconductor Package Maintainer  OK    OK    WARNINGS    OK  UNNEEDED, same version is already published
303/2075ChIPseqR 1.47.0  (landing page)Peter Humburg  OK    OK    OK    OK  UNNEEDED, same version is already published
304/2075ChIPsim 1.47.0  (landing page)Peter Humburg  OK    OK    OK    OK  UNNEEDED, same version is already published
305/2075ChIPXpress 1.37.0  (landing page)George Wu  OK    OK    OK    OK  UNNEEDED, same version is already published
306/2075chopsticks 1.59.0  (landing page)Hin-Tak Leung  OK    OK    WARNINGS    OK  UNNEEDED, same version is already published
307/2075chromDraw 2.23.0  (landing page)Jan Janecka  OK    OK    WARNINGS    OK  UNNEEDED, same version is already published
308/2075ChromHeatMap 1.47.0  (landing page)Tim F. Rayner  OK    OK    OK    OK  UNNEEDED, same version is already published
309/2075chromPlot 1.21.0  (landing page)Karen Y. Orostica  OK    OK    OK    OK  UNNEEDED, same version is already published
310/2075ChromSCape 1.3.22  (landing page)Pacome Prompsy  OK    OK    OK    OK  UNNEEDED, same version is already published
311/2075chromstaR 1.19.0  (landing page)Aaron Taudt  OK    ERROR  skippedskipped
312/2075chromswitch 1.15.0  (landing page)Selin Jessa  OK    OK    OK    OK  UNNEEDED, same version is already published
313/2075chromVAR 1.15.0  (landing page)Alicia Schep  OK    OK    OK    OK  UNNEEDED, same version is already published
314/2075CHRONOS 1.21.1  (landing page)Panos Balomenos  OK    OK    OK    OK  UNNEEDED, same version is already published
315/2075cicero 1.11.1  (landing page)Hannah Pliner  OK    OK    OK    OK  UNNEEDED, same version is already published
316/2075CIMICE 1.1.3  (landing page)Nicolò Rossi  OK    OK    OK    OK  UNNEEDED, same version is already published
317/2075CINdex 1.21.0  (landing page)Yuriy Gusev  OK    OK    WARNINGS    OK  UNNEEDED, same version is already published
318/2075circRNAprofiler 1.7.5  (landing page)Simona Aufiero  OK    OK    OK    OK  UNNEEDED, same version is already published
319/2075cisPath 1.33.0  (landing page)Likun Wang  OK    OK    WARNINGS    OK  UNNEEDED, same version is already published
320/2075CiteFuse 1.5.0  (landing page)Yingxin Lin  OK    OK    OK    OK  UNNEEDED, same version is already published
321/2075ClassifyR 2.13.14  (landing page)Dario Strbenac  OK    OK    OK    OK  UNNEEDED, same version is already published
322/2075cleanUpdTSeq 1.31.0  (landing page)Jianhong Ou ; Lihua Julie Zhu  OK    OK    OK    OK  UNNEEDED, same version is already published
323/2075cleaver 1.31.0  (landing page)Sebastian Gibb  OK    OK    OK    OK  UNNEEDED, same version is already published
324/2075clippda 1.43.0  (landing page)Stephen Nyangoma  OK    OK    WARNINGS    OK  UNNEEDED, same version is already published
325/2075clipper 1.33.0  (landing page)Paolo Martini  OK    OK    OK    OK  UNNEEDED, same version is already published
326/2075cliProfiler 0.99.3  (landing page)You Zhou  OK    OK    OK    OK  UNNEEDED, same version is already published
327/2075cliqueMS 1.7.0  (landing page)Oriol Senan Campos  OK    OK    ERROR    OK  
328/2075Clomial 1.29.0  (landing page)Habil Zare  OK    OK    OK    OK  UNNEEDED, same version is already published
329/2075Clonality 1.41.0  (landing page)Irina Ostrovnaya  OK    OK    OK    OK  UNNEEDED, same version is already published
330/2075clonotypeR 1.31.0  (landing page)Charles Plessy  OK    ERROR  skippedskipped
331/2075clst 1.41.0  (landing page)Noah Hoffman  OK    OK    WARNINGS    OK  UNNEEDED, same version is already published
332/2075clstutils 1.41.1  (landing page)Noah Hoffman  OK    OK    WARNINGS    OK  UNNEEDED, same version is already published
333/2075CluMSID 1.9.0  (landing page)Tobias Depke  OK    OK    OK    OK  UNNEEDED, same version is already published
334/2075clustComp 1.21.0  (landing page)Aurora Torrente  OK    OK    OK    OK  UNNEEDED, same version is already published
335/2075clusterExperiment 2.13.2  (landing page)Elizabeth Purdom  OK    OK    TIMEOUT    OK  
336/2075ClusterJudge 1.15.0  (landing page)Adrian Pasculescu  OK    OK    OK    OK  UNNEEDED, same version is already published
337/2075clusterProfiler 4.1.4  (landing page)Guangchuang Yu  OK    OK    OK    OK  UNNEEDED, same version is already published
338/2075clusterSeq 1.17.0  (landing page)Thomas J. Hardcastle  OK    OK    OK    OK  UNNEEDED, same version is already published
339/2075ClusterSignificance 1.21.0  (landing page)Jason T Serviss  OK    OK    OK    OK  UNNEEDED, same version is already published
340/2075clusterStab 1.65.0  (landing page)James W. MacDonald  OK    OK    OK    OK  UNNEEDED, same version is already published
341/2075clustifyr 1.5.1  (landing page)Rui Fu  OK    OK    OK    OK  UNNEEDED, same version is already published
342/2075CMA 1.51.0  (landing page)Roman Hornung  OK    OK    OK    OK  UNNEEDED, same version is already published
343/2075cmapR 1.5.3  (landing page)Ted Natoli  OK    OK    OK    OK  UNNEEDED, same version is already published
344/2075cn.farms 1.41.0  (landing page)Andreas Mitterecker  OK    OK    OK    OK  UNNEEDED, same version is already published
345/2075cn.mops 1.39.0  (landing page)Gundula Povysil  OK    OK    OK    OK  UNNEEDED, same version is already published
346/2075CNAnorm 1.39.0  (landing page)Stefano Berri  OK    OK    OK    OK  UNNEEDED, same version is already published
347/2075CNEr 1.29.0  (landing page)Ge Tan  OK    OK    WARNINGS    OK  UNNEEDED, same version is already published
348/2075CNORdt 1.35.0  (landing page)A. MacNamara  OK    OK    OK    OK  UNNEEDED, same version is already published
349/2075CNORfeeder 1.33.0  (landing page)E.Gjerga  OK    OK    OK    OK  UNNEEDED, same version is already published
350/2075CNORfuzzy 1.35.0  (landing page)T. Cokelaer  OK    OK    OK    OK  UNNEEDED, same version is already published
351/2075CNORode 1.35.1  (landing page)Attila Gabor  OK    OK    OK    OK  UNNEEDED, same version is already published
352/2075CNTools 1.49.0  (landing page)J. Zhang  OK    OK    OK    OK  UNNEEDED, same version is already published
353/2075CNVfilteR 1.7.4  (landing page)Jose Marcos Moreno-Cabrera  OK    OK    OK    OK  UNNEEDED, same version is already published
354/2075CNVgears 1.1.0  (landing page)Simone Montalbano  OK    OK    OK    OK  UNNEEDED, same version is already published
355/2075cnvGSA 1.37.0  (landing page)Joseph Lugo  OK    OK    OK    OK  UNNEEDED, same version is already published
356/2075CNViz 1.1.0  (landing page)Rebecca Greenblatt  OK    OK    OK    OK  UNNEEDED, same version is already published
357/2075CNVPanelizer 1.25.0  (landing page)Thomas Wolf  OK    OK    OK    OK  UNNEEDED, same version is already published
358/2075CNVRanger 1.9.0  (landing page)Ludwig Geistlinger  OK    OK    OK    OK  UNNEEDED, same version is already published
359/2075CNVrd2 1.31.0  (landing page)Hoang Tan Nguyen  OK    OK    OK    OK  UNNEEDED, same version is already published
360/2075CoCiteStats 1.65.0  (landing page)Bioconductor Package Maintainer  OK    OK    OK    OK  UNNEEDED, same version is already published
361/2075COCOA 2.7.0  (landing page)John Lawson  OK    OK    OK    OK  UNNEEDED, same version is already published
362/2075codelink 1.61.0  (landing page)Diego Diez  OK    OK    OK    OK  UNNEEDED, same version is already published
363/2075CODEX 1.25.0  (landing page)Yuchao Jiang  OK    OK    OK    OK  UNNEEDED, same version is already published
364/2075coexnet 1.15.0  (landing page)Juan David Henao  OK    OK    ERROR    OK  
365/2075CoGAPS 3.13.0  (landing page)Elana J. Fertig  OK    OK    OK    OK  UNNEEDED, same version is already published
366/2075cogena 1.27.0  (landing page)Zhilong Jia  OK    OK    WARNINGS    OK  UNNEEDED, same version is already published
367/2075Cogito 0.99.5  (landing page)Annika Bürger  OK    OK    OK    OK  UNNEEDED, same version is already published
368/2075coGPS 1.37.0  (landing page)Yingying Wei  OK    OK    OK    OK  UNNEEDED, same version is already published
369/2075COHCAP 1.39.0  (landing page)Charles Warden  OK    OK    OK    OK  UNNEEDED, same version is already published
370/2075cola 1.99.4  (landing page)Zuguang Gu  OK    OK    OK    OK  UNNEEDED, same version is already published
371/2075combi 1.5.0  (landing page)Joris Meys  OK    OK    OK    OK  UNNEEDED, same version is already published
372/2075coMET 1.25.0  (landing page)Tiphaine Martin  OK    OK    OK    OK  UNNEEDED, same version is already published
373/2075compartmap 1.11.0  (landing page)Benjamin Johnson  OK    OK    OK    OK  UNNEEDED, same version is already published
374/2075COMPASS 1.31.0  (landing page)Greg Finak  OK    OK    OK    OK  UNNEEDED, same version is already published
375/2075compcodeR 1.29.0  (landing page)Charlotte Soneson  OK    OK    OK    OK  UNNEEDED, same version is already published
376/2075compEpiTools 1.27.0  (landing page)Kamal Kishore  OK    OK    ERROR    OK  
377/2075ComplexHeatmap 2.9.4  (landing page)Zuguang Gu  OK    OK    OK    OK  UNNEEDED, same version is already published
378/2075ComPrAn 1.1.2  (landing page)Petra Palenikova  OK    OK    OK    OK  UNNEEDED, same version is already published
379/2075conclus 1.1.002  (landing page)Ilyess Rachedi  OK    OK    OK    OK  UNNEEDED, same version is already published
380/2075condiments 1.1.02  (landing page)Hector Roux de Bezieux  OK    OK    OK    OK  UNNEEDED, same version is already published
381/2075CONFESS 1.21.0  (landing page)Diana LOW  OK    OK    WARNINGS    OK  UNNEEDED, same version is already published
382/2075consensus 1.11.0  (landing page)Tim Peters  OK    OK    OK    OK  UNNEEDED, same version is already published
383/2075ConsensusClusterPlus 1.57.0  (landing page)Matt Wilkerson  OK    OK    OK    OK  UNNEEDED, same version is already published
384/2075consensusDE 1.11.0  (landing page)Ashley J. Waardenberg  OK    OK    OK    OK  UNNEEDED, same version is already published
385/2075consensusOV 1.15.0  (landing page)Benjamin Haibe-Kains  OK    OK    OK    OK  UNNEEDED, same version is already published
386/2075consensusSeekeR 1.21.0  (landing page)Astrid Deschenes  OK    OK    OK    OK  UNNEEDED, same version is already published
387/2075CONSTANd 1.1.0  (landing page)Dirk Valkenborg  OK    OK    OK    OK  UNNEEDED, same version is already published
388/2075contiBAIT 1.21.0  (landing page)Kieran O'Neill  OK    OK    WARNINGS    OK  UNNEEDED, same version is already published
389/2075conumee 1.27.0  (landing page)Volker Hovestadt  OK    OK    OK    OK  UNNEEDED, same version is already published
390/2075convert 1.69.0  (landing page)Yee Hwa (Jean) Yang  OK    OK    OK    OK  UNNEEDED, same version is already published
391/2075copa 1.61.0  (landing page)James W. MacDonald  OK    OK    OK    OK  UNNEEDED, same version is already published
392/2075copynumber 1.33.0  (landing page)Gro Nilsen  OK    OK    OK    OK  UNNEEDED, same version is already published
393/2075CopyNumberPlots 1.9.2  (landing page)Bernat Gel  OK    ERROR  skippedskipped
394/2075CopywriteR 2.25.0  (landing page)Oscar Krijgsman  OK    OK    OK    OK  UNNEEDED, same version is already published
395/2075coRdon 1.11.0  (landing page)Anamaria Elek  OK    OK    OK    OK  UNNEEDED, same version is already published
396/2075CoRegNet 1.31.0  (landing page)Remy Nicolle  OK    OK    WARNINGS    OK  UNNEEDED, same version is already published
397/2075CoreGx 1.5.6  (landing page)Benjamin Haibe-Kains  OK    OK    OK    OK  UNNEEDED, same version is already published
398/2075Cormotif 1.39.0  (landing page)Yingying Wei  OK    OK    OK    OK  UNNEEDED, same version is already published
399/2075corral 1.3.1  (landing page)Lauren Hsu  OK    OK    OK    OK  UNNEEDED, same version is already published
400/2075CORREP 1.59.0  (landing page)Dongxiao Zhu  OK    OK    OK    OK  UNNEEDED, same version is already published
401/2075coseq 1.17.2  (landing page)Andrea Rau  OK    OK    OK    OK  UNNEEDED, same version is already published
402/2075cosmiq 1.27.0  (landing page)David Fischer  OK    OK    OK    OK  UNNEEDED, same version is already published
403/2075cosmosR 1.1.2  (landing page)Katharina Zirngibl  OK    OK    OK    OK  YES
404/2075COSNet 1.27.0  (landing page)Marco Frasca  OK    OK    OK    OK  UNNEEDED, same version is already published
405/2075CountClust 1.21.0  (landing page)Kushal Dey  OK    ERROR  skippedskipped
406/2075countsimQC 1.11.0  (landing page)Charlotte Soneson  OK    OK    OK    OK  UNNEEDED, same version is already published
407/2075covEB 1.19.0  (landing page)C. Pacini  OK    OK    OK    OK  UNNEEDED, same version is already published
408/2075CoverageView 1.31.0  (landing page)Ernesto Lowy  OK    OK    WARNINGS    OK  UNNEEDED, same version is already published
409/2075covRNA 1.19.0  (landing page)Lara Urban  OK    OK    OK    OK  UNNEEDED, same version is already published
410/2075cpvSNP 1.25.0  (landing page)Caitlin McHugh  OK    OK    OK    OK  UNNEEDED, same version is already published
411/2075cqn 1.39.0  (landing page)Kasper Daniel Hansen  OK    OK    OK    OK  UNNEEDED, same version is already published
412/2075CRImage 1.41.0  (landing page)Henrik Failmezger , Yinyin Yuan  OK    OK    OK    OK  UNNEEDED, same version is already published
413/2075CRISPRseek 1.33.5  (landing page)Lihua Julie Zhu  OK    OK    OK    OK  UNNEEDED, same version is already published
414/2075crisprseekplus 1.19.0  (landing page)Alper Kucukural  OK    OK    OK    OK  UNNEEDED, same version is already published
415/2075CrispRVariants 1.21.0  (landing page)Helen Lindsay  OK    OK    WARNINGS    OK  UNNEEDED, same version is already published
416/2075crlmm 1.51.0  (landing page)Benilton S Carvalho  OK    OK    OK    OK  UNNEEDED, same version is already published
417/2075crossmeta 1.19.0  (landing page)Alex Pickering  OK    OK    WARNINGS    OK  UNNEEDED, same version is already published
418/2075CSAR 1.45.0  (landing page)Jose M Muino  OK    OK    OK    OK  UNNEEDED, same version is already published
419/2075csaw 1.27.0  (landing page)Aaron Lun  OK    OK    OK    OK  UNNEEDED, same version is already published
420/2075csdR 0.99.8  (landing page)Jakob Peder Pettersen  OK    OK    OK    OK  UNNEEDED, same version is already published
421/2075CSSP 1.31.0  (landing page)Chandler Zuo  OK    OK    OK    OK  UNNEEDED, same version is already published
422/2075CSSQ 1.5.1  (landing page)Fan Lab at Georgia Institute of Technology  OK    OK    OK    OK  UNNEEDED, same version is already published
423/2075ctc 1.67.0  (landing page)Antoine Lucas  OK    OK    OK    OK  UNNEEDED, same version is already published
424/2075CTDquerier 2.1.0  (landing page)Xavier Escribà-Montagut  OK    OK    WARNINGS    OK  UNNEEDED, same version is already published
425/2075ctgGEM 1.5.2  (landing page)USD Biomedical Engineering  OK    OK    OK    OK  UNNEEDED, same version is already published
426/2075cTRAP 1.11.1  (landing page)Nuno Saraiva-Agostinho  OK    OK    OK    OK  UNNEEDED, same version is already published
427/2075ctsGE 1.19.0  (landing page)Michal Sharabi-Schwager  OK    OK    OK    OK  UNNEEDED, same version is already published
428/2075cummeRbund 2.35.0  (landing page)Loyal A. Goff  OK    OK    WARNINGS    OK  UNNEEDED, same version is already published
429/2075customCMPdb 1.3.0  (landing page)Yuzhu Duan  OK    OK    OK    OK  UNNEEDED, same version is already published
430/2075customProDB 1.33.0  (landing page)Xiaojing Wang  OK    OK    OK    OK  UNNEEDED, same version is already published
431/2075cyanoFilter 1.1.1  (landing page)Oluwafemi Olusoji  OK    OK    OK    OK  UNNEEDED, same version is already published
432/2075cycle 1.47.0  (landing page)Matthias Futschik  OK    OK    OK    OK  UNNEEDED, same version is already published
433/2075cydar 1.17.0  (landing page)Aaron Lun  OK    OK    OK    OK  UNNEEDED, same version is already published
434/2075CytoDx 1.13.2  (landing page)Zicheng Hu  OK    OK    OK    OK  UNNEEDED, same version is already published
435/2075CyTOFpower 0.99.4  (landing page)Anne-Maud Ferreira  OK    OK    OK    OK  UNNEEDED, same version is already published
436/2075CytoGLMM 1.1.0  (landing page)Christof Seiler  OK    OK    OK    OK  UNNEEDED, same version is already published
437/2075cytoKernel 0.99.0  (landing page)Tusharkanti Ghosh  OK    OK    OK    OK  UNNEEDED, same version is already published
438/2075cytolib 2.5.3  (landing page)Mike Jiang  OK    OK    OK    OK  UNNEEDED, same version is already published
439/2075cytomapper 1.5.5  (landing page)Nils Eling  OK    OK    OK    OK  UNNEEDED, same version is already published
440/2075CytoML 2.5.4  (landing page)Mike Jiang  OK    OK    WARNINGS    OK  UNNEEDED, same version is already published
441/2075CytoTree 1.3.0  (landing page)Yuting Dai  OK    OK    OK    OK  UNNEEDED, same version is already published
D
ABCDEFGHIJKLMNOPQRSTUVWXYZ
PackageMaintainerINSTALLBUILDCHECKBUILD BIN
442/2075dada2 1.21.0  (landing page)Benjamin Callahan  OK    OK    OK    OK  UNNEEDED, same version is already published
443/2075dagLogo 1.31.0  (landing page)Jianhong Ou  OK    OK    OK    OK  UNNEEDED, same version is already published
444/2075daMA 1.65.0  (landing page)Jobst Landgrebe  OK    OK    OK    OK  UNNEEDED, same version is already published
445/2075DAMEfinder 1.5.0  (landing page)Stephany Orjuela  OK    OK    OK    OK  UNNEEDED, same version is already published
446/2075DaMiRseq 2.5.4  (landing page)Mattia Chiesa  OK    OK    WARNINGS    OK  UNNEEDED, same version is already published
447/2075DAPAR 1.25.5  (landing page)Samuel Wieczorek  OK    OK    ERROR    OK  
448/2075DART 1.41.0  (landing page)Charles Shijie Zheng  OK    OK    OK    OK  UNNEEDED, same version is already published
449/2075dasper 1.3.7  (landing page)David Zhang  OK    OK    OK    OK  UNNEEDED, same version is already published
450/2075dcanr 1.9.0  (landing page)Dharmesh D. Bhuva  OK    OK    OK    OK  UNNEEDED, same version is already published
451/2075dce 1.1.0  (landing page)Kim Philipp Jablonski  OK    OK    OK    OK  UNNEEDED, same version is already published
452/2075dcGSA 1.21.0  (landing page)Jiehuan sun  OK    OK    WARNINGS    OK  UNNEEDED, same version is already published
453/2075ddCt 1.49.1  (landing page)Jitao David Zhang  OK    OK    OK    OK  UNNEEDED, same version is already published
454/2075ddPCRclust 1.13.0  (landing page)Benedikt G. Brink  OK    OK    OK    OK  UNNEEDED, same version is already published
455/2075dearseq 1.5.1  (landing page)Boris P. Hejblum  OK    OK    OK    OK  UNNEEDED, same version is already published
456/2075debCAM 1.11.0  (landing page)Lulu Chen  OK    OK    OK    OK  UNNEEDED, same version is already published
457/2075debrowser 1.21.1  (landing page)Alper Kucukural  OK    OK    OK    OK  UNNEEDED, same version is already published
458/2075DECIPHER 2.21.0  (landing page)Erik Wright  OK    OK    OK    OK  UNNEEDED, same version is already published
459/2075deco 1.9.1  (landing page)Francisco Jose Campos Laborie  OK    OK    OK    OK  UNNEEDED, same version is already published
460/2075DEComplexDisease 1.13.0  (landing page)Guofeng Meng  OK    OK    OK    OK  UNNEEDED, same version is already published
461/2075decompTumor2Sig 2.9.0  (landing page)Rosario M. Piro  OK    OK    OK    OK  UNNEEDED, same version is already published
462/2075DeconRNASeq 1.35.0  (landing page)Ting Gong  OK    OK    OK    OK  UNNEEDED, same version is already published
463/2075decontam 1.13.0  (landing page)Benjamin Callahan  OK    OK    OK    OK  UNNEEDED, same version is already published
464/2075deconvR 0.99.7  (landing page)İrem B. Gündüz  OK    OK    OK    OK  UNNEEDED, same version is already published
465/2075decoupleR 1.99.2  (landing page)Jesús Vélez  OK    OK    OK    OK  YES
466/2075DeepBlueR 1.19.1  (landing page)Felipe Albrecht , Markus List  OK    OK    OK    OK  UNNEEDED, same version is already published
467/2075DeepPINCS 1.1.6  (landing page)Dongmin Jung  OK    OK    OK    OK  UNNEEDED, same version is already published
468/2075deepSNV 1.39.0  (landing page)Moritz Gerstung  OK    OK    OK    OK  UNNEEDED, same version is already published
469/2075DEFormats 1.21.0  (landing page)Andrzej Oleś  OK    OK    OK    OK  UNNEEDED, same version is already published
470/2075DegNorm 1.3.3  (landing page)Ji-Ping Wang  OK    OK    OK    OK  UNNEEDED, same version is already published
471/2075DEGraph   (landing page)... NOT SUPPORTED ...
472/2075DEGreport 1.29.0  (landing page)Lorena Pantano  OK    OK    OK    OK  UNNEEDED, same version is already published
473/2075DEGseq 1.47.0  (landing page)Likun Wang  OK    OK    OK    OK  UNNEEDED, same version is already published
474/2075DelayedArray 0.19.4  (landing page)Hervé Pagès  OK    OK    WARNINGS    OK  UNNEEDED, same version is already published
475/2075DelayedDataFrame 1.9.1  (landing page)Qian Liu  OK    OK    OK    OK  UNNEEDED, same version is already published
476/2075DelayedMatrixStats 1.15.4  (landing page)Peter Hickey  OK    OK    OK    OK  UNNEEDED, same version is already published
477/2075DelayedRandomArray 1.1.0  (landing page)Aaron Lun  OK    OK    OK    OK  UNNEEDED, same version is already published
478/2075DelayedTensor 0.99.12  (landing page)Koki Tsuyuzaki  OK    OK    WARNINGS    OK  UNNEEDED, same version is already published
479/2075deltaCaptureC 1.7.1  (landing page)Michael Shapiro  OK    OK    OK    OK  UNNEEDED, same version is already published
480/2075deltaGseg 1.33.0  (landing page)Diana Low  OK    OK    OK    OK  UNNEEDED, same version is already published
481/2075DeMAND 1.23.0  (landing page)Jung Hoon Woo , Mariano Alvarez  OK    OK    OK    OK  UNNEEDED, same version is already published
482/2075DeMixT 1.9.2  (landing page)Shaolong Cao, Peng Yang  OK    OK    OK    OK  UNNEEDED, same version is already published
483/2075densvis 1.3.0  (landing page)Alan O'Callaghan  OK    OK    OK    OK  UNNEEDED, same version is already published
484/2075DEP 1.15.0  (landing page)Arne Smits  OK    OK    WARNINGS    OK  UNNEEDED, same version is already published
485/2075DepecheR 1.9.2  (landing page)Jakob Theorell  OK    OK    OK    OK  YES
486/2075DEqMS 1.11.1  (landing page)Yafeng Zhu  OK    OK    OK    OK  UNNEEDED, same version is already published
487/2075derfinder 1.27.3  (landing page)Leonardo Collado-Torres  OK    OK    OK    OK  UNNEEDED, same version is already published
488/2075derfinderHelper 1.27.1  (landing page)Leonardo Collado-Torres  OK    OK    OK    OK  UNNEEDED, same version is already published
489/2075derfinderPlot 1.27.1  (landing page)Leonardo Collado-Torres  OK    ERROR  skippedskipped
490/2075DEScan2 1.13.0  (landing page)Dario Righelli  OK    OK    OK    OK  UNNEEDED, same version is already published
491/2075DESeq2 1.33.5  (landing page)Michael Love  OK    OK    OK    OK  UNNEEDED, same version is already published
492/2075DEsingle 1.13.0  (landing page)Zhun Miao  OK    OK    OK    OK  UNNEEDED, same version is already published
493/2075destiny 3.7.1  (landing page)Philipp Angerer  OK    ERROR  skippedskipped
494/2075DEsubs 1.19.1  (landing page)Aristidis G. Vrahatis , Panos Balomenos  OK    OK    OK    OK  UNNEEDED, same version is already published
495/2075DEWSeq 1.7.2  (landing page)bioinformatics team Hentze  OK    OK    OK    OK  UNNEEDED, same version is already published
496/2075DExMA 1.1.2  (landing page)Juan Antonio Villatoro-García  OK    OK    OK    OK  UNNEEDED, same version is already published
497/2075DEXSeq 1.39.0  (landing page)Alejandro Reyes  OK    OK    OK    OK  UNNEEDED, same version is already published
498/2075DFP 1.51.0  (landing page)Rodrigo Alvarez-Glez  OK    OK    OK    OK  UNNEEDED, same version is already published
499/2075DIAlignR 2.1.4  (landing page)Shubham Gupta  OK    OK    OK    OK  UNNEEDED, same version is already published
500/2075DiffBind 3.3.4  (landing page)Rory Stark  OK    OK    OK    OK  UNNEEDED, same version is already published
501/2075diffcoexp 1.13.0  (landing page)Wenbin Wei  OK    OK    OK    OK  UNNEEDED, same version is already published
502/2075diffcyt 1.13.0  (landing page)Lukas M. Weber  OK    OK    OK    OK  UNNEEDED, same version is already published
503/2075diffGeneAnalysis 1.75.0  (landing page)Choudary Jagarlamudi  OK    OK    OK    OK  UNNEEDED, same version is already published
504/2075diffHic 1.25.1  (landing page)Aaron Lun  OK    OK    OK    OK  UNNEEDED, same version is already published
505/2075DiffLogo 2.17.0  (landing page)Hendrik Treutler  OK    OK    WARNINGS    OK  UNNEEDED, same version is already published
506/2075diffloop 1.21.0  (landing page)Caleb Lareau  OK    OK    OK    OK  UNNEEDED, same version is already published
507/2075diffuStats 1.13.0  (landing page)Sergio Picart-Armada  OK    OK    OK    OK  UNNEEDED, same version is already published
508/2075diffUTR 1.1.2  (landing page)Pierre-Luc Germain  OK    OK    OK    OK  UNNEEDED, same version is already published
509/2075diggit 1.25.1  (landing page)Mariano J Alvarez  OK    OK    WARNINGS    OK  UNNEEDED, same version is already published
510/2075Dino 0.99.11  (landing page)Jared Brown  OK    OK    OK    OK  UNNEEDED, same version is already published
511/2075dir.expiry 1.1.0  (landing page)Aaron Lun  OK    OK    OK    OK  UNNEEDED, same version is already published
512/2075Director 1.19.0  (landing page)Katherine Icay  OK    OK    OK    OK  UNNEEDED, same version is already published
513/2075DirichletMultinomial 1.35.0  (landing page)Martin Morgan  OK    OK    OK    OK  UNNEEDED, same version is already published
514/2075discordant 1.17.0  (landing page)Charlotte Siska  OK    OK    OK    OK  UNNEEDED, same version is already published
515/2075DiscoRhythm 1.9.0  (landing page)Matthew Carlucci  OK    OK    OK    OK  UNNEEDED, same version is already published
516/2075distinct 1.5.1  (landing page)Simone Tiberi  OK    OK    OK    OK  UNNEEDED, same version is already published
517/2075dittoSeq 1.5.4  (landing page)Daniel Bunis  OK    OK    OK    OK  UNNEEDED, same version is already published
518/2075divergence 1.9.1  (landing page)Wikum Dinalankara , Luigi Marchionni  OK    OK    OK    OK  UNNEEDED, same version is already published
519/2075dks 1.39.0  (landing page)Jeffrey T. Leek  OK    OK    OK    OK  UNNEEDED, same version is already published
520/2075DMCFB 1.7.0  (landing page)Farhad Shokoohi  OK    OK    OK    OK  UNNEEDED, same version is already published
521/2075DMCHMM 1.15.1  (landing page)Farhad Shokoohi  OK    OK    OK    OK  UNNEEDED, same version is already published
522/2075DMRcaller 1.25.0  (landing page)Nicolae Radu Zabet  OK    OK    OK    OK  UNNEEDED, same version is already published
523/2075DMRcate 2.7.0  (landing page)Tim Peters  OK    OK    ERROR    OK  
524/2075DMRforPairs 1.29.0  (landing page)Martin Rijlaarsdam  OK    OK    OK    OK  UNNEEDED, same version is already published
525/2075DMRScan 1.15.0  (landing page)Christian M Page  OK    OK    OK    OK  UNNEEDED, same version is already published
526/2075dmrseq 1.13.0  (landing page)Keegan Korthauer  OK    OK    WARNINGS    OK  UNNEEDED, same version is already published
527/2075DNABarcodeCompatibility 1.9.0  (landing page)Céline Trébeau  OK    OK    OK    OK  UNNEEDED, same version is already published
528/2075DNABarcodes 1.23.0  (landing page)Tilo Buschmann  OK    OK    WARNINGS    OK  UNNEEDED, same version is already published
529/2075DNAcopy 1.67.0  (landing page)Venkatraman E. Seshan  OK    OK    OK    OK  UNNEEDED, same version is already published
530/2075DNAshapeR 1.21.0  (landing page)Tsu-Pei Chiu  OK    OK    OK    OK  UNNEEDED, same version is already published
531/2075DominoEffect 1.13.0  (landing page)Marija Buljan  OK    OK    OK    OK  UNNEEDED, same version is already published
532/2075doppelgangR 1.21.0  (landing page)Levi Waldron  OK    OK    OK    OK  UNNEEDED, same version is already published
533/2075Doscheda 1.15.0  (landing page)Bruno Contrino  OK    OK    OK    OK  UNNEEDED, same version is already published
534/2075DOSE 3.19.4  (landing page)Guangchuang Yu  OK    OK    OK    OK  UNNEEDED, same version is already published
535/2075doseR 1.9.0  (landing page)ake.vastermark  OK    OK    OK    OK  UNNEEDED, same version is already published
536/2075dpeak 1.5.0  (landing page)Dongjun Chung  OK    OK    OK    OK  UNNEEDED, same version is already published
537/2075drawProteins 1.13.0  (landing page)Paul Brennan  OK    OK    OK    OK  UNNEEDED, same version is already published
538/2075DRIMSeq 1.21.0  (landing page)Malgorzata Nowicka  OK    OK    WARNINGS    OK  UNNEEDED, same version is already published
539/2075DriverNet 1.33.0  (landing page)Jiarui Ding  OK    OK    OK    OK  UNNEEDED, same version is already published
540/2075DropletUtils 1.13.4  (landing page)Aaron Lun  OK    OK    OK    NA  UNNEEDED, same version is already published
541/2075drugTargetInteractions 1.1.2  (landing page)Thomas Girke  OK    OK    OK    OK  UNNEEDED, same version is already published
542/2075DrugVsDisease 2.35.0  (landing page)j. Saez-Rodriguez  OK    OK    OK    OK  UNNEEDED, same version is already published
543/2075DSS 2.41.0  (landing page)Hao Wu , Hao Feng  OK    OK    WARNINGS    OK  UNNEEDED, same version is already published
544/2075dStruct 0.99.3  (landing page)Krishna Choudhary  OK    OK    OK    OK  UNNEEDED, same version is already published
545/2075DTA 2.39.0  (landing page)Bjoern Schwalb  OK    OK    OK    OK  UNNEEDED, same version is already published
546/2075dualKS 1.53.2  (landing page)Eric J. Kort  OK    ERROR  skippedskipped
547/2075Dune 1.5.0  (landing page)Hector Roux de Bezieux  OK    OK    OK    OK  UNNEEDED, same version is already published
548/2075dupRadar 1.23.0  (landing page)Sergi Sayols , Holger Klein  OK    OK    OK    OK  UNNEEDED, same version is already published
549/2075dyebias 1.53.0  (landing page)Philip Lijnzaad  OK    OK    OK    NA  UNNEEDED, same version is already published
550/2075DynDoc 1.71.0  (landing page)Bioconductor Package Maintainer  OK    OK    OK    NA  UNNEEDED, same version is already published
E
ABCDEFGHIJKLMNOPQRSTUVWXYZ
PackageMaintainerINSTALLBUILDCHECKBUILD BIN
551/2075easyreporting 1.5.0  (landing page)Dario Righelli  OK    OK    OK    NA  UNNEEDED, same version is already published
552/2075easyRNASeq 2.29.0  (landing page)Nicolas Delhomme  OK    OK    OK    NA  UNNEEDED, same version is already published
553/2075EBarrays 2.57.0  (landing page)Ming Yuan  OK    OK    OK    NA  UNNEEDED, same version is already published
554/2075EBcoexpress 1.37.0  (landing page)John A. Dawson  OK    OK    OK    NA  UNNEEDED, same version is already published
555/2075EBImage 4.35.2  (landing page)Andrzej Oleś  OK    OK    OK    NA  UNNEEDED, same version is already published
556/2075EBSEA 1.21.0  (landing page)Arfa Mehmood  OK    OK    OK    NA  
557/2075EBSeq 1.33.0  (landing page)Ning Leng  OK    OK    OK    NA  
558/2075EBSeqHMM 1.27.0  (landing page)Ning Leng  OK    OK    OK    NA  
559/2075ecolitk 1.65.0  (landing page)Laurent Gautier  OK    OK    WARNINGS    NA  
560/2075EDASeq 2.27.1  (landing page)Davide Risso  OK    OK    OK    NA  
561/2075edge 2.25.0  (landing page)John D. Storey , Andrew J. Bass  OK    OK    WARNINGS    NA  
562/2075edgeR 3.35.3  (landing page)Yunshun Chen , Gordon Smyth , Aaron Lun , Mark Robinson  OK    OK    OK    NA  
563/2075eegc 1.19.0  (landing page)Xiaoyuan Zhou  OK    OK    WARNINGS    NA  
564/2075EGAD 1.21.0  (landing page)Sara Ballouz  OK    OK    WARNINGS    NA  
565/2075EGSEA 1.21.1  (landing page)Monther Alhamdoosh  OK    OK    WARNINGS    NA  
566/2075eiR 1.33.0  (landing page)Thomas Girke  OK    OK    WARNINGS    NA  
567/2075eisaR 1.5.4  (landing page)Michael Stadler  OK    OK    OK    NA  
568/2075ELMER 2.17.3  (landing page)Tiago Chedraoui Silva  OK    ERROR  skippedskipped
569/2075EMDomics 2.23.0  (landing page)Sadhika Malladi and Daniel Schmolze  OK    OK    OK    NA  
570/2075EmpiricalBrownsMethod 1.21.0  (landing page)David Gibbs  OK    OK    OK    NA  
571/2075ENCODExplorer 2.19.1  (landing page)Charles Joly Beauparlant  OK    OK    ERROR    NA  
572/2075EnhancedVolcano 1.11.5  (landing page)Kevin Blighe  OK    OK    OK    NA  
573/2075enhancerHomologSearch 0.99.17  (landing page)Jianhong Ou  OK    OK    OK    NA  
574/2075EnMCB 1.5.0  (landing page)Xin Yu  OK    OK    OK    NA  
575/2075ENmix 1.29.10  (landing page)Zongli Xu  OK    OK    OK    NA  
576/2075EnrichedHeatmap 1.23.1  (landing page)Zuguang Gu  OK    OK    OK    NA  
577/2075EnrichmentBrowser 2.23.4  (landing page)Ludwig Geistlinger  OK    OK    OK    NA  
578/2075enrichplot 1.13.2  (landing page)Guangchuang Yu  OK    OK    OK    NA  
579/2075enrichTF 1.9.0  (landing page)Zheng Wei  OK    OK    OK    NA  
580/2075ensembldb 2.17.4  (landing page)Johannes Rainer  OK    OK    OK    NA  
581/2075ensemblVEP 1.35.0  (landing page)Bioconductor Package Maintainer  OK    OK    OK    NA  
582/2075ENVISIONQuery 1.41.1  (landing page)Alex Lisovich , Roger Day  OK    ERROR  skippedskipped
583/2075epialleleR 1.1.12  (landing page)Oleksii Nikolaienko  OK    OK    OK    NA  
584/2075epidecodeR 1.1.3  (landing page)Kandarp Joshi  OK    OK    OK    NA  
585/2075EpiDISH 2.9.0  (landing page)Shijie C. Zheng  OK    OK    OK    NA  
586/2075epigenomix 1.33.0  (landing page)Hans-Ulrich Klein  OK    OK    OK    NA  
587/2075epigraHMM 1.1.9  (landing page)Pedro Baldoni  OK    OK    OK    NA  
588/2075epihet 1.9.0  (landing page)Xiaowen Chen  OK    OK    OK    NA  
589/2075epiNEM 1.17.4  (landing page)Martin Pirkl  OK    OK    OK    NA  
590/2075epistack 0.99.3  (landing page)DEVAILLY Guillaume  OK    OK    OK    NA  
591/2075EpiTxDb 1.5.0  (landing page)Felix G.M. Ernst  OK    OK    OK    NA  
592/2075epivizr 2.23.1  (landing page)Hector Corrada Bravo  OK    OK    OK    NA  
593/2075epivizrChart 1.15.0  (landing page)Hector Corrada Bravo  OK    OK    OK    NA  
594/2075epivizrData 1.21.0  (landing page)Hector Corrada Bravo  OK    OK    OK    NA  
595/2075epivizrServer 1.21.0  (landing page)Hector Corrada Bravo  OK    OK    OK    NA  
596/2075epivizrStandalone 1.21.0  (landing page)Hector Corrada Bravo  OK    OK    OK    NA  
597/2075erccdashboard 1.27.0  (landing page)Sarah Munro  OK    OK    OK    NA  
598/2075erma 1.9.0  (landing page)VJ Carey  OK    OK    OK    NA  
599/2075ERSSA 1.11.0  (landing page)Zixuan Shao  OK    OK    OK    NA  
600/2075esATAC 1.15.3  (landing page)Zheng Wei  OK    OK    OK    NA  
601/2075escape 1.3.1  (landing page)Nick Borcherding  OK    OK    OK    NA  
602/2075esetVis 1.19.1  (landing page)Laure Cougnaud  OK    OK    OK    NA  
603/2075eudysbiome 1.23.0  (landing page)Xiaoyuan Zhou  OK    OK    OK    NA  
604/2075evaluomeR 1.9.0  (landing page)José Antonio Bernabé-Díaz  OK    OK    OK    NA  
605/2075EventPointer 3.1.0  (landing page)Juan A. Ferrer-Bonsoms  OK    OK    OK    NA  
606/2075EWCE 1.1.2  (landing page)Alan Murphy  OK    OK    OK    NA  
607/2075ExCluster 1.11.0  (landing page)R. Matthew Tanner  OK    OK    OK    NA  
608/2075ExiMiR 2.35.0  (landing page)Sylvain Gubian  OK    OK    OK    NA  
609/2075exomeCopy 1.39.0  (landing page)Michael Love  OK    OK    OK    NA  
610/2075exomePeak2 1.5.0  (landing page)Zhen Wei  OK    OK    WARNINGS    NA  
611/2075ExperimentHub 2.1.4  (landing page)Bioconductor Package Maintainer  OK    OK    OK    NA  
612/2075ExperimentHubData 1.19.1  (landing page)Bioconductor Package Maintainer  OK    OK    OK    NA  
613/2075ExperimentSubset 1.3.0  (landing page)Irzam Sarfraz  OK    OK    OK    NA  
614/2075ExploreModelMatrix 1.5.0  (landing page)Charlotte Soneson  OK    OK    OK    NA  
615/2075ExpressionAtlas 1.21.4  (landing page)Pedro Madrigal  OK    OK    OK    NA  
F
ABCDEFGHIJKLMNOPQRSTUVWXYZ
PackageMaintainerINSTALLBUILDCHECKBUILD BIN
616/2075fabia 2.39.0  (landing page)Andreas Mitterecker  OK    OK    OK    NA  
617/2075factDesign 1.69.0  (landing page)Denise Scholtens  OK    OK    OK    NA  
618/2075FamAgg 1.21.2  (landing page)Johannes Rainer  OK    OK    OK    NA  
619/2075famat 1.3.2  (landing page)Mathieu Charles  OK    OK    OK    NA  
620/2075farms 1.45.0  (landing page)Djork-Arne Clevert  OK    OK    OK    NA  
621/2075fastLiquidAssociation 1.29.0  (landing page)Tina Gunderson  OK    OK    WARNINGS    NA  
622/2075FastqCleaner 1.11.0  (landing page)Leandro Roser  OK    OK    OK    NA  
623/2075fastseg 1.39.0  (landing page)Guenter Klambauer  OK    OK    WARNINGS    NA  
624/2075FCBF 2.1.0  (landing page)Tiago Lubiana  OK    OK    OK    NA  
625/2075fCCAC 1.19.11  (landing page)Pedro Madrigal  OK    OK    OK    NA  
626/2075fCI 1.23.0  (landing page)Shaojun Tang  OK    OK    OK    NA  
627/2075fcoex 1.7.2  (landing page)Tiago Lubiana  OK    OK    WARNINGS    NA  
628/2075fcScan 1.7.4  (landing page)Pierre Khoueiry Abdullah El-Kurdi  OK    OK    OK    NA  
629/2075fdrame 1.65.0  (landing page)Effi Kenigsberg  OK    OK    OK    NA  
630/2075FEAST 1.1.2  (landing page)Kenong Su  OK    OK    OK    NA  
631/2075fedup 1.1.0  (landing page)Catherine Ross  OK    OK    OK    NA  
632/2075FELLA 1.13.0  (landing page)Sergio Picart-Armada  OK    OK    OK    NA  
633/2075ffpe 1.37.0  (landing page)Levi Waldron  OK    OK    OK    NA  
634/2075fgga 1.1.0  (landing page)Spetale Flavio  OK    OK    OK    NA  
635/2075FGNet 3.27.0  (landing page)Sara Aibar  OK    OK    OK    NA  
636/2075fgsea 1.19.4  (landing page)Alexey Sergushichev  OK    OK    OK    NA  
637/2075FilterFFPE 1.3.0  (landing page)Lanying Wei  OK    OK    OK    NA  
638/2075FindIT2 0.99.14  (landing page)Guandong Shang  OK    OK    OK    NA  
639/2075FindMyFriends 1.23.1  (landing page)Thomas Lin Pedersen  ERROR    ERROR  skippedskipped
640/2075FISHalyseR 1.27.0  (landing page)Karesh Arunakirinathan  OK    OK    WARNINGS    NA  
641/2075fishpond 1.99.34  (landing page)Michael Love  OK    OK    OK    NA  
642/2075FitHiC 1.19.0  (landing page)Ruyu Tan  OK    OK    OK    NA  
643/2075flagme 1.49.0  (landing page)Mark Robinson , Riccardo Romoli  OK    OK    WARNINGS    NA  
644/2075FLAMES 0.99.31  (landing page)Voogd Oliver  OK    OK    OK    NA  
645/2075flowAI 1.23.0  (landing page)Gianni Monaco  OK    OK    OK    NA  
646/2075flowBeads 1.31.0  (landing page)Nikolas Pontikos  OK    OK    WARNINGS    NA  
647/2075flowBin 1.29.0  (landing page)Kieran O'Neill  OK    OK    OK    NA  
648/2075flowcatchR 1.27.0  (landing page)Federico Marini  OK    OK    OK    NA  
649/2075flowCHIC 1.27.0  (landing page)Author: Joachim Schumann  OK    OK    OK    NA  
650/2075flowCL 1.31.0  (landing page)Justin Meskas  OK    OK    OK    NA  
651/2075flowClean 1.31.0  (landing page)Kipper Fletez-Brant  OK    OK    WARNINGS    NA  
652/2075flowClust 3.31.0  (landing page)Greg Finak , Mike Jiang  OK    OK    WARNINGS    NA  
653/2075flowCore 2.5.0  (landing page)Mike Jiang  OK    OK    OK    NA  
654/2075flowCut 1.3.1  (landing page)Justin Meskas  OK    OK    OK    NA  
655/2075flowCyBar 1.29.0  (landing page)Joachim Schumann  OK    OK    OK    NA  
656/2075flowDensity 1.27.2  (landing page)Mehrnoush Malek  OK    OK    WARNINGS    NA  
657/2075flowFP 1.51.0  (landing page)Herb Holyst  OK    OK    OK    NA  
658/2075flowGraph 1.1.0  (landing page)Alice Yue  OK    OK    OK    NA  
659/2075flowMap 1.31.0  (landing page)Chiaowen Joyce Hsiao  OK    OK    WARNINGS    NA  
660/2075flowMatch 1.29.0  (landing page)Ariful Azad  OK    OK    OK    NA  
661/2075flowMeans 1.53.0  (landing page)Nima Aghaeepour  OK    OK    OK    NA  
662/2075flowMerge 2.41.0  (landing page)Greg Finak  OK    OK    OK    NA  
663/2075flowPeaks 1.39.0  (landing page)Yongchao Ge  OK    OK    WARNINGS    NA  
664/2075flowPloidy 1.19.0  (landing page)Tyler Smith  OK    OK    OK    NA  
665/2075flowPlots 1.41.0  (landing page)N. Hawkins  OK    OK    OK    NA  
666/2075FlowSOM 2.1.24  (landing page)Sofie Van Gassen  OK    OK    OK    NA  
667/2075flowSpecs 1.7.0  (landing page)Jakob Theorell  OK    OK    OK    NA  
668/2075flowStats 4.5.1  (landing page)Greg Finak , Mike Jiang , Jake Wagner  OK    OK    OK    NA  
669/2075flowTime 1.15.2  (landing page)R. Clay Wright  OK    OK    OK    NA  
670/2075flowTrans 1.45.0  (landing page)Greg Finak  OK    OK    OK    NA  
671/2075flowUtils 1.57.0  (landing page)Josef Spidlen  OK    OK    WARNINGS    NA  
672/2075flowViz 1.57.2  (landing page)Mike Jiang , Jake Wagner  OK    OK    OK    NA  
673/2075flowVS 1.25.0  (landing page)Ariful Azad  OK    OK    OK    NA  
674/2075flowWorkspace 4.5.3  (landing page)Greg Finak , Mike Jiang  OK    OK    WARNINGS    NA  
675/2075fmcsR 1.35.0  (landing page)Thomas Girke  OK    OK    WARNINGS    NA  
676/2075fmrs 1.3.1  (landing page)Farhad Shokoohi  OK    OK    OK    NA  
677/2075fobitools 1.1.9  (landing page)Pol Castellano-Escuder  OK    OK    OK    NA  
678/2075FoldGO 1.11.0  (landing page)Daniil Wiebe  OK    OK    OK    NA  
679/2075FRASER 1.5.0  (landing page)Christian Mertes  OK    OK    OK    NA  
680/2075frenchFISH 1.5.0  (landing page)Adam Berman  OK    OK    OK    NA  
681/2075FRGEpistasis 1.29.0  (landing page)Futao Zhang  OK    OK    OK    NA  
682/2075frma 1.45.0  (landing page)Matthew N. McCall  OK    OK    OK    NA  
683/2075frmaTools 1.45.0  (landing page)Matthew N. McCall  OK    OK    OK    NA  
684/2075FScanR 1.3.0  (landing page)Xiao Chen  OK    OK    OK    NA  
685/2075FunChIP 1.19.0  (landing page)Alice Parodi  OK    OK    WARNINGS    NA  
686/2075funtooNorm 1.17.0  (landing page)Kathleen Klein  OK    OK    WARNINGS    NA  
G
ABCDEFGHIJKLMNOPQRSTUVWXYZ
PackageMaintainerINSTALLBUILDCHECKBUILD BIN
687/2075GA4GHclient 1.17.0  (landing page)Welliton Souza  OK    OK    OK    NA  
688/2075GA4GHshiny 1.15.0  (landing page)Welliton Souza  OK    OK    OK    NA  
689/2075gaga 2.39.0  (landing page)David Rossell  OK    OK    WARNINGS    NA  
690/2075gage 2.43.0  (landing page)Weijun Luo  OK    OK    WARNINGS    NA  
691/2075gaggle 1.61.0  (landing page)Christopher Bare  OK    OK    OK    NA  
692/2075gaia 2.37.0  (landing page)S. Morganella  OK    OK    OK    NA  
693/2075GAPGOM 1.9.0  (landing page)Rezvan Ehsani  OK    OK    OK    NA  
694/2075GAprediction 1.19.0  (landing page)Jon Bohlin  OK    OK    OK    NA  
695/2075garfield 1.21.0  (landing page)Valentina Iotchkova  OK    OK    OK    NA  
696/2075GARS 1.13.0  (landing page)Mattia Chiesa  OK    OK    OK    NA  
697/2075GateFinder 1.13.0  (landing page)Nima Aghaeepour  OK    OK    OK    NA  
698/2075gcapc 1.17.0  (landing page)Mingxiang Teng  OK    OK    OK    NA  
699/2075gcatest 1.23.0  (landing page)Wei Hao , John D. Storey  OK    OK    OK    NA  
700/2075gCrisprTools 1.99.1  (landing page)Russell Bainer  OK    OK    OK    NA  
701/2075gcrma 2.65.0  (landing page)Z. Wu  OK    OK    OK    NA  
702/2075GCSConnection 1.5.0  (landing page)Jiefei Wang  OK    OK    OK    NA  
703/2075GCSFilesystem 1.3.0  (landing page)Jiefei Wang  OK    OK    OK    NA  
704/2075GCSscore 1.7.0  (landing page)Guy M. Harris  OK    OK    OK    NA  
705/2075GDCRNATools 1.13.1  (landing page)Ruidong Li  OK    OK    OK    NA  
706/2075GDSArray 1.13.1  (landing page)Qian Liu  OK    OK    OK    NA  
707/2075gdsfmt 1.29.1  (landing page)Xiuwen Zheng  OK    OK    OK    NA  
708/2075GEM 1.19.1  (landing page)Hong Pan  OK    OK    OK    NA  
709/2075gemini 1.7.0  (landing page)Sidharth Jain  OK    OK    OK    NA  
710/2075genArise 1.69.0  (landing page)IFC Development Team  OK    OK    WARNINGS    NA  
711/2075genbankr 1.21.0  (landing page)Gabriel Becker  OK    OK    OK    NA  
712/2075GeneAccord 1.11.0  (landing page)Ariane L. Moore  OK    OK    OK    NA  
713/2075GeneAnswers 2.35.1  (landing page)Lei Huang and Gang Feng  OK    OK    WARNINGS    NA  
714/2075geneAttribution 1.19.0  (landing page)Arthur Wuster  OK    OK    OK    NA  
715/2075GeneBreak 1.23.0  (landing page)Evert van den Broek  OK    OK    OK    NA  
716/2075geneClassifiers 1.17.0  (landing page)R Kuiper  OK    OK    OK    NA  
717/2075GeneExpressionSignature 1.39.0  (landing page)Yang Cao  OK    OK    OK    NA  
718/2075genefilter 1.75.1  (landing page)Bioconductor Package Maintainer  OK    OK    OK    NA  
719/2075genefu 2.25.1  (landing page)Benjamin Haibe-Kains  OK    OK    OK    NA  
720/2075GeneGA 1.43.0  (landing page)Zhenpeng Li  OK    OK    OK    NA  
721/2075GeneGeneInteR 1.19.0  (landing page)Mathieu Emily  OK    OK    OK    NA  
722/2075GeneMeta 1.65.0  (landing page)Bioconductor Package Maintainer  OK    OK    OK    NA  
723/2075GeneNetworkBuilder 1.35.0  (landing page)Jianhong Ou  OK &n