Back to Multiple platform build/check report for BioC 3.14
ABCDEFGHIJKL[M]NOPQRSTUVWXYZ

This page was generated on 2022-01-21 13:06:35 -0500 (Fri, 21 Jan 2022).

HostnameOSArch (*)R versionInstalled pkgs
nebbiolo2Linux (Ubuntu 20.04.4 LTS)x86_644.1.2 (2021-11-01) -- "Bird Hippie" 4329
tokay2Windows Server 2012 R2 Standardx644.1.2 (2021-11-01) -- "Bird Hippie" 4079
machv2macOS 10.14.6 Mojavex86_644.1.2 (2021-11-01) -- "Bird Hippie" 4140
Click on any hostname to see more info about the system (e.g. compilers)      (*) as reported by 'uname -p', except on Windows and Mac OS X

CHECK results for maPredictDSC on tokay2


To the developers/maintainers of the maPredictDSC package:
- Please allow up to 24 hours (and sometimes 48 hours) for your latest push to git@git.bioconductor.org:packages/maPredictDSC.git to
reflect on this report. See How and When does the builder pull? When will my changes propagate? here for more information.
- Make sure to use the following settings in order to reproduce any error or warning you see on this page.

raw results

Package 1044/2083HostnameOS / ArchINSTALLBUILDCHECKBUILD BIN
maPredictDSC 1.32.0  (landing page)
Adi Laurentiu Tarca
Snapshot Date: 2022-01-20 01:55:04 -0500 (Thu, 20 Jan 2022)
git_url: https://git.bioconductor.org/packages/maPredictDSC
git_branch: RELEASE_3_14
git_last_commit: 5141953
git_last_commit_date: 2021-10-26 12:08:41 -0500 (Tue, 26 Oct 2021)
nebbiolo2Linux (Ubuntu 20.04.4 LTS) / x86_64  OK    OK    OK  UNNEEDED, same version is already published
tokay2Windows Server 2012 R2 Standard / x64  OK    OK    OK    OK  UNNEEDED, same version is already published
machv2macOS 10.14.6 Mojave / x86_64  OK    OK    OK    OK  UNNEEDED, same version is already published

Summary

Package: maPredictDSC
Version: 1.32.0
Command: C:\Users\biocbuild\bbs-3.14-bioc\R\bin\R.exe CMD check --force-multiarch --install=check:maPredictDSC.install-out.txt --library=C:\Users\biocbuild\bbs-3.14-bioc\R\library --no-vignettes --timings maPredictDSC_1.32.0.tar.gz
StartedAt: 2022-01-20 22:20:08 -0500 (Thu, 20 Jan 2022)
EndedAt: 2022-01-20 22:29:35 -0500 (Thu, 20 Jan 2022)
EllapsedTime: 567.1 seconds
RetCode: 0
Status:   OK  
CheckDir: maPredictDSC.Rcheck
Warnings: 0

Command output

##############################################################################
##############################################################################
###
### Running command:
###
###   C:\Users\biocbuild\bbs-3.14-bioc\R\bin\R.exe CMD check --force-multiarch --install=check:maPredictDSC.install-out.txt --library=C:\Users\biocbuild\bbs-3.14-bioc\R\library --no-vignettes --timings maPredictDSC_1.32.0.tar.gz
###
##############################################################################
##############################################################################


* using log directory 'C:/Users/biocbuild/bbs-3.14-bioc/meat/maPredictDSC.Rcheck'
* using R version 4.1.2 (2021-11-01)
* using platform: x86_64-w64-mingw32 (64-bit)
* using session charset: ISO8859-1
* using option '--no-vignettes'
* checking for file 'maPredictDSC/DESCRIPTION' ... OK
* this is package 'maPredictDSC' version '1.32.0'
* checking package namespace information ... OK
* checking package dependencies ... NOTE
Depends: includes the non-default packages:
  'MASS', 'affy', 'limma', 'gcrma', 'ROC', 'class', 'e1071', 'caret',
  'hgu133plus2.db', 'ROCR', 'AnnotationDbi', 'LungCancerACvsSCCGEO'
Adding so many packages to the search path is excessive and importing
selectively is preferable.
* checking if this is a source package ... OK
* checking if there is a namespace ... OK
* checking for hidden files and directories ... OK
* checking for portable file names ... OK
* checking whether package 'maPredictDSC' can be installed ... OK
* checking installed package size ... OK
* checking package directory ... OK
* checking 'build' directory ... OK
* checking DESCRIPTION meta-information ... OK
* checking top-level files ... OK
* checking for left-over files ... OK
* checking index information ... OK
* checking package subdirectories ... OK
* checking R files for non-ASCII characters ... OK
* checking R files for syntax errors ... OK
* loading checks for arch 'i386'
** checking whether the package can be loaded ... OK
** checking whether the package can be loaded with stated dependencies ... OK
** checking whether the package can be unloaded cleanly ... OK
** checking whether the namespace can be loaded with stated dependencies ... OK
** checking whether the namespace can be unloaded cleanly ... OK
* loading checks for arch 'x64'
** checking whether the package can be loaded ... OK
** checking whether the package can be loaded with stated dependencies ... OK
** checking whether the package can be unloaded cleanly ... OK
** checking whether the namespace can be loaded with stated dependencies ... OK
** checking whether the namespace can be unloaded cleanly ... OK
* checking dependencies in R code ... NOTE
'library' or 'require' calls to packages already attached by Depends:
  'ROC' 'ROCR' 'affy' 'caret' 'class' 'e1071' 'gcrma' 'limma'
  Please remove these calls from your code.
'library' or 'require' call to 'parallel' in package code.
  Please use :: or requireNamespace() instead.
  See section 'Suggested packages' in the 'Writing R Extensions' manual.
Packages in Depends field not imported from:
  'LungCancerACvsSCCGEO' 'ROC' 'ROCR' 'affy' 'caret' 'class' 'e1071'
  'gcrma' 'hgu133plus2.db' 'limma'
  These packages need to be imported from (in the NAMESPACE file)
  for when this namespace is loaded but not attached.
* checking S3 generic/method consistency ... OK
* checking replacement functions ... OK
* checking foreign function calls ... OK
* checking R code for possible problems ... NOTE
maPredictDSC: no visible global function definition for
  'installed.packages'
maPredictDSC: no visible global function definition for 'ReadAffy'
maPredictDSC: no visible global function definition for 'rma'
maPredictDSC: no visible global function definition for 'mas5'
maPredictDSC: no visible global function definition for 'gcrma'
maPredictDSC: no visible global function definition for 'exprs'
maPredictDSC: no visible global function definition for 'mas5calls'
maPredictDSC: no visible global function definition for 'createFolds'
maPredictDSC : mff: no visible global function definition for
  'model.matrix'
maPredictDSC : mff: no visible global function definition for 'formula'
maPredictDSC : mff: no visible global function definition for 'lmFit'
maPredictDSC : mff: no visible global function definition for
  'makeContrasts'
maPredictDSC : mff: no visible global function definition for
  'contrasts.fit'
maPredictDSC : mff: no visible global function definition for 'eBayes'
maPredictDSC : mff: no visible global function definition for
  'topTable'
maPredictDSC : mff: no visible global function definition for 'pt'
maPredictDSC : mff : wf: no visible global function definition for
  'wilcox.test'
maPredictDSC : mff: no visible global function definition for 'predict'
maPredictDSC : mff: no visible global function definition for 'knn'
maPredictDSC : mff: no visible global function definition for 'svm'
maPredictDSC : mff: no visible global function definition for
  'rocdemo.sca'
maPredictDSC : mff: no visible binding for global variable 'dxrule.sca'
maPredictDSC : mff: no visible global function definition for 'AUC'
maPredictDSC: no visible global function definition for 'mclapply'
maPredictDSC: no visible global function definition for 'sd'
maPredictDSC: no visible global function definition for 'model.matrix'
maPredictDSC: no visible global function definition for 'formula'
maPredictDSC: no visible global function definition for 'lmFit'
maPredictDSC: no visible global function definition for 'makeContrasts'
maPredictDSC: no visible global function definition for 'contrasts.fit'
maPredictDSC: no visible global function definition for 'eBayes'
maPredictDSC: no visible global function definition for 'topTable'
maPredictDSC: no visible global function definition for 'pt'
maPredictDSC : wf: no visible global function definition for
  'wilcox.test'
maPredictDSC: no visible global function definition for 'predict'
maPredictDSC: no visible global function definition for 'knn'
maPredictDSC: no visible global function definition for 'svm'
perfDSC: no visible global function definition for 'prediction'
perfDSC: no visible global function definition for 'performance'
perfDSC: no visible global function definition for 'na.omit'
perfDSC: no visible global function definition for 'trapezint'
perfDSC: no visible global function definition for 'rocdemo.sca'
perfDSC: no visible binding for global variable 'dxrule.sca'
perfDSC: no visible global function definition for 'AUC'
Undefined global functions or variables:
  AUC ReadAffy contrasts.fit createFolds dxrule.sca eBayes exprs
  formula gcrma installed.packages knn lmFit makeContrasts mas5
  mas5calls mclapply model.matrix na.omit performance predict
  prediction pt rma rocdemo.sca sd svm topTable trapezint wilcox.test
Consider adding
  importFrom("stats", "formula", "model.matrix", "na.omit", "predict",
             "pt", "sd", "wilcox.test")
  importFrom("utils", "installed.packages")
to your NAMESPACE file.
* checking Rd files ... OK
* checking Rd metadata ... OK
* checking Rd cross-references ... OK
* checking for missing documentation entries ... OK
* checking for code/documentation mismatches ... OK
* checking Rd \usage sections ... OK
* checking Rd contents ... OK
* checking for unstated dependencies in examples ... OK
* checking files in 'vignettes' ... OK
* checking examples ...
** running examples for arch 'i386' ... OK
Examples with CPU (user + system) or elapsed time > 5s
             user system elapsed
predictDSC 178.72   5.43  195.85
** running examples for arch 'x64' ... OK
Examples with CPU (user + system) or elapsed time > 5s
             user system elapsed
predictDSC 180.03   3.34  183.56
* checking for unstated dependencies in vignettes ... OK
* checking package vignettes in 'inst/doc' ... OK
* checking running R code from vignettes ... SKIPPED
* checking re-building of vignette outputs ... SKIPPED
* checking PDF version of manual ... OK
* DONE

Status: 3 NOTEs
See
  'C:/Users/biocbuild/bbs-3.14-bioc/meat/maPredictDSC.Rcheck/00check.log'
for details.



Installation output

maPredictDSC.Rcheck/00install.out

##############################################################################
##############################################################################
###
### Running command:
###
###   C:\cygwin\bin\curl.exe -O http://155.52.207.166/BBS/3.14/bioc/src/contrib/maPredictDSC_1.32.0.tar.gz && rm -rf maPredictDSC.buildbin-libdir && mkdir maPredictDSC.buildbin-libdir && C:\Users\biocbuild\bbs-3.14-bioc\R\bin\R.exe CMD INSTALL --merge-multiarch --build --library=maPredictDSC.buildbin-libdir maPredictDSC_1.32.0.tar.gz && C:\Users\biocbuild\bbs-3.14-bioc\R\bin\R.exe CMD INSTALL maPredictDSC_1.32.0.zip && rm maPredictDSC_1.32.0.tar.gz maPredictDSC_1.32.0.zip
###
##############################################################################
##############################################################################


  % Total    % Received % Xferd  Average Speed   Time    Time     Time  Current
                                 Dload  Upload   Total   Spent    Left  Speed

  0     0    0     0    0     0      0      0 --:--:-- --:--:-- --:--:--     0
100 10562  100 10562    0     0   128k      0 --:--:-- --:--:-- --:--:--  130k

install for i386

* installing *source* package 'maPredictDSC' ...
** using staged installation
** R
** byte-compile and prepare package for lazy loading
** help
*** installing help indices
  converting help for package 'maPredictDSC'
    finding HTML links ... done
    aggregateDSC                            html  
    maPredictDSC-internal                   html  
    perfDSC                                 html  
    predictDSC                              html  
** building package indices
** installing vignettes
** testing if installed package can be loaded from temporary location
** testing if installed package can be loaded from final location
** testing if installed package keeps a record of temporary installation path

install for x64

* installing *source* package 'maPredictDSC' ...
** testing if installed package can be loaded
* MD5 sums
packaged installation of 'maPredictDSC' as maPredictDSC_1.32.0.zip
* DONE (maPredictDSC)
* installing to library 'C:/Users/biocbuild/bbs-3.14-bioc/R/library'
package 'maPredictDSC' successfully unpacked and MD5 sums checked

Tests output


Example timings

maPredictDSC.Rcheck/examples_i386/maPredictDSC-Ex.timings

nameusersystemelapsed
aggregateDSC000
perfDSC0.030.000.03
predictDSC178.72 5.43195.85

maPredictDSC.Rcheck/examples_x64/maPredictDSC-Ex.timings

nameusersystemelapsed
aggregateDSC000
perfDSC0.030.000.03
predictDSC180.03 3.34183.56