Back to Multiple platform build/check report for BioC 3.14
ABCDEFGHIJK[L]MNOPQRSTUVWXYZ

This page was generated on 2022-01-21 13:04:29 -0500 (Fri, 21 Jan 2022).

HostnameOSArch (*)R versionInstalled pkgs
nebbiolo2Linux (Ubuntu 20.04.4 LTS)x86_644.1.2 (2021-11-01) -- "Bird Hippie" 4329
tokay2Windows Server 2012 R2 Standardx644.1.2 (2021-11-01) -- "Bird Hippie" 4079
machv2macOS 10.14.6 Mojavex86_644.1.2 (2021-11-01) -- "Bird Hippie" 4140
Click on any hostname to see more info about the system (e.g. compilers)      (*) as reported by 'uname -p', except on Windows and Mac OS X

All results for package lumi


To the developers/maintainers of the lumi package:
- Please allow up to 24 hours (and sometimes 48 hours) for your latest push to git@git.bioconductor.org:packages/lumi.git to
reflect on this report. See How and When does the builder pull? When will my changes propagate? here for more information.
- Make sure to use the following settings in order to reproduce any error or warning you see on this page.

raw results

Package 1020/2083HostnameOS / ArchINSTALLBUILDCHECKBUILD BIN
lumi 2.46.0  (landing page)
Lei Huang
Snapshot Date: 2022-01-20 01:55:04 -0500 (Thu, 20 Jan 2022)
git_url: https://git.bioconductor.org/packages/lumi
git_branch: RELEASE_3_14
git_last_commit: a68932c
git_last_commit_date: 2021-10-26 11:50:43 -0500 (Tue, 26 Oct 2021)
nebbiolo2Linux (Ubuntu 20.04.4 LTS) / x86_64  OK    OK    WARNINGS  UNNEEDED, same version is already published
tokay2Windows Server 2012 R2 Standard / x64  OK    OK    WARNINGS    OK  UNNEEDED, same version is already published
machv2macOS 10.14.6 Mojave / x86_64  OK    OK    WARNINGS    OK  UNNEEDED, same version is already published

Results for Bioconductor software packages that depend directly on package lumi

QUICK STATSOS / ArchINSTALLBUILDCHECKBUILD BIN
nebbiolo2Linux (Ubuntu 20.04.4 LTS) / x86_64
005
005
0014
tokay2Windows Server 2012 R2 Standard / x64
005
005
0014
005
machv2macOS 10.14.6 Mojave / x86_64
005
005
0014
005
Package 1/5HostnameOS / ArchINSTALLBUILDCHECKBUILD BIN
arrayMvout 1.52.0  (landing page)
V. Carey
git_last_commit: 963b432
git_last_commit_date: 2021-10-26 11:53:12 -0500
nebbiolo2Linux (Ubuntu 20.04.4 LTS) / x86_64  OK    OK    OK  UNNEEDED, same version is already published
tokay2Windows Server 2012 R2 Standard / x64  OK    OK    OK    OK  UNNEEDED, same version is already published
machv2macOS 10.14.6 Mojave / x86_64  OK    OK    OK    OK  UNNEEDED, same version is already published
Package 2/5HostnameOS / ArchINSTALLBUILDCHECKBUILD BIN
ffpe 1.38.0  (landing page)
Levi Waldron
git_last_commit: 8c9afae
git_last_commit_date: 2021-10-26 12:02:18 -0500
nebbiolo2Linux (Ubuntu 20.04.4 LTS) / x86_64  OK    OK    OK  UNNEEDED, same version is already published
tokay2Windows Server 2012 R2 Standard / x64  OK    OK    OK    OK  UNNEEDED, same version is already published
machv2macOS 10.14.6 Mojave / x86_64  OK    OK    OK    OK  UNNEEDED, same version is already published
Package 3/5HostnameOS / ArchINSTALLBUILDCHECKBUILD BIN
iCheck 1.24.0  (landing page)
Weiliang Qiu
git_last_commit: 0c3a651
git_last_commit_date: 2021-10-26 12:22:57 -0500
nebbiolo2Linux (Ubuntu 20.04.4 LTS) / x86_64  OK    OK    OK  UNNEEDED, same version is already published
tokay2Windows Server 2012 R2 Standard / x64  OK    OK    OK    OK  UNNEEDED, same version is already published
machv2macOS 10.14.6 Mojave / x86_64  OK    OK    OK    OK  UNNEEDED, same version is already published
Package 4/5HostnameOS / ArchINSTALLBUILDCHECKBUILD BIN
MineICA 1.34.0  (landing page)
Anne Biton
git_last_commit: 602994d
git_last_commit_date: 2021-10-26 12:06:44 -0500
nebbiolo2Linux (Ubuntu 20.04.4 LTS) / x86_64  OK    OK    WARNINGS  UNNEEDED, same version is already published
tokay2Windows Server 2012 R2 Standard / x64  OK    OK    WARNINGS    OK  UNNEEDED, same version is already published
machv2macOS 10.14.6 Mojave / x86_64  OK    OK    WARNINGS    OK  UNNEEDED, same version is already published
Package 5/5HostnameOS / ArchINSTALLBUILDCHECKBUILD BIN
wateRmelon 2.0.0  (landing page)
Leo C Schalkwyk
git_last_commit: f6a331b
git_last_commit_date: 2021-10-26 12:05:45 -0500
nebbiolo2Linux (Ubuntu 20.04.4 LTS) / x86_64  OK    OK    OK  UNNEEDED, same version is already published
tokay2Windows Server 2012 R2 Standard / x64  OK    OK    OK    OK  UNNEEDED, same version is already published
machv2macOS 10.14.6 Mojave / x86_64  OK    OK    OK    OK  UNNEEDED, same version is already published