Back to Multiple platform build/check report for BioC 3.14
ABCDEFGHIJK[L]MNOPQRSTUVWXYZ

This page was generated on 2021-12-03 13:04:52 -0500 (Fri, 03 Dec 2021).

BUILD results for lisaClust on nebbiolo2

To the developers/maintainers of the lisaClust package:
- Please allow up to 24 hours (and sometimes 48 hours) for your latest push to git@git.bioconductor.org:packages/lisaClust.git to
reflect on this report. See How and When does the builder pull? When will my changes propagate? here for more information.
- Make sure to use the following settings in order to reproduce any error or warning you see on this page.

raw results

Package 1005/2083HostnameOS / ArchINSTALLBUILDCHECKBUILD BIN
lisaClust 1.2.0  (landing page)
Ellis Patrick
Snapshot Date: 2021-12-02 01:55:06 -0500 (Thu, 02 Dec 2021)
git_url: https://git.bioconductor.org/packages/lisaClust
git_branch: RELEASE_3_14
git_last_commit: 94e92c6
git_last_commit_date: 2021-10-26 13:07:43 -0500 (Tue, 26 Oct 2021)
nebbiolo2Linux (Ubuntu 20.04.3 LTS) / x86_64  OK    OK    OK  UNNEEDED, same version is already published
tokay2Windows Server 2012 R2 Standard / x64  OK    OK    OK    OK  UNNEEDED, same version is already published
machv2macOS 10.14.6 Mojave / x86_64  OK    OK    OK    OK  UNNEEDED, same version is already published

Summary

Package: lisaClust
Version: 1.2.0
Command: /home/biocbuild/bbs-3.14-bioc/R/bin/R CMD build --keep-empty-dirs --no-resave-data lisaClust
StartedAt: 2021-12-02 04:44:37 -0500 (Thu, 02 Dec 2021)
EndedAt: 2021-12-02 04:45:55 -0500 (Thu, 02 Dec 2021)
EllapsedTime: 78.3 seconds
RetCode: 0
Status:   OK  
PackageFile: lisaClust_1.2.0.tar.gz
PackageFileSize: 1.8 MiB

Command output

##############################################################################
##############################################################################
###
### Running command:
###
###   /home/biocbuild/bbs-3.14-bioc/R/bin/R CMD build --keep-empty-dirs --no-resave-data lisaClust
###
##############################################################################
##############################################################################


* checking for file ‘lisaClust/DESCRIPTION’ ... OK
* preparing ‘lisaClust’:
* checking DESCRIPTION meta-information ... OK
* installing the package to build vignettes
* creating vignettes ... OK
* checking for LF line-endings in source and make files and shell scripts
* checking for empty or unneeded directories
* building ‘lisaClust_1.2.0.tar.gz’