Back to Multiple platform build/check report for BioC 3.14
ABCDEFGH[I]JKLMNOPQRSTUVWXYZ

This page was generated on 2022-01-21 13:06:32 -0500 (Fri, 21 Jan 2022).

HostnameOSArch (*)R versionInstalled pkgs
nebbiolo2Linux (Ubuntu 20.04.4 LTS)x86_644.1.2 (2021-11-01) -- "Bird Hippie" 4329
tokay2Windows Server 2012 R2 Standardx644.1.2 (2021-11-01) -- "Bird Hippie" 4079
machv2macOS 10.14.6 Mojavex86_644.1.2 (2021-11-01) -- "Bird Hippie" 4140
Click on any hostname to see more info about the system (e.g. compilers)      (*) as reported by 'uname -p', except on Windows and Mac OS X

INSTALL results for isomiRs on tokay2


To the developers/maintainers of the isomiRs package:
- Please allow up to 24 hours (and sometimes 48 hours) for your latest push to git@git.bioconductor.org:packages/isomiRs.git to
reflect on this report. See How and When does the builder pull? When will my changes propagate? here for more information.
- Make sure to use the following settings in order to reproduce any error or warning you see on this page.

raw results

Package 966/2083HostnameOS / ArchINSTALLBUILDCHECKBUILD BIN
isomiRs 1.22.0  (landing page)
Lorena Pantano
Snapshot Date: 2022-01-20 01:55:04 -0500 (Thu, 20 Jan 2022)
git_url: https://git.bioconductor.org/packages/isomiRs
git_branch: RELEASE_3_14
git_last_commit: d81726b
git_last_commit_date: 2021-10-26 12:26:44 -0500 (Tue, 26 Oct 2021)
nebbiolo2Linux (Ubuntu 20.04.4 LTS) / x86_64  OK    OK    OK  UNNEEDED, same version is already published
tokay2Windows Server 2012 R2 Standard / x64  OK    OK    OK    OK  UNNEEDED, same version is already published
machv2macOS 10.14.6 Mojave / x86_64  OK    OK    OK    OK  UNNEEDED, same version is already published

Summary

Package: isomiRs
Version: 1.22.0
Command: C:\cygwin\bin\curl.exe -O http://155.52.207.166/BBS/3.14/bioc/src/contrib/isomiRs_1.22.0.tar.gz && rm -rf isomiRs.buildbin-libdir && mkdir isomiRs.buildbin-libdir && C:\Users\biocbuild\bbs-3.14-bioc\R\bin\R.exe CMD INSTALL --merge-multiarch --build --library=isomiRs.buildbin-libdir isomiRs_1.22.0.tar.gz && C:\Users\biocbuild\bbs-3.14-bioc\R\bin\R.exe CMD INSTALL isomiRs_1.22.0.zip && rm isomiRs_1.22.0.tar.gz isomiRs_1.22.0.zip
StartedAt: 2022-01-20 06:21:34 -0500 (Thu, 20 Jan 2022)
EndedAt: 2022-01-20 06:23:44 -0500 (Thu, 20 Jan 2022)
EllapsedTime: 129.5 seconds
RetCode: 0
Status:   OK  

Command output

##############################################################################
##############################################################################
###
### Running command:
###
###   C:\cygwin\bin\curl.exe -O http://155.52.207.166/BBS/3.14/bioc/src/contrib/isomiRs_1.22.0.tar.gz && rm -rf isomiRs.buildbin-libdir && mkdir isomiRs.buildbin-libdir && C:\Users\biocbuild\bbs-3.14-bioc\R\bin\R.exe CMD INSTALL --merge-multiarch --build --library=isomiRs.buildbin-libdir isomiRs_1.22.0.tar.gz && C:\Users\biocbuild\bbs-3.14-bioc\R\bin\R.exe CMD INSTALL isomiRs_1.22.0.zip && rm isomiRs_1.22.0.tar.gz isomiRs_1.22.0.zip
###
##############################################################################
##############################################################################


  % Total    % Received % Xferd  Average Speed   Time    Time     Time  Current
                                 Dload  Upload   Total   Spent    Left  Speed

  0     0    0     0    0     0      0      0 --:--:-- --:--:-- --:--:--     0
  0 3872k    0  3835    0     0  47362      0  0:01:23 --:--:--  0:01:23 47345
 80 3872k   80 3124k    0     0  2943k      0  0:00:01  0:00:01 --:--:-- 2944k
100 3872k  100 3872k    0     0  3114k      0  0:00:01  0:00:01 --:--:-- 3115k

install for i386

* installing *source* package 'isomiRs' ...
** using staged installation
** R
** data
*** moving datasets to lazyload DB
Registered S3 method overwritten by 'GGally':
  method from   
  +.gg   ggplot2
** inst
** byte-compile and prepare package for lazy loading
** help
*** installing help indices
  converting help for package 'isomiRs'
    finding HTML links ... done
    IsomirDataSeq                           html  
    IsomirDataSeqFromFiles                  html  
    IsomirDataSeqFromMirtop                 html  
    IsomirDataSeqFromRawData                html  
    counts                                  html  
    dat286.long                             html  
    design                                  html  
    ego                                     html  
    findTargets                             html  
    gene_ex_rse                             html  
    isoAnnotate                             html  
    isoCounts                               html  
    isoDE                                   html  
    isoNetwork                              html  
    isoNorm                                 html  
    isoPLSDA                                html  
    isoPLSDAplot                            html  
    isoPlot                                 html  
    isoPlotNet                              html  
    isoPlotPosition                         html  
    isoSelect                               html  
    isoTop                                  html  
    isomiRs-package                         html  
    ma_ex                                   html  
    mirData                                 html  
    mirTritation                            html  
    mirna2targetscan                        html  
    mirna_ex_rse                            html  
    updateIsomirDataSeq                     html  
** building package indices
** installing vignettes
** testing if installed package can be loaded from temporary location
** testing if installed package can be loaded from final location
** testing if installed package keeps a record of temporary installation path

install for x64

* installing *source* package 'isomiRs' ...
** testing if installed package can be loaded
* MD5 sums
packaged installation of 'isomiRs' as isomiRs_1.22.0.zip
* DONE (isomiRs)
* installing to library 'C:/Users/biocbuild/bbs-3.14-bioc/R/library'
package 'isomiRs' successfully unpacked and MD5 sums checked